BEGIN:VCALENDAR
VERSION:2.0
PRODID:-//B&#039;nai Jeshurun - ECPv6.15.20//NONSGML v1.0//EN
CALSCALE:GREGORIAN
METHOD:PUBLISH
X-ORIGINAL-URL:https://bj.org
X-WR-CALDESC:Events for B&#039;nai Jeshurun
REFRESH-INTERVAL;VALUE=DURATION:PT1H
X-Robots-Tag:noindex
X-PUBLISHED-TTL:PT1H
BEGIN:VTIMEZONE
TZID:America/New_York
BEGIN:DAYLIGHT
TZOFFSETFROM:-0500
TZOFFSETTO:-0400
TZNAME:EDT
DTSTART:20230312T070000
END:DAYLIGHT
BEGIN:STANDARD
TZOFFSETFROM:-0400
TZOFFSETTO:-0500
TZNAME:EST
DTSTART:20231105T060000
END:STANDARD
BEGIN:DAYLIGHT
TZOFFSETFROM:-0500
TZOFFSETTO:-0400
TZNAME:EDT
DTSTART:20240310T070000
END:DAYLIGHT
BEGIN:STANDARD
TZOFFSETFROM:-0400
TZOFFSETTO:-0500
TZNAME:EST
DTSTART:20241103T060000
END:STANDARD
BEGIN:DAYLIGHT
TZOFFSETFROM:-0500
TZOFFSETTO:-0400
TZNAME:EDT
DTSTART:20250309T070000
END:DAYLIGHT
BEGIN:STANDARD
TZOFFSETFROM:-0400
TZOFFSETTO:-0500
TZNAME:EST
DTSTART:20251102T060000
END:STANDARD
END:VTIMEZONE
BEGIN:VEVENT
DTSTART;TZID=America/New_York:20240306T183000
DTEND;TZID=America/New_York:20240306T184500
DTSTAMP:20260423T170014
CREATED:20230921T184504Z
LAST-MODIFIED:20240418T175452Z
UID:10008719-1709749800-1709750700@bj.org
SUMMARY:Arvit (Online)
DESCRIPTION:
URL:https://bj.org/event/arvit-online/2024-03-06/
LOCATION:Remote Access Only\, NY\, United States
CATEGORIES:Services,Featured in Next Service
ATTACH;FMTTYPE=image/jpeg:https://bj.org/wp-content/uploads/2023/01/1905-0258.jpg
ORGANIZER;CN="B'nai Jeshurun":MAILTO:info@bj.org
END:VEVENT
BEGIN:VEVENT
DTSTART;TZID=America/New_York:20240306T160000
DTEND;TZID=America/New_York:20240306T170000
DTSTAMP:20260423T170014
CREATED:20240116T212250Z
LAST-MODIFIED:20240311T133817Z
UID:10009778-1709740800-1709744400@bj.org
SUMMARY:Building Resiliency in Later Life
DESCRIPTION:
URL:https://bj.org/event/building-resiliency-in-later-life/2024-03-06/
LOCATION:Remote Access Only\, NY\, United States
CATEGORIES:Events
ATTACH;FMTTYPE=image/jpeg:https://bj.org/wp-content/uploads/2023/08/1905-0426.jpeg
ORGANIZER;CN="B'nai Jeshurun":MAILTO:info@bj.org
END:VEVENT
BEGIN:VEVENT
DTSTART;TZID=America/New_York:20240306T083000
DTEND;TZID=America/New_York:20240306T091500
DTSTAMP:20260423T170014
CREATED:20221215T212948Z
LAST-MODIFIED:20260415T133805Z
UID:10019631-1709713800-1709716500@bj.org
SUMMARY:Jewish Meditation with Rabbi Shuli Passow
DESCRIPTION:
URL:https://bj.org/event/jewish-meditation-with-rabbi-shuli-passow-3/2024-03-06/
LOCATION:Remote Access Only\, NY\, United States
CATEGORIES:Classes
ATTACH;FMTTYPE=image/jpeg:https://bj.org/wp-content/uploads/2022/12/Daily-Meditation-Shuli-Image.jpg
ORGANIZER;CN="B'nai Jeshurun":MAILTO:info@bj.org
END:VEVENT
BEGIN:VEVENT
DTSTART;TZID=America/New_York:20240306T080000
DTEND;TZID=America/New_York:20240306T090000
DTSTAMP:20260423T170014
CREATED:20230920T151927Z
LAST-MODIFIED:20250321T183125Z
UID:10009520-1709712000-1709715600@bj.org
SUMMARY:Shaharit (Online)
DESCRIPTION:
URL:https://bj.org/event/shaharit-online-5/2024-03-06/
LOCATION:Remote Access Only\, NY\, United States
CATEGORIES:Services,Featured in Next Service
ATTACH;FMTTYPE=image/jpeg:https://bj.org/wp-content/uploads/2019/10/1905-0275.jpg
ORGANIZER;CN="B'nai Jeshurun":MAILTO:info@bj.org
END:VEVENT
BEGIN:VEVENT
DTSTART;TZID=America/New_York:20240305T183000
DTEND;TZID=America/New_York:20240305T184500
DTSTAMP:20260423T170014
CREATED:20230921T184504Z
LAST-MODIFIED:20240418T175452Z
UID:10008718-1709663400-1709664300@bj.org
SUMMARY:Arvit (Online)
DESCRIPTION:
URL:https://bj.org/event/arvit-online/2024-03-05/
LOCATION:Remote Access Only\, NY\, United States
CATEGORIES:Services,Featured in Next Service
ATTACH;FMTTYPE=image/jpeg:https://bj.org/wp-content/uploads/2023/01/1905-0258.jpg
ORGANIZER;CN="B'nai Jeshurun":MAILTO:info@bj.org
END:VEVENT
BEGIN:VEVENT
DTSTART;TZID=America/New_York:20240305T173000
DTEND;TZID=America/New_York:20240305T181500
DTSTAMP:20260423T170014
CREATED:20230302T235540Z
LAST-MODIFIED:20260313T190025Z
UID:10006507-1709659800-1709662500@bj.org
SUMMARY:Mindfulness Prayer Practice Group
DESCRIPTION:
URL:https://bj.org/event/mindful-prayer-havurah/2024-03-05/
LOCATION:Remote Access Only\, NY\, United States
CATEGORIES:Classes
ATTACH;FMTTYPE=image/jpeg:https://bj.org/wp-content/uploads/2023/01/1905-0272-2048x1152-1.jpeg
ORGANIZER;CN="B'nai Jeshurun":MAILTO:info@bj.org
END:VEVENT
BEGIN:VEVENT
DTSTART;TZID=America/New_York:20240305T080000
DTEND;TZID=America/New_York:20240305T090000
DTSTAMP:20260423T170014
CREATED:20230920T151927Z
LAST-MODIFIED:20250321T183125Z
UID:10009519-1709625600-1709629200@bj.org
SUMMARY:Shaharit (Online)
DESCRIPTION:
URL:https://bj.org/event/shaharit-online-5/2024-03-05/
LOCATION:Remote Access Only\, NY\, United States
CATEGORIES:Services,Featured in Next Service
ATTACH;FMTTYPE=image/jpeg:https://bj.org/wp-content/uploads/2019/10/1905-0275.jpg
ORGANIZER;CN="B'nai Jeshurun":MAILTO:info@bj.org
END:VEVENT
BEGIN:VEVENT
DTSTART;TZID=America/New_York:20240304T193000
DTEND;TZID=America/New_York:20240304T203000
DTSTAMP:20260423T170014
CREATED:20210311T194417Z
LAST-MODIFIED:20260423T202403Z
UID:10007439-1709580600-1709584200@bj.org
SUMMARY:Connections Cocktail Hour
DESCRIPTION:
URL:https://bj.org/event/connections-cocktail-hour-2/2024-03-04/
LOCATION:Remote Access Only\, NY\, United States
CATEGORIES:Events
ATTACH;FMTTYPE=image/jpeg:https://bj.org/wp-content/uploads/2022/04/best-italian-cocktails.jpg
ORGANIZER;CN="B'nai Jeshurun":MAILTO:info@bj.org
END:VEVENT
BEGIN:VEVENT
DTSTART;TZID=America/New_York:20240304T183000
DTEND;TZID=America/New_York:20240304T184500
DTSTAMP:20260423T170014
CREATED:20230921T184504Z
LAST-MODIFIED:20240418T175452Z
UID:10008717-1709577000-1709577900@bj.org
SUMMARY:Arvit (Online)
DESCRIPTION:
URL:https://bj.org/event/arvit-online/2024-03-04/
LOCATION:Remote Access Only\, NY\, United States
CATEGORIES:Services,Featured in Next Service
ATTACH;FMTTYPE=image/jpeg:https://bj.org/wp-content/uploads/2023/01/1905-0258.jpg
ORGANIZER;CN="B'nai Jeshurun":MAILTO:info@bj.org
END:VEVENT
BEGIN:VEVENT
DTSTART;TZID=America/New_York:20240303T183000
DTEND;TZID=America/New_York:20240303T184500
DTSTAMP:20260423T170014
CREATED:20230921T184504Z
LAST-MODIFIED:20240418T175452Z
UID:10008716-1709490600-1709491500@bj.org
SUMMARY:Arvit (Online)
DESCRIPTION:
URL:https://bj.org/event/arvit-online/2024-03-03/
LOCATION:Remote Access Only\, NY\, United States
CATEGORIES:Services,Featured in Next Service
ATTACH;FMTTYPE=image/jpeg:https://bj.org/wp-content/uploads/2023/01/1905-0258.jpg
ORGANIZER;CN="B'nai Jeshurun":MAILTO:info@bj.org
END:VEVENT
BEGIN:VEVENT
DTSTART;TZID=America/New_York:20240303T093000
DTEND;TZID=America/New_York:20240303T103000
DTSTAMP:20260423T170014
CREATED:20230926T191607Z
LAST-MODIFIED:20260226T185930Z
UID:10009546-1709458200-1709461800@bj.org
SUMMARY:Shaharit (Online)
DESCRIPTION:
URL:https://bj.org/event/shaharit-sunday/2024-03-03/
LOCATION:Remote Access Only\, NY\, United States
CATEGORIES:Services,Featured in Next Service
ATTACH;FMTTYPE=image/jpeg:https://bj.org/wp-content/uploads/2019/10/1905-0280.jpg
ORGANIZER;CN="B'nai Jeshurun":MAILTO:info@bj.org
END:VEVENT
BEGIN:VEVENT
DTSTART;TZID=America/New_York:20240302T184000
DTEND;TZID=America/New_York:20240302T190500
DTSTAMP:20260423T170014
CREATED:20240102T155619Z
LAST-MODIFIED:20240918T182738Z
UID:10009656-1709404800-1709406300@bj.org
SUMMARY:Arvit and Havdalah
DESCRIPTION:
URL:https://bj.org/event/arvit-and-havdalah-7/2024-03-02/
LOCATION:Remote Access Only\, NY\, United States
CATEGORIES:Services,Featured in Next Service
ATTACH;FMTTYPE=image/jpeg:https://bj.org/wp-content/uploads/2020/03/havdallah-shutterstock_1385831468.jpg
ORGANIZER;CN="B'nai Jeshurun":MAILTO:info@bj.org
END:VEVENT
BEGIN:VEVENT
DTSTART;TZID=America/New_York:20240301T080000
DTEND;TZID=America/New_York:20240301T090000
DTSTAMP:20260423T170014
CREATED:20230920T151927Z
LAST-MODIFIED:20250321T183125Z
UID:10009518-1709280000-1709283600@bj.org
SUMMARY:Shaharit (Online)
DESCRIPTION:
URL:https://bj.org/event/shaharit-online-5/2024-03-01/
LOCATION:Remote Access Only\, NY\, United States
CATEGORIES:Services,Featured in Next Service
ATTACH;FMTTYPE=image/jpeg:https://bj.org/wp-content/uploads/2019/10/1905-0275.jpg
ORGANIZER;CN="B'nai Jeshurun":MAILTO:info@bj.org
END:VEVENT
BEGIN:VEVENT
DTSTART;TZID=America/New_York:20240229T183000
DTEND;TZID=America/New_York:20240229T184500
DTSTAMP:20260423T170014
CREATED:20230921T184504Z
LAST-MODIFIED:20240418T175452Z
UID:10008715-1709231400-1709232300@bj.org
SUMMARY:Arvit (Online)
DESCRIPTION:
URL:https://bj.org/event/arvit-online/2024-02-29/
LOCATION:Remote Access Only\, NY\, United States
CATEGORIES:Services,Featured in Next Service
ATTACH;FMTTYPE=image/jpeg:https://bj.org/wp-content/uploads/2023/01/1905-0258.jpg
ORGANIZER;CN="B'nai Jeshurun":MAILTO:info@bj.org
END:VEVENT
BEGIN:VEVENT
DTSTART;TZID=America/New_York:20240229T154500
DTEND;TZID=America/New_York:20240229T164500
DTSTAMP:20260423T170014
CREATED:20221215T210758Z
LAST-MODIFIED:20260203T171538Z
UID:10009613-1709221500-1709225100@bj.org
SUMMARY:A Taste of Talmud: Daf Yomi with Rabbi Shuli Passow
DESCRIPTION:
URL:https://bj.org/event/a-taste-of-talmud-daf-yomi-with-rabbi-shuli-passow/2024-02-29/
LOCATION:Remote Access Only\, NY\, United States
CATEGORIES:Classes
ATTACH;FMTTYPE=image/png:https://bj.org/wp-content/uploads/2022/12/Daf-Yomi-Shuli-1.png
ORGANIZER;CN="B'nai Jeshurun":MAILTO:info@bj.org
END:VEVENT
BEGIN:VEVENT
DTSTART;TZID=America/New_York:20240228T201500
DTEND;TZID=America/New_York:20240228T213000
DTSTAMP:20260423T170014
CREATED:20231221T023635Z
LAST-MODIFIED:20240516T192955Z
UID:10009585-1709151300-1709155800@bj.org
SUMMARY:Parenting as a Spiritual Practice with Rabbi Becca Weintraub
DESCRIPTION:
URL:https://bj.org/event/parenting-as-a-spiritual-practice-with-rabbi-becca-weintraub-4/2024-02-28/
LOCATION:Remote Access Only\, NY\, United States
CATEGORIES:Classes
ATTACH;FMTTYPE=image/jpeg:https://bj.org/wp-content/uploads/2019/10/1905-0290-e1573507444251.jpg
ORGANIZER;CN="B'nai Jeshurun":MAILTO:info@bj.org
END:VEVENT
BEGIN:VEVENT
DTSTART;TZID=America/New_York:20240228T183000
DTEND;TZID=America/New_York:20240228T184500
DTSTAMP:20260423T170014
CREATED:20230921T184504Z
LAST-MODIFIED:20240418T175452Z
UID:10008714-1709145000-1709145900@bj.org
SUMMARY:Arvit (Online)
DESCRIPTION:
URL:https://bj.org/event/arvit-online/2024-02-28/
LOCATION:Remote Access Only\, NY\, United States
CATEGORIES:Services,Featured in Next Service
ATTACH;FMTTYPE=image/jpeg:https://bj.org/wp-content/uploads/2023/01/1905-0258.jpg
ORGANIZER;CN="B'nai Jeshurun":MAILTO:info@bj.org
END:VEVENT
BEGIN:VEVENT
DTSTART;TZID=America/New_York:20240228T083000
DTEND;TZID=America/New_York:20240228T091500
DTSTAMP:20260423T170014
CREATED:20221215T212948Z
LAST-MODIFIED:20260415T133805Z
UID:10019630-1709109000-1709111700@bj.org
SUMMARY:Jewish Meditation with Rabbi Shuli Passow
DESCRIPTION:
URL:https://bj.org/event/jewish-meditation-with-rabbi-shuli-passow-3/2024-02-28/
LOCATION:Remote Access Only\, NY\, United States
CATEGORIES:Classes
ATTACH;FMTTYPE=image/jpeg:https://bj.org/wp-content/uploads/2022/12/Daily-Meditation-Shuli-Image.jpg
ORGANIZER;CN="B'nai Jeshurun":MAILTO:info@bj.org
END:VEVENT
BEGIN:VEVENT
DTSTART;TZID=America/New_York:20240228T080000
DTEND;TZID=America/New_York:20240228T090000
DTSTAMP:20260423T170014
CREATED:20230920T151927Z
LAST-MODIFIED:20250321T183125Z
UID:10009517-1709107200-1709110800@bj.org
SUMMARY:Shaharit (Online)
DESCRIPTION:
URL:https://bj.org/event/shaharit-online-5/2024-02-28/
LOCATION:Remote Access Only\, NY\, United States
CATEGORIES:Services,Featured in Next Service
ATTACH;FMTTYPE=image/jpeg:https://bj.org/wp-content/uploads/2019/10/1905-0275.jpg
ORGANIZER;CN="B'nai Jeshurun":MAILTO:info@bj.org
END:VEVENT
BEGIN:VEVENT
DTSTART;TZID=America/New_York:20240227T183000
DTEND;TZID=America/New_York:20240227T184500
DTSTAMP:20260423T170014
CREATED:20230921T184504Z
LAST-MODIFIED:20240418T175452Z
UID:10008713-1709058600-1709059500@bj.org
SUMMARY:Arvit (Online)
DESCRIPTION:
URL:https://bj.org/event/arvit-online/2024-02-27/
LOCATION:Remote Access Only\, NY\, United States
CATEGORIES:Services,Featured in Next Service
ATTACH;FMTTYPE=image/jpeg:https://bj.org/wp-content/uploads/2023/01/1905-0258.jpg
ORGANIZER;CN="B'nai Jeshurun":MAILTO:info@bj.org
END:VEVENT
BEGIN:VEVENT
DTSTART;TZID=America/New_York:20240227T173000
DTEND;TZID=America/New_York:20240227T181500
DTSTAMP:20260423T170014
CREATED:20230302T235540Z
LAST-MODIFIED:20260313T190025Z
UID:10006506-1709055000-1709057700@bj.org
SUMMARY:Mindfulness Prayer Practice Group
DESCRIPTION:
URL:https://bj.org/event/mindful-prayer-havurah/2024-02-27/
LOCATION:Remote Access Only\, NY\, United States
CATEGORIES:Classes
ATTACH;FMTTYPE=image/jpeg:https://bj.org/wp-content/uploads/2023/01/1905-0272-2048x1152-1.jpeg
ORGANIZER;CN="B'nai Jeshurun":MAILTO:info@bj.org
END:VEVENT
BEGIN:VEVENT
DTSTART;TZID=America/New_York:20240227T080000
DTEND;TZID=America/New_York:20240227T090000
DTSTAMP:20260423T170014
CREATED:20230920T151927Z
LAST-MODIFIED:20250321T183125Z
UID:10009516-1709020800-1709024400@bj.org
SUMMARY:Shaharit (Online)
DESCRIPTION:
URL:https://bj.org/event/shaharit-online-5/2024-02-27/
LOCATION:Remote Access Only\, NY\, United States
CATEGORIES:Services,Featured in Next Service
ATTACH;FMTTYPE=image/jpeg:https://bj.org/wp-content/uploads/2019/10/1905-0275.jpg
ORGANIZER;CN="B'nai Jeshurun":MAILTO:info@bj.org
END:VEVENT
BEGIN:VEVENT
DTSTART;TZID=America/New_York:20240226T193000
DTEND;TZID=America/New_York:20240226T203000
DTSTAMP:20260423T170014
CREATED:20240206T152406Z
LAST-MODIFIED:20240220T173924Z
UID:10009844-1708975800-1708979400@bj.org
SUMMARY:Environmental Advocacy Meeting
DESCRIPTION:
URL:https://bj.org/event/environmental-advocacy-meeting/
LOCATION:Remote Access Only\, NY\, United States
CATEGORIES:Events,Featured on Home Page
ATTACH;FMTTYPE=image/jpeg:https://bj.org/wp-content/uploads/2024/02/noah-buscher-x8ZStukS2PM-unsplash-scaled.jpg
ORGANIZER;CN="B'nai Jeshurun":MAILTO:info@bj.org
END:VEVENT
BEGIN:VEVENT
DTSTART;TZID=America/New_York:20240226T193000
DTEND;TZID=America/New_York:20240226T203000
DTSTAMP:20260423T170014
CREATED:20210311T194417Z
LAST-MODIFIED:20260423T202403Z
UID:10007438-1708975800-1708979400@bj.org
SUMMARY:Connections Cocktail Hour
DESCRIPTION:
URL:https://bj.org/event/connections-cocktail-hour-2/2024-02-26/
LOCATION:Remote Access Only\, NY\, United States
CATEGORIES:Events
ATTACH;FMTTYPE=image/jpeg:https://bj.org/wp-content/uploads/2022/04/best-italian-cocktails.jpg
ORGANIZER;CN="B'nai Jeshurun":MAILTO:info@bj.org
END:VEVENT
BEGIN:VEVENT
DTSTART;TZID=America/New_York:20240226T183000
DTEND;TZID=America/New_York:20240226T184500
DTSTAMP:20260423T170014
CREATED:20230921T184504Z
LAST-MODIFIED:20240418T175452Z
UID:10008712-1708972200-1708973100@bj.org
SUMMARY:Arvit (Online)
DESCRIPTION:
URL:https://bj.org/event/arvit-online/2024-02-26/
LOCATION:Remote Access Only\, NY\, United States
CATEGORIES:Services,Featured in Next Service
ATTACH;FMTTYPE=image/jpeg:https://bj.org/wp-content/uploads/2023/01/1905-0258.jpg
ORGANIZER;CN="B'nai Jeshurun":MAILTO:info@bj.org
END:VEVENT
BEGIN:VEVENT
DTSTART;TZID=America/New_York:20240225T183000
DTEND;TZID=America/New_York:20240225T184500
DTSTAMP:20260423T170014
CREATED:20230921T184504Z
LAST-MODIFIED:20240418T175452Z
UID:10008711-1708885800-1708886700@bj.org
SUMMARY:Arvit (Online)
DESCRIPTION:
URL:https://bj.org/event/arvit-online/2024-02-25/
LOCATION:Remote Access Only\, NY\, United States
CATEGORIES:Services,Featured in Next Service
ATTACH;FMTTYPE=image/jpeg:https://bj.org/wp-content/uploads/2023/01/1905-0258.jpg
ORGANIZER;CN="B'nai Jeshurun":MAILTO:info@bj.org
END:VEVENT
BEGIN:VEVENT
DTSTART;TZID=America/New_York:20240225T093000
DTEND;TZID=America/New_York:20240225T103000
DTSTAMP:20260423T170014
CREATED:20230926T191607Z
LAST-MODIFIED:20260226T185930Z
UID:10009545-1708853400-1708857000@bj.org
SUMMARY:Shaharit (Online)
DESCRIPTION:
URL:https://bj.org/event/shaharit-sunday/2024-02-25/
LOCATION:Remote Access Only\, NY\, United States
CATEGORIES:Services,Featured in Next Service
ATTACH;FMTTYPE=image/jpeg:https://bj.org/wp-content/uploads/2019/10/1905-0280.jpg
ORGANIZER;CN="B'nai Jeshurun":MAILTO:info@bj.org
END:VEVENT
BEGIN:VEVENT
DTSTART;TZID=America/New_York:20240224T183500
DTEND;TZID=America/New_York:20240224T190000
DTSTAMP:20260423T170014
CREATED:20240102T155619Z
LAST-MODIFIED:20240918T182738Z
UID:10009603-1708799700-1708801200@bj.org
SUMMARY:Arvit and Havdalah
DESCRIPTION:
URL:https://bj.org/event/arvit-and-havdalah-7/2024-02-24/
LOCATION:Remote Access Only\, NY\, United States
CATEGORIES:Services,Featured in Next Service
ATTACH;FMTTYPE=image/jpeg:https://bj.org/wp-content/uploads/2020/03/havdallah-shutterstock_1385831468.jpg
ORGANIZER;CN="B'nai Jeshurun":MAILTO:info@bj.org
END:VEVENT
BEGIN:VEVENT
DTSTART;TZID=America/New_York:20240223T080000
DTEND;TZID=America/New_York:20240223T090000
DTSTAMP:20260423T170014
CREATED:20230920T151927Z
LAST-MODIFIED:20250321T183125Z
UID:10009515-1708675200-1708678800@bj.org
SUMMARY:Shaharit (Online)
DESCRIPTION:
URL:https://bj.org/event/shaharit-online-5/2024-02-23/
LOCATION:Remote Access Only\, NY\, United States
CATEGORIES:Services,Featured in Next Service
ATTACH;FMTTYPE=image/jpeg:https://bj.org/wp-content/uploads/2019/10/1905-0275.jpg
ORGANIZER;CN="B'nai Jeshurun":MAILTO:info@bj.org
END:VEVENT
BEGIN:VEVENT
DTSTART;TZID=America/New_York:20240222T183000
DTEND;TZID=America/New_York:20240222T184500
DTSTAMP:20260423T170014
CREATED:20230921T184504Z
LAST-MODIFIED:20240418T175452Z
UID:10008710-1708626600-1708627500@bj.org
SUMMARY:Arvit (Online)
DESCRIPTION:
URL:https://bj.org/event/arvit-online/2024-02-22/
LOCATION:Remote Access Only\, NY\, United States
CATEGORIES:Services,Featured in Next Service
ATTACH;FMTTYPE=image/jpeg:https://bj.org/wp-content/uploads/2023/01/1905-0258.jpg
ORGANIZER;CN="B'nai Jeshurun":MAILTO:info@bj.org
END:VEVENT
END:VCALENDAR