BEGIN:VCALENDAR
VERSION:2.0
PRODID:-//B&#039;nai Jeshurun - ECPv6.15.20//NONSGML v1.0//EN
CALSCALE:GREGORIAN
METHOD:PUBLISH
X-WR-CALNAME:B&#039;nai Jeshurun
X-ORIGINAL-URL:https://bj.org
X-WR-CALDESC:Events for B&#039;nai Jeshurun
REFRESH-INTERVAL;VALUE=DURATION:PT1H
X-Robots-Tag:noindex
X-PUBLISHED-TTL:PT1H
BEGIN:VTIMEZONE
TZID:America/New_York
BEGIN:DAYLIGHT
TZOFFSETFROM:-0500
TZOFFSETTO:-0400
TZNAME:EDT
DTSTART:20230312T070000
END:DAYLIGHT
BEGIN:STANDARD
TZOFFSETFROM:-0400
TZOFFSETTO:-0500
TZNAME:EST
DTSTART:20231105T060000
END:STANDARD
BEGIN:DAYLIGHT
TZOFFSETFROM:-0500
TZOFFSETTO:-0400
TZNAME:EDT
DTSTART:20240310T070000
END:DAYLIGHT
BEGIN:STANDARD
TZOFFSETFROM:-0400
TZOFFSETTO:-0500
TZNAME:EST
DTSTART:20241103T060000
END:STANDARD
BEGIN:DAYLIGHT
TZOFFSETFROM:-0500
TZOFFSETTO:-0400
TZNAME:EDT
DTSTART:20250309T070000
END:DAYLIGHT
BEGIN:STANDARD
TZOFFSETFROM:-0400
TZOFFSETTO:-0500
TZNAME:EST
DTSTART:20251102T060000
END:STANDARD
END:VTIMEZONE
BEGIN:VEVENT
DTSTART;TZID=America/New_York:20240318T183000
DTEND;TZID=America/New_York:20240318T190000
DTSTAMP:20260423T152037
CREATED:20240305T152921Z
LAST-MODIFIED:20240313T165724Z
UID:10010153-1710786600-1710788400@bj.org
SUMMARY:Minha-Arvit (Online)
DESCRIPTION:
URL:https://bj.org/event/minha-arvit-online-4/2024-03-18/
LOCATION:Remote Access Only\, NY\, United States
CATEGORIES:Services,Featured in Next Service
ATTACH;FMTTYPE=image/jpeg:https://bj.org/wp-content/uploads/2023/01/1905-0258.jpg
ORGANIZER;CN="B'nai Jeshurun":MAILTO:info@bj.org
END:VEVENT
BEGIN:VEVENT
DTSTART;TZID=America/New_York:20240317T183000
DTEND;TZID=America/New_York:20240317T190000
DTSTAMP:20260423T152037
CREATED:20240305T152921Z
LAST-MODIFIED:20240313T165724Z
UID:10010152-1710700200-1710702000@bj.org
SUMMARY:Minha-Arvit (Online)
DESCRIPTION:
URL:https://bj.org/event/minha-arvit-online-4/2024-03-17/
LOCATION:Remote Access Only\, NY\, United States
CATEGORIES:Services,Featured in Next Service
ATTACH;FMTTYPE=image/jpeg:https://bj.org/wp-content/uploads/2023/01/1905-0258.jpg
ORGANIZER;CN="B'nai Jeshurun":MAILTO:info@bj.org
END:VEVENT
BEGIN:VEVENT
DTSTART;TZID=America/New_York:20240317T093000
DTEND;TZID=America/New_York:20240317T103000
DTSTAMP:20260423T152037
CREATED:20230926T191607Z
LAST-MODIFIED:20260226T185930Z
UID:10009547-1710667800-1710671400@bj.org
SUMMARY:Shaharit (Online)
DESCRIPTION:
URL:https://bj.org/event/shaharit-sunday/2024-03-17/
LOCATION:Remote Access Only\, NY\, United States
CATEGORIES:Services,Featured in Next Service
ATTACH;FMTTYPE=image/jpeg:https://bj.org/wp-content/uploads/2019/10/1905-0280.jpg
ORGANIZER;CN="B'nai Jeshurun":MAILTO:info@bj.org
END:VEVENT
BEGIN:VEVENT
DTSTART;TZID=America/New_York:20240316T195500
DTEND;TZID=America/New_York:20240316T202000
DTSTAMP:20260423T152037
CREATED:20240102T155619Z
LAST-MODIFIED:20240918T182738Z
UID:10009658-1710618900-1710620400@bj.org
SUMMARY:Arvit and Havdalah
DESCRIPTION:
URL:https://bj.org/event/arvit-and-havdalah-7/2024-03-16/
LOCATION:Remote Access Only\, NY\, United States
CATEGORIES:Services,Featured in Next Service
ATTACH;FMTTYPE=image/jpeg:https://bj.org/wp-content/uploads/2020/03/havdallah-shutterstock_1385831468.jpg
ORGANIZER;CN="B'nai Jeshurun":MAILTO:info@bj.org
END:VEVENT
BEGIN:VEVENT
DTSTART;TZID=America/New_York:20240315T080000
DTEND;TZID=America/New_York:20240315T090000
DTSTAMP:20260423T152037
CREATED:20230920T151927Z
LAST-MODIFIED:20250321T183125Z
UID:10009524-1710489600-1710493200@bj.org
SUMMARY:Shaharit (Online)
DESCRIPTION:
URL:https://bj.org/event/shaharit-online-5/2024-03-15/
LOCATION:Remote Access Only\, NY\, United States
CATEGORIES:Services,Featured in Next Service
ATTACH;FMTTYPE=image/jpeg:https://bj.org/wp-content/uploads/2019/10/1905-0275.jpg
ORGANIZER;CN="B'nai Jeshurun":MAILTO:info@bj.org
END:VEVENT
BEGIN:VEVENT
DTSTART;TZID=America/New_York:20240314T190000
DTEND;TZID=America/New_York:20240314T203000
DTSTAMP:20260423T152037
CREATED:20240213T163302Z
LAST-MODIFIED:20240213T163302Z
UID:10009856-1710442800-1710448200@bj.org
SUMMARY:Loving Our Own Bones: Book Talk with Julia Watts Belser
DESCRIPTION:
URL:https://bj.org/event/loving-our-own-bones-book-talk-with-julia-watts-belser/
LOCATION:Remote Access Only\, NY\, United States
CATEGORIES:Events,Featured on Home Page
ATTACH;FMTTYPE=image/png:https://bj.org/wp-content/uploads/2024/02/Israeli-author-book-club-1.png
ORGANIZER;CN="B'nai Jeshurun":MAILTO:info@bj.org
END:VEVENT
BEGIN:VEVENT
DTSTART;TZID=America/New_York:20240314T183000
DTEND;TZID=America/New_York:20240314T190000
DTSTAMP:20260423T152037
CREATED:20240305T152921Z
LAST-MODIFIED:20240313T165724Z
UID:10010184-1710441000-1710442800@bj.org
SUMMARY:Minha-Arvit (Online)
DESCRIPTION:
URL:https://bj.org/event/minha-arvit-online-4/2024-03-14/
LOCATION:Remote Access Only\, NY\, United States
CATEGORIES:Services,Featured in Next Service
ATTACH;FMTTYPE=image/jpeg:https://bj.org/wp-content/uploads/2023/01/1905-0258.jpg
ORGANIZER;CN="B'nai Jeshurun":MAILTO:info@bj.org
END:VEVENT
BEGIN:VEVENT
DTSTART;TZID=America/New_York:20240314T154500
DTEND;TZID=America/New_York:20240314T164500
DTSTAMP:20260423T152037
CREATED:20221215T210758Z
LAST-MODIFIED:20260203T171538Z
UID:10009615-1710431100-1710434700@bj.org
SUMMARY:A Taste of Talmud: Daf Yomi with Rabbi Shuli Passow
DESCRIPTION:
URL:https://bj.org/event/a-taste-of-talmud-daf-yomi-with-rabbi-shuli-passow/2024-03-14/
LOCATION:Remote Access Only\, NY\, United States
CATEGORIES:Classes
ATTACH;FMTTYPE=image/png:https://bj.org/wp-content/uploads/2022/12/Daf-Yomi-Shuli-1.png
ORGANIZER;CN="B'nai Jeshurun":MAILTO:info@bj.org
END:VEVENT
BEGIN:VEVENT
DTSTART;TZID=America/New_York:20240313T201500
DTEND;TZID=America/New_York:20240313T213000
DTSTAMP:20260423T152037
CREATED:20231221T023635Z
LAST-MODIFIED:20240516T192955Z
UID:10009586-1710360900-1710365400@bj.org
SUMMARY:Parenting as a Spiritual Practice with Rabbi Becca Weintraub
DESCRIPTION:
URL:https://bj.org/event/parenting-as-a-spiritual-practice-with-rabbi-becca-weintraub-4/2024-03-13/
LOCATION:Remote Access Only\, NY\, United States
CATEGORIES:Classes
ATTACH;FMTTYPE=image/jpeg:https://bj.org/wp-content/uploads/2019/10/1905-0290-e1573507444251.jpg
ORGANIZER;CN="B'nai Jeshurun":MAILTO:info@bj.org
END:VEVENT
BEGIN:VEVENT
DTSTART;TZID=America/New_York:20240313T183000
DTEND;TZID=America/New_York:20240313T190000
DTSTAMP:20260423T152037
CREATED:20240305T152921Z
LAST-MODIFIED:20240313T165724Z
UID:10010151-1710354600-1710356400@bj.org
SUMMARY:Minha-Arvit (Online)
DESCRIPTION:
URL:https://bj.org/event/minha-arvit-online-4/2024-03-13/
LOCATION:Remote Access Only\, NY\, United States
CATEGORIES:Services,Featured in Next Service
ATTACH;FMTTYPE=image/jpeg:https://bj.org/wp-content/uploads/2023/01/1905-0258.jpg
ORGANIZER;CN="B'nai Jeshurun":MAILTO:info@bj.org
END:VEVENT
BEGIN:VEVENT
DTSTART;TZID=America/New_York:20240313T160000
DTEND;TZID=America/New_York:20240313T170000
DTSTAMP:20260423T152037
CREATED:20240116T212250Z
LAST-MODIFIED:20240311T133817Z
UID:10009779-1710345600-1710349200@bj.org
SUMMARY:Building Resiliency in Later Life
DESCRIPTION:
URL:https://bj.org/event/building-resiliency-in-later-life/2024-03-13/
LOCATION:Remote Access Only\, NY\, United States
CATEGORIES:Events
ATTACH;FMTTYPE=image/jpeg:https://bj.org/wp-content/uploads/2023/08/1905-0426.jpeg
ORGANIZER;CN="B'nai Jeshurun":MAILTO:info@bj.org
END:VEVENT
BEGIN:VEVENT
DTSTART;TZID=America/New_York:20240313T083000
DTEND;TZID=America/New_York:20240313T091500
DTSTAMP:20260423T152037
CREATED:20221215T212948Z
LAST-MODIFIED:20260415T133805Z
UID:10019632-1710318600-1710321300@bj.org
SUMMARY:Jewish Meditation with Rabbi Shuli Passow
DESCRIPTION:
URL:https://bj.org/event/jewish-meditation-with-rabbi-shuli-passow-3/2024-03-13/
LOCATION:Remote Access Only\, NY\, United States
CATEGORIES:Classes
ATTACH;FMTTYPE=image/jpeg:https://bj.org/wp-content/uploads/2022/12/Daily-Meditation-Shuli-Image.jpg
ORGANIZER;CN="B'nai Jeshurun":MAILTO:info@bj.org
END:VEVENT
BEGIN:VEVENT
DTSTART;TZID=America/New_York:20240313T080000
DTEND;TZID=America/New_York:20240313T090000
DTSTAMP:20260423T152037
CREATED:20230920T151927Z
LAST-MODIFIED:20250321T183125Z
UID:10009523-1710316800-1710320400@bj.org
SUMMARY:Shaharit (Online)
DESCRIPTION:
URL:https://bj.org/event/shaharit-online-5/2024-03-13/
LOCATION:Remote Access Only\, NY\, United States
CATEGORIES:Services,Featured in Next Service
ATTACH;FMTTYPE=image/jpeg:https://bj.org/wp-content/uploads/2019/10/1905-0275.jpg
ORGANIZER;CN="B'nai Jeshurun":MAILTO:info@bj.org
END:VEVENT
BEGIN:VEVENT
DTSTART;TZID=America/New_York:20240312T183000
DTEND;TZID=America/New_York:20240312T190000
DTSTAMP:20260423T152037
CREATED:20240305T152921Z
LAST-MODIFIED:20240313T165724Z
UID:10010150-1710268200-1710270000@bj.org
SUMMARY:Minha-Arvit (Online)
DESCRIPTION:
URL:https://bj.org/event/minha-arvit-online-4/2024-03-12/
LOCATION:Remote Access Only\, NY\, United States
CATEGORIES:Services,Featured in Next Service
ATTACH;FMTTYPE=image/jpeg:https://bj.org/wp-content/uploads/2023/01/1905-0258.jpg
ORGANIZER;CN="B'nai Jeshurun":MAILTO:info@bj.org
END:VEVENT
BEGIN:VEVENT
DTSTART;TZID=America/New_York:20240312T173000
DTEND;TZID=America/New_York:20240312T181500
DTSTAMP:20260423T152037
CREATED:20230302T235540Z
LAST-MODIFIED:20260313T190025Z
UID:10006508-1710264600-1710267300@bj.org
SUMMARY:Mindfulness Prayer Practice Group
DESCRIPTION:
URL:https://bj.org/event/mindful-prayer-havurah/2024-03-12/
LOCATION:Remote Access Only\, NY\, United States
CATEGORIES:Classes
ATTACH;FMTTYPE=image/jpeg:https://bj.org/wp-content/uploads/2023/01/1905-0272-2048x1152-1.jpeg
ORGANIZER;CN="B'nai Jeshurun":MAILTO:info@bj.org
END:VEVENT
BEGIN:VEVENT
DTSTART;TZID=America/New_York:20240312T080000
DTEND;TZID=America/New_York:20240312T090000
DTSTAMP:20260423T152037
CREATED:20230920T151927Z
LAST-MODIFIED:20250321T183125Z
UID:10009522-1710230400-1710234000@bj.org
SUMMARY:Shaharit (Online)
DESCRIPTION:
URL:https://bj.org/event/shaharit-online-5/2024-03-12/
LOCATION:Remote Access Only\, NY\, United States
CATEGORIES:Services,Featured in Next Service
ATTACH;FMTTYPE=image/jpeg:https://bj.org/wp-content/uploads/2019/10/1905-0275.jpg
ORGANIZER;CN="B'nai Jeshurun":MAILTO:info@bj.org
END:VEVENT
BEGIN:VEVENT
DTSTART;TZID=America/New_York:20240311T193000
DTEND;TZID=America/New_York:20240311T203000
DTSTAMP:20260423T152037
CREATED:20210311T194417Z
LAST-MODIFIED:20260330T193129Z
UID:10007440-1710185400-1710189000@bj.org
SUMMARY:Connections Cocktail Hour
DESCRIPTION:
URL:https://bj.org/event/connections-cocktail-hour-2/2024-03-11/
LOCATION:Remote Access Only\, NY\, United States
CATEGORIES:Events
ATTACH;FMTTYPE=image/jpeg:https://bj.org/wp-content/uploads/2022/04/best-italian-cocktails.jpg
ORGANIZER;CN="B'nai Jeshurun":MAILTO:info@bj.org
END:VEVENT
BEGIN:VEVENT
DTSTART;TZID=America/New_York:20240311T183000
DTEND;TZID=America/New_York:20240311T190000
DTSTAMP:20260423T152037
CREATED:20240305T152921Z
LAST-MODIFIED:20240313T165724Z
UID:10010149-1710181800-1710183600@bj.org
SUMMARY:Minha-Arvit (Online)
DESCRIPTION:
URL:https://bj.org/event/minha-arvit-online-4/2024-03-11/
LOCATION:Remote Access Only\, NY\, United States
CATEGORIES:Services,Featured in Next Service
ATTACH;FMTTYPE=image/jpeg:https://bj.org/wp-content/uploads/2023/01/1905-0258.jpg
ORGANIZER;CN="B'nai Jeshurun":MAILTO:info@bj.org
END:VEVENT
BEGIN:VEVENT
DTSTART;TZID=America/New_York:20240310T183000
DTEND;TZID=America/New_York:20240310T190000
DTSTAMP:20260423T152037
CREATED:20240305T152921Z
LAST-MODIFIED:20240313T165724Z
UID:10010148-1710095400-1710097200@bj.org
SUMMARY:Minha-Arvit (Online)
DESCRIPTION:
URL:https://bj.org/event/minha-arvit-online-4/2024-03-10/
LOCATION:Remote Access Only\, NY\, United States
CATEGORIES:Services,Featured in Next Service
ATTACH;FMTTYPE=image/jpeg:https://bj.org/wp-content/uploads/2023/01/1905-0258.jpg
ORGANIZER;CN="B'nai Jeshurun":MAILTO:info@bj.org
END:VEVENT
BEGIN:VEVENT
DTSTART;TZID=America/New_York:20240309T185000
DTEND;TZID=America/New_York:20240309T191500
DTSTAMP:20260423T152037
CREATED:20240102T155619Z
LAST-MODIFIED:20240918T182738Z
UID:10009657-1710010200-1710011700@bj.org
SUMMARY:Arvit and Havdalah
DESCRIPTION:
URL:https://bj.org/event/arvit-and-havdalah-7/2024-03-09/
LOCATION:Remote Access Only\, NY\, United States
CATEGORIES:Services,Featured in Next Service
ATTACH;FMTTYPE=image/jpeg:https://bj.org/wp-content/uploads/2020/03/havdallah-shutterstock_1385831468.jpg
ORGANIZER;CN="B'nai Jeshurun":MAILTO:info@bj.org
END:VEVENT
BEGIN:VEVENT
DTSTART;TZID=America/New_York:20240308T080000
DTEND;TZID=America/New_York:20240308T090000
DTSTAMP:20260423T152037
CREATED:20230920T151927Z
LAST-MODIFIED:20250321T183125Z
UID:10009521-1709884800-1709888400@bj.org
SUMMARY:Shaharit (Online)
DESCRIPTION:
URL:https://bj.org/event/shaharit-online-5/2024-03-08/
LOCATION:Remote Access Only\, NY\, United States
CATEGORIES:Services,Featured in Next Service
ATTACH;FMTTYPE=image/jpeg:https://bj.org/wp-content/uploads/2019/10/1905-0275.jpg
ORGANIZER;CN="B'nai Jeshurun":MAILTO:info@bj.org
END:VEVENT
BEGIN:VEVENT
DTSTART;TZID=America/New_York:20240307T183000
DTEND;TZID=America/New_York:20240307T184500
DTSTAMP:20260423T152037
CREATED:20230921T184504Z
LAST-MODIFIED:20240418T175452Z
UID:10008720-1709836200-1709837100@bj.org
SUMMARY:Arvit (Online)
DESCRIPTION:
URL:https://bj.org/event/arvit-online/2024-03-07/
LOCATION:Remote Access Only\, NY\, United States
CATEGORIES:Services,Featured in Next Service
ATTACH;FMTTYPE=image/jpeg:https://bj.org/wp-content/uploads/2023/01/1905-0258.jpg
ORGANIZER;CN="B'nai Jeshurun":MAILTO:info@bj.org
END:VEVENT
BEGIN:VEVENT
DTSTART;TZID=America/New_York:20240307T154500
DTEND;TZID=America/New_York:20240307T164500
DTSTAMP:20260423T152037
CREATED:20221215T210758Z
LAST-MODIFIED:20260203T171538Z
UID:10009614-1709826300-1709829900@bj.org
SUMMARY:A Taste of Talmud: Daf Yomi with Rabbi Shuli Passow
DESCRIPTION:
URL:https://bj.org/event/a-taste-of-talmud-daf-yomi-with-rabbi-shuli-passow/2024-03-07/
LOCATION:Remote Access Only\, NY\, United States
CATEGORIES:Classes
ATTACH;FMTTYPE=image/png:https://bj.org/wp-content/uploads/2022/12/Daf-Yomi-Shuli-1.png
ORGANIZER;CN="B'nai Jeshurun":MAILTO:info@bj.org
END:VEVENT
BEGIN:VEVENT
DTSTART;TZID=America/New_York:20240306T201500
DTEND;TZID=America/New_York:20240306T213000
DTSTAMP:20260423T152037
CREATED:20231221T023635Z
LAST-MODIFIED:20240516T192955Z
UID:10008255-1709756100-1709760600@bj.org
SUMMARY:Parenting as a Spiritual Practice with Rabbi Becca Weintraub
DESCRIPTION:
URL:https://bj.org/event/parenting-as-a-spiritual-practice-with-rabbi-becca-weintraub-4/2024-03-06/
LOCATION:Remote Access Only\, NY\, United States
CATEGORIES:Classes
ATTACH;FMTTYPE=image/jpeg:https://bj.org/wp-content/uploads/2019/10/1905-0290-e1573507444251.jpg
ORGANIZER;CN="B'nai Jeshurun":MAILTO:info@bj.org
END:VEVENT
BEGIN:VEVENT
DTSTART;TZID=America/New_York:20240306T183000
DTEND;TZID=America/New_York:20240306T184500
DTSTAMP:20260423T152037
CREATED:20230921T184504Z
LAST-MODIFIED:20240418T175452Z
UID:10008719-1709749800-1709750700@bj.org
SUMMARY:Arvit (Online)
DESCRIPTION:
URL:https://bj.org/event/arvit-online/2024-03-06/
LOCATION:Remote Access Only\, NY\, United States
CATEGORIES:Services,Featured in Next Service
ATTACH;FMTTYPE=image/jpeg:https://bj.org/wp-content/uploads/2023/01/1905-0258.jpg
ORGANIZER;CN="B'nai Jeshurun":MAILTO:info@bj.org
END:VEVENT
BEGIN:VEVENT
DTSTART;TZID=America/New_York:20240306T160000
DTEND;TZID=America/New_York:20240306T170000
DTSTAMP:20260423T152037
CREATED:20240116T212250Z
LAST-MODIFIED:20240311T133817Z
UID:10009778-1709740800-1709744400@bj.org
SUMMARY:Building Resiliency in Later Life
DESCRIPTION:
URL:https://bj.org/event/building-resiliency-in-later-life/2024-03-06/
LOCATION:Remote Access Only\, NY\, United States
CATEGORIES:Events
ATTACH;FMTTYPE=image/jpeg:https://bj.org/wp-content/uploads/2023/08/1905-0426.jpeg
ORGANIZER;CN="B'nai Jeshurun":MAILTO:info@bj.org
END:VEVENT
BEGIN:VEVENT
DTSTART;TZID=America/New_York:20240306T083000
DTEND;TZID=America/New_York:20240306T091500
DTSTAMP:20260423T152037
CREATED:20221215T212948Z
LAST-MODIFIED:20260415T133805Z
UID:10019631-1709713800-1709716500@bj.org
SUMMARY:Jewish Meditation with Rabbi Shuli Passow
DESCRIPTION:
URL:https://bj.org/event/jewish-meditation-with-rabbi-shuli-passow-3/2024-03-06/
LOCATION:Remote Access Only\, NY\, United States
CATEGORIES:Classes
ATTACH;FMTTYPE=image/jpeg:https://bj.org/wp-content/uploads/2022/12/Daily-Meditation-Shuli-Image.jpg
ORGANIZER;CN="B'nai Jeshurun":MAILTO:info@bj.org
END:VEVENT
BEGIN:VEVENT
DTSTART;TZID=America/New_York:20240306T080000
DTEND;TZID=America/New_York:20240306T090000
DTSTAMP:20260423T152037
CREATED:20230920T151927Z
LAST-MODIFIED:20250321T183125Z
UID:10009520-1709712000-1709715600@bj.org
SUMMARY:Shaharit (Online)
DESCRIPTION:
URL:https://bj.org/event/shaharit-online-5/2024-03-06/
LOCATION:Remote Access Only\, NY\, United States
CATEGORIES:Services,Featured in Next Service
ATTACH;FMTTYPE=image/jpeg:https://bj.org/wp-content/uploads/2019/10/1905-0275.jpg
ORGANIZER;CN="B'nai Jeshurun":MAILTO:info@bj.org
END:VEVENT
BEGIN:VEVENT
DTSTART;TZID=America/New_York:20240305T183000
DTEND;TZID=America/New_York:20240305T184500
DTSTAMP:20260423T152037
CREATED:20230921T184504Z
LAST-MODIFIED:20240418T175452Z
UID:10008718-1709663400-1709664300@bj.org
SUMMARY:Arvit (Online)
DESCRIPTION:
URL:https://bj.org/event/arvit-online/2024-03-05/
LOCATION:Remote Access Only\, NY\, United States
CATEGORIES:Services,Featured in Next Service
ATTACH;FMTTYPE=image/jpeg:https://bj.org/wp-content/uploads/2023/01/1905-0258.jpg
ORGANIZER;CN="B'nai Jeshurun":MAILTO:info@bj.org
END:VEVENT
BEGIN:VEVENT
DTSTART;TZID=America/New_York:20240305T173000
DTEND;TZID=America/New_York:20240305T181500
DTSTAMP:20260423T152037
CREATED:20230302T235540Z
LAST-MODIFIED:20260313T190025Z
UID:10006507-1709659800-1709662500@bj.org
SUMMARY:Mindfulness Prayer Practice Group
DESCRIPTION:
URL:https://bj.org/event/mindful-prayer-havurah/2024-03-05/
LOCATION:Remote Access Only\, NY\, United States
CATEGORIES:Classes
ATTACH;FMTTYPE=image/jpeg:https://bj.org/wp-content/uploads/2023/01/1905-0272-2048x1152-1.jpeg
ORGANIZER;CN="B'nai Jeshurun":MAILTO:info@bj.org
END:VEVENT
END:VCALENDAR