BEGIN:VCALENDAR
VERSION:2.0
PRODID:-//B&#039;nai Jeshurun - ECPv6.15.20//NONSGML v1.0//EN
CALSCALE:GREGORIAN
METHOD:PUBLISH
X-WR-CALNAME:B&#039;nai Jeshurun
X-ORIGINAL-URL:https://bj.org
X-WR-CALDESC:Events for B&#039;nai Jeshurun
REFRESH-INTERVAL;VALUE=DURATION:PT1H
X-Robots-Tag:noindex
X-PUBLISHED-TTL:PT1H
BEGIN:VTIMEZONE
TZID:America/New_York
BEGIN:DAYLIGHT
TZOFFSETFROM:-0500
TZOFFSETTO:-0400
TZNAME:EDT
DTSTART:20230312T070000
END:DAYLIGHT
BEGIN:STANDARD
TZOFFSETFROM:-0400
TZOFFSETTO:-0500
TZNAME:EST
DTSTART:20231105T060000
END:STANDARD
BEGIN:DAYLIGHT
TZOFFSETFROM:-0500
TZOFFSETTO:-0400
TZNAME:EDT
DTSTART:20240310T070000
END:DAYLIGHT
BEGIN:STANDARD
TZOFFSETFROM:-0400
TZOFFSETTO:-0500
TZNAME:EST
DTSTART:20241103T060000
END:STANDARD
BEGIN:DAYLIGHT
TZOFFSETFROM:-0500
TZOFFSETTO:-0400
TZNAME:EDT
DTSTART:20250309T070000
END:DAYLIGHT
BEGIN:STANDARD
TZOFFSETFROM:-0400
TZOFFSETTO:-0500
TZNAME:EST
DTSTART:20251102T060000
END:STANDARD
END:VTIMEZONE
BEGIN:VEVENT
DTSTART;TZID=America/New_York:20240409T173000
DTEND;TZID=America/New_York:20240409T181500
DTSTAMP:20260423T120819
CREATED:20230302T235540Z
LAST-MODIFIED:20260313T190025Z
UID:10011411-1712683800-1712686500@bj.org
SUMMARY:Mindfulness Prayer Practice Group
DESCRIPTION:
URL:https://bj.org/event/mindful-prayer-havurah/2024-04-09/
LOCATION:Remote Access Only\, NY\, United States
CATEGORIES:Classes
ATTACH;FMTTYPE=image/jpeg:https://bj.org/wp-content/uploads/2023/01/1905-0272-2048x1152-1.jpeg
ORGANIZER;CN="B'nai Jeshurun":MAILTO:info@bj.org
END:VEVENT
BEGIN:VEVENT
DTSTART;TZID=America/New_York:20240408T193000
DTEND;TZID=America/New_York:20240408T203000
DTSTAMP:20260423T120819
CREATED:20210311T194417Z
LAST-MODIFIED:20260330T193129Z
UID:10007444-1712604600-1712608200@bj.org
SUMMARY:Connections Cocktail Hour
DESCRIPTION:
URL:https://bj.org/event/connections-cocktail-hour-2/2024-04-08/
LOCATION:Remote Access Only\, NY\, United States
CATEGORIES:Events
ATTACH;FMTTYPE=image/jpeg:https://bj.org/wp-content/uploads/2022/04/best-italian-cocktails.jpg
ORGANIZER;CN="B'nai Jeshurun":MAILTO:info@bj.org
END:VEVENT
BEGIN:VEVENT
DTSTART;TZID=America/New_York:20240408T183000
DTEND;TZID=America/New_York:20240408T190000
DTSTAMP:20260423T120819
CREATED:20240401T153909Z
LAST-MODIFIED:20240416T185750Z
UID:10010165-1712601000-1712602800@bj.org
SUMMARY:Minha-Arvit (Online)
DESCRIPTION:
URL:https://bj.org/event/minha-arvit-online-4-2/2024-04-08/
LOCATION:Remote Access Only\, NY\, United States
CATEGORIES:Services,Featured in Next Service
ATTACH;FMTTYPE=image/jpeg:https://bj.org/wp-content/uploads/2023/01/1905-0258.jpg
ORGANIZER;CN="B'nai Jeshurun":MAILTO:info@bj.org
END:VEVENT
BEGIN:VEVENT
DTSTART;TZID=America/New_York:20240407T183000
DTEND;TZID=America/New_York:20240407T190000
DTSTAMP:20260423T120819
CREATED:20240401T153909Z
LAST-MODIFIED:20240416T185750Z
UID:10010164-1712514600-1712516400@bj.org
SUMMARY:Minha-Arvit (Online)
DESCRIPTION:
URL:https://bj.org/event/minha-arvit-online-4-2/2024-04-07/
LOCATION:Remote Access Only\, NY\, United States
CATEGORIES:Services,Featured in Next Service
ATTACH;FMTTYPE=image/jpeg:https://bj.org/wp-content/uploads/2023/01/1905-0258.jpg
ORGANIZER;CN="B'nai Jeshurun":MAILTO:info@bj.org
END:VEVENT
BEGIN:VEVENT
DTSTART;TZID=America/New_York:20240407T093000
DTEND;TZID=America/New_York:20240407T103000
DTSTAMP:20260423T120819
CREATED:20230926T191607Z
LAST-MODIFIED:20260226T185930Z
UID:10010055-1712482200-1712485800@bj.org
SUMMARY:Shaharit (Online)
DESCRIPTION:
URL:https://bj.org/event/shaharit-sunday/2024-04-07/
LOCATION:Remote Access Only\, NY\, United States
CATEGORIES:Services,Featured in Next Service
ATTACH;FMTTYPE=image/jpeg:https://bj.org/wp-content/uploads/2019/10/1905-0280.jpg
ORGANIZER;CN="B'nai Jeshurun":MAILTO:info@bj.org
END:VEVENT
BEGIN:VEVENT
DTSTART;TZID=America/New_York:20240406T202000
DTEND;TZID=America/New_York:20240406T204500
DTSTAMP:20260423T120819
CREATED:20240102T155619Z
LAST-MODIFIED:20240918T182738Z
UID:10009661-1712434800-1712436300@bj.org
SUMMARY:Arvit and Havdalah
DESCRIPTION:
URL:https://bj.org/event/arvit-and-havdalah-7/2024-04-06/
LOCATION:Remote Access Only\, NY\, United States
CATEGORIES:Services,Featured in Next Service
ATTACH;FMTTYPE=image/jpeg:https://bj.org/wp-content/uploads/2020/03/havdallah-shutterstock_1385831468.jpg
ORGANIZER;CN="B'nai Jeshurun":MAILTO:info@bj.org
END:VEVENT
BEGIN:VEVENT
DTSTART;TZID=America/New_York:20240405T080000
DTEND;TZID=America/New_York:20240405T090000
DTSTAMP:20260423T120819
CREATED:20230920T151927Z
LAST-MODIFIED:20250321T183125Z
UID:10010026-1712304000-1712307600@bj.org
SUMMARY:Shaharit (Online)
DESCRIPTION:
URL:https://bj.org/event/shaharit-online-5/2024-04-05/
LOCATION:Remote Access Only\, NY\, United States
CATEGORIES:Services,Featured in Next Service
ATTACH;FMTTYPE=image/jpeg:https://bj.org/wp-content/uploads/2019/10/1905-0275.jpg
ORGANIZER;CN="B'nai Jeshurun":MAILTO:info@bj.org
END:VEVENT
BEGIN:VEVENT
DTSTART;TZID=America/New_York:20240404T183000
DTEND;TZID=America/New_York:20240404T190000
DTSTAMP:20260423T120819
CREATED:20240401T153909Z
LAST-MODIFIED:20240416T185750Z
UID:10010187-1712255400-1712257200@bj.org
SUMMARY:Minha-Arvit (Online)
DESCRIPTION:
URL:https://bj.org/event/minha-arvit-online-4-2/2024-04-04/
LOCATION:Remote Access Only\, NY\, United States
CATEGORIES:Services,Featured in Next Service
ATTACH;FMTTYPE=image/jpeg:https://bj.org/wp-content/uploads/2023/01/1905-0258.jpg
ORGANIZER;CN="B'nai Jeshurun":MAILTO:info@bj.org
END:VEVENT
BEGIN:VEVENT
DTSTART;TZID=America/New_York:20240404T154500
DTEND;TZID=America/New_York:20240404T164500
DTSTAMP:20260423T120819
CREATED:20221215T210758Z
LAST-MODIFIED:20260203T171538Z
UID:10009618-1712245500-1712249100@bj.org
SUMMARY:A Taste of Talmud: Daf Yomi with Rabbi Shuli Passow
DESCRIPTION:
URL:https://bj.org/event/a-taste-of-talmud-daf-yomi-with-rabbi-shuli-passow/2024-04-04/
LOCATION:Remote Access Only\, NY\, United States
CATEGORIES:Classes
ATTACH;FMTTYPE=image/png:https://bj.org/wp-content/uploads/2022/12/Daf-Yomi-Shuli-1.png
ORGANIZER;CN="B'nai Jeshurun":MAILTO:info@bj.org
END:VEVENT
BEGIN:VEVENT
DTSTART;TZID=America/New_York:20240403T201500
DTEND;TZID=America/New_York:20240403T213000
DTSTAMP:20260423T120819
CREATED:20231221T023635Z
LAST-MODIFIED:20240516T192955Z
UID:10008257-1712175300-1712179800@bj.org
SUMMARY:Parenting as a Spiritual Practice with Rabbi Becca Weintraub
DESCRIPTION:
URL:https://bj.org/event/parenting-as-a-spiritual-practice-with-rabbi-becca-weintraub-4/2024-04-03/
LOCATION:Remote Access Only\, NY\, United States
CATEGORIES:Classes
ATTACH;FMTTYPE=image/jpeg:https://bj.org/wp-content/uploads/2019/10/1905-0290-e1573507444251.jpg
ORGANIZER;CN="B'nai Jeshurun":MAILTO:info@bj.org
END:VEVENT
BEGIN:VEVENT
DTSTART;TZID=America/New_York:20240403T183000
DTEND;TZID=America/New_York:20240403T190000
DTSTAMP:20260423T120819
CREATED:20240401T153909Z
LAST-MODIFIED:20240416T185750Z
UID:10010163-1712169000-1712170800@bj.org
SUMMARY:Minha-Arvit (Online)
DESCRIPTION:
URL:https://bj.org/event/minha-arvit-online-4-2/2024-04-03/
LOCATION:Remote Access Only\, NY\, United States
CATEGORIES:Services,Featured in Next Service
ATTACH;FMTTYPE=image/jpeg:https://bj.org/wp-content/uploads/2023/01/1905-0258.jpg
ORGANIZER;CN="B'nai Jeshurun":MAILTO:info@bj.org
END:VEVENT
BEGIN:VEVENT
DTSTART;TZID=America/New_York:20240403T160000
DTEND;TZID=America/New_York:20240403T170000
DTSTAMP:20260423T120819
CREATED:20240116T212250Z
LAST-MODIFIED:20240311T133817Z
UID:10009781-1712160000-1712163600@bj.org
SUMMARY:Building Resiliency in Later Life
DESCRIPTION:
URL:https://bj.org/event/building-resiliency-in-later-life/2024-04-03/
LOCATION:Remote Access Only\, NY\, United States
CATEGORIES:Events
ATTACH;FMTTYPE=image/jpeg:https://bj.org/wp-content/uploads/2023/08/1905-0426.jpeg
ORGANIZER;CN="B'nai Jeshurun":MAILTO:info@bj.org
END:VEVENT
BEGIN:VEVENT
DTSTART;TZID=America/New_York:20240403T083000
DTEND;TZID=America/New_York:20240403T091500
DTSTAMP:20260423T120819
CREATED:20221215T212948Z
LAST-MODIFIED:20260415T133805Z
UID:10019635-1712133000-1712135700@bj.org
SUMMARY:Jewish Meditation with Rabbi Shuli Passow
DESCRIPTION:
URL:https://bj.org/event/jewish-meditation-with-rabbi-shuli-passow-3/2024-04-03/
LOCATION:Remote Access Only\, NY\, United States
CATEGORIES:Classes
ATTACH;FMTTYPE=image/jpeg:https://bj.org/wp-content/uploads/2022/12/Daily-Meditation-Shuli-Image.jpg
ORGANIZER;CN="B'nai Jeshurun":MAILTO:info@bj.org
END:VEVENT
BEGIN:VEVENT
DTSTART;TZID=America/New_York:20240403T080000
DTEND;TZID=America/New_York:20240403T090000
DTSTAMP:20260423T120819
CREATED:20230920T151927Z
LAST-MODIFIED:20250321T183125Z
UID:10010025-1712131200-1712134800@bj.org
SUMMARY:Shaharit (Online)
DESCRIPTION:
URL:https://bj.org/event/shaharit-online-5/2024-04-03/
LOCATION:Remote Access Only\, NY\, United States
CATEGORIES:Services,Featured in Next Service
ATTACH;FMTTYPE=image/jpeg:https://bj.org/wp-content/uploads/2019/10/1905-0275.jpg
ORGANIZER;CN="B'nai Jeshurun":MAILTO:info@bj.org
END:VEVENT
BEGIN:VEVENT
DTSTART;TZID=America/New_York:20240402T183000
DTEND;TZID=America/New_York:20240402T190000
DTSTAMP:20260423T120819
CREATED:20240401T153909Z
LAST-MODIFIED:20240416T185750Z
UID:10010162-1712082600-1712084400@bj.org
SUMMARY:Minha-Arvit (Online)
DESCRIPTION:
URL:https://bj.org/event/minha-arvit-online-4-2/2024-04-02/
LOCATION:Remote Access Only\, NY\, United States
CATEGORIES:Services,Featured in Next Service
ATTACH;FMTTYPE=image/jpeg:https://bj.org/wp-content/uploads/2023/01/1905-0258.jpg
ORGANIZER;CN="B'nai Jeshurun":MAILTO:info@bj.org
END:VEVENT
BEGIN:VEVENT
DTSTART;TZID=America/New_York:20240402T173000
DTEND;TZID=America/New_York:20240402T181500
DTSTAMP:20260423T120819
CREATED:20230302T235540Z
LAST-MODIFIED:20260313T190025Z
UID:10011410-1712079000-1712081700@bj.org
SUMMARY:Mindfulness Prayer Practice Group
DESCRIPTION:
URL:https://bj.org/event/mindful-prayer-havurah/2024-04-02/
LOCATION:Remote Access Only\, NY\, United States
CATEGORIES:Classes
ATTACH;FMTTYPE=image/jpeg:https://bj.org/wp-content/uploads/2023/01/1905-0272-2048x1152-1.jpeg
ORGANIZER;CN="B'nai Jeshurun":MAILTO:info@bj.org
END:VEVENT
BEGIN:VEVENT
DTSTART;TZID=America/New_York:20240402T080000
DTEND;TZID=America/New_York:20240402T090000
DTSTAMP:20260423T120819
CREATED:20230920T151927Z
LAST-MODIFIED:20250321T183125Z
UID:10010024-1712044800-1712048400@bj.org
SUMMARY:Shaharit (Online)
DESCRIPTION:
URL:https://bj.org/event/shaharit-online-5/2024-04-02/
LOCATION:Remote Access Only\, NY\, United States
CATEGORIES:Services,Featured in Next Service
ATTACH;FMTTYPE=image/jpeg:https://bj.org/wp-content/uploads/2019/10/1905-0275.jpg
ORGANIZER;CN="B'nai Jeshurun":MAILTO:info@bj.org
END:VEVENT
BEGIN:VEVENT
DTSTART;TZID=America/New_York:20240401T193000
DTEND;TZID=America/New_York:20240401T203000
DTSTAMP:20260423T120819
CREATED:20210311T194417Z
LAST-MODIFIED:20260330T193129Z
UID:10007443-1711999800-1712003400@bj.org
SUMMARY:Connections Cocktail Hour
DESCRIPTION:
URL:https://bj.org/event/connections-cocktail-hour-2/2024-04-01/
LOCATION:Remote Access Only\, NY\, United States
CATEGORIES:Events
ATTACH;FMTTYPE=image/jpeg:https://bj.org/wp-content/uploads/2022/04/best-italian-cocktails.jpg
ORGANIZER;CN="B'nai Jeshurun":MAILTO:info@bj.org
END:VEVENT
BEGIN:VEVENT
DTSTART;TZID=America/New_York:20240401T190000
DTEND;TZID=America/New_York:20240401T200000
DTSTAMP:20260423T120819
CREATED:20231027T150720Z
LAST-MODIFIED:20240321T174350Z
UID:10011402-1711998000-1712001600@bj.org
SUMMARY:Prayer: Back to the Basics (Online)
DESCRIPTION:
URL:https://bj.org/event/prayer-back-to-the-basics-online/2024-04-01/
LOCATION:Remote Access Only\, NY\, United States
CATEGORIES:Classes
ATTACH;FMTTYPE=image/jpeg:https://bj.org/wp-content/uploads/2019/10/1905-0068.jpg
ORGANIZER;CN="B'nai Jeshurun":MAILTO:info@bj.org
END:VEVENT
BEGIN:VEVENT
DTSTART;TZID=America/New_York:20240401T183000
DTEND;TZID=America/New_York:20240401T190000
DTSTAMP:20260423T120819
CREATED:20240401T153909Z
LAST-MODIFIED:20240416T185750Z
UID:10010161-1711996200-1711998000@bj.org
SUMMARY:Minha-Arvit (Online)
DESCRIPTION:
URL:https://bj.org/event/minha-arvit-online-4-2/2024-04-01/
LOCATION:Remote Access Only\, NY\, United States
CATEGORIES:Services,Featured in Next Service
ATTACH;FMTTYPE=image/jpeg:https://bj.org/wp-content/uploads/2023/01/1905-0258.jpg
ORGANIZER;CN="B'nai Jeshurun":MAILTO:info@bj.org
END:VEVENT
BEGIN:VEVENT
DTSTART;TZID=America/New_York:20240331T183000
DTEND;TZID=America/New_York:20240331T190000
DTSTAMP:20260423T120819
CREATED:20240305T152921Z
LAST-MODIFIED:20240313T165724Z
UID:10010160-1711909800-1711911600@bj.org
SUMMARY:Minha-Arvit (Online)
DESCRIPTION:
URL:https://bj.org/event/minha-arvit-online-4/2024-03-31/
LOCATION:Remote Access Only\, NY\, United States
CATEGORIES:Services,Featured in Next Service
ATTACH;FMTTYPE=image/jpeg:https://bj.org/wp-content/uploads/2023/01/1905-0258.jpg
ORGANIZER;CN="B'nai Jeshurun":MAILTO:info@bj.org
END:VEVENT
BEGIN:VEVENT
DTSTART;TZID=America/New_York:20240331T093000
DTEND;TZID=America/New_York:20240331T103000
DTSTAMP:20260423T120819
CREATED:20230926T191607Z
LAST-MODIFIED:20260226T185930Z
UID:10009549-1711877400-1711881000@bj.org
SUMMARY:Shaharit (Online)
DESCRIPTION:
URL:https://bj.org/event/shaharit-sunday/2024-03-31/
LOCATION:Remote Access Only\, NY\, United States
CATEGORIES:Services,Featured in Next Service
ATTACH;FMTTYPE=image/jpeg:https://bj.org/wp-content/uploads/2019/10/1905-0280.jpg
ORGANIZER;CN="B'nai Jeshurun":MAILTO:info@bj.org
END:VEVENT
BEGIN:VEVENT
DTSTART;TZID=America/New_York:20240330T201000
DTEND;TZID=America/New_York:20240330T203500
DTSTAMP:20260423T120819
CREATED:20240102T155619Z
LAST-MODIFIED:20240918T182738Z
UID:10009660-1711829400-1711830900@bj.org
SUMMARY:Arvit and Havdalah
DESCRIPTION:
URL:https://bj.org/event/arvit-and-havdalah-7/2024-03-30/
LOCATION:Remote Access Only\, NY\, United States
CATEGORIES:Services,Featured in Next Service
ATTACH;FMTTYPE=image/jpeg:https://bj.org/wp-content/uploads/2020/03/havdallah-shutterstock_1385831468.jpg
ORGANIZER;CN="B'nai Jeshurun":MAILTO:info@bj.org
END:VEVENT
BEGIN:VEVENT
DTSTART;TZID=America/New_York:20240329T080000
DTEND;TZID=America/New_York:20240329T090000
DTSTAMP:20260423T120819
CREATED:20230920T151927Z
LAST-MODIFIED:20250321T183125Z
UID:10009530-1711699200-1711702800@bj.org
SUMMARY:Shaharit (Online)
DESCRIPTION:
URL:https://bj.org/event/shaharit-online-5/2024-03-29/
LOCATION:Remote Access Only\, NY\, United States
CATEGORIES:Services,Featured in Next Service
ATTACH;FMTTYPE=image/jpeg:https://bj.org/wp-content/uploads/2019/10/1905-0275.jpg
ORGANIZER;CN="B'nai Jeshurun":MAILTO:info@bj.org
END:VEVENT
BEGIN:VEVENT
DTSTART;TZID=America/New_York:20240328T183000
DTEND;TZID=America/New_York:20240328T190000
DTSTAMP:20260423T120819
CREATED:20240305T152921Z
LAST-MODIFIED:20240313T165724Z
UID:10010186-1711650600-1711652400@bj.org
SUMMARY:Minha-Arvit (Online)
DESCRIPTION:
URL:https://bj.org/event/minha-arvit-online-4/2024-03-28/
LOCATION:Remote Access Only\, NY\, United States
CATEGORIES:Services,Featured in Next Service
ATTACH;FMTTYPE=image/jpeg:https://bj.org/wp-content/uploads/2023/01/1905-0258.jpg
ORGANIZER;CN="B'nai Jeshurun":MAILTO:info@bj.org
END:VEVENT
BEGIN:VEVENT
DTSTART;TZID=America/New_York:20240328T154500
DTEND;TZID=America/New_York:20240328T164500
DTSTAMP:20260423T120819
CREATED:20221215T210758Z
LAST-MODIFIED:20260203T171538Z
UID:10009617-1711640700-1711644300@bj.org
SUMMARY:A Taste of Talmud: Daf Yomi with Rabbi Shuli Passow
DESCRIPTION:
URL:https://bj.org/event/a-taste-of-talmud-daf-yomi-with-rabbi-shuli-passow/2024-03-28/
LOCATION:Remote Access Only\, NY\, United States
CATEGORIES:Classes
ATTACH;FMTTYPE=image/png:https://bj.org/wp-content/uploads/2022/12/Daf-Yomi-Shuli-1.png
ORGANIZER;CN="B'nai Jeshurun":MAILTO:info@bj.org
END:VEVENT
BEGIN:VEVENT
DTSTART;TZID=America/New_York:20240327T201500
DTEND;TZID=America/New_York:20240327T213000
DTSTAMP:20260423T120819
CREATED:20231221T023635Z
LAST-MODIFIED:20240516T192955Z
UID:10009587-1711570500-1711575000@bj.org
SUMMARY:Parenting as a Spiritual Practice with Rabbi Becca Weintraub
DESCRIPTION:
URL:https://bj.org/event/parenting-as-a-spiritual-practice-with-rabbi-becca-weintraub-4/2024-03-27/
LOCATION:Remote Access Only\, NY\, United States
CATEGORIES:Classes
ATTACH;FMTTYPE=image/jpeg:https://bj.org/wp-content/uploads/2019/10/1905-0290-e1573507444251.jpg
ORGANIZER;CN="B'nai Jeshurun":MAILTO:info@bj.org
END:VEVENT
BEGIN:VEVENT
DTSTART;TZID=America/New_York:20240327T183000
DTEND;TZID=America/New_York:20240327T190000
DTSTAMP:20260423T120819
CREATED:20240305T152921Z
LAST-MODIFIED:20240313T165724Z
UID:10010159-1711564200-1711566000@bj.org
SUMMARY:Minha-Arvit (Online)
DESCRIPTION:
URL:https://bj.org/event/minha-arvit-online-4/2024-03-27/
LOCATION:Remote Access Only\, NY\, United States
CATEGORIES:Services,Featured in Next Service
ATTACH;FMTTYPE=image/jpeg:https://bj.org/wp-content/uploads/2023/01/1905-0258.jpg
ORGANIZER;CN="B'nai Jeshurun":MAILTO:info@bj.org
END:VEVENT
BEGIN:VEVENT
DTSTART;TZID=America/New_York:20240327T083000
DTEND;TZID=America/New_York:20240327T091500
DTSTAMP:20260423T120819
CREATED:20221215T212948Z
LAST-MODIFIED:20260415T133805Z
UID:10019634-1711528200-1711530900@bj.org
SUMMARY:Jewish Meditation with Rabbi Shuli Passow
DESCRIPTION:
URL:https://bj.org/event/jewish-meditation-with-rabbi-shuli-passow-3/2024-03-27/
LOCATION:Remote Access Only\, NY\, United States
CATEGORIES:Classes
ATTACH;FMTTYPE=image/jpeg:https://bj.org/wp-content/uploads/2022/12/Daily-Meditation-Shuli-Image.jpg
ORGANIZER;CN="B'nai Jeshurun":MAILTO:info@bj.org
END:VEVENT
BEGIN:VEVENT
DTSTART;TZID=America/New_York:20240327T080000
DTEND;TZID=America/New_York:20240327T090000
DTSTAMP:20260423T120819
CREATED:20230920T151927Z
LAST-MODIFIED:20250321T183125Z
UID:10009529-1711526400-1711530000@bj.org
SUMMARY:Shaharit (Online)
DESCRIPTION:
URL:https://bj.org/event/shaharit-online-5/2024-03-27/
LOCATION:Remote Access Only\, NY\, United States
CATEGORIES:Services,Featured in Next Service
ATTACH;FMTTYPE=image/jpeg:https://bj.org/wp-content/uploads/2019/10/1905-0275.jpg
ORGANIZER;CN="B'nai Jeshurun":MAILTO:info@bj.org
END:VEVENT
END:VCALENDAR