BEGIN:VCALENDAR
VERSION:2.0
PRODID:-//B&#039;nai Jeshurun - ECPv6.15.20//NONSGML v1.0//EN
CALSCALE:GREGORIAN
METHOD:PUBLISH
X-ORIGINAL-URL:https://bj.org
X-WR-CALDESC:Events for B&#039;nai Jeshurun
REFRESH-INTERVAL;VALUE=DURATION:PT1H
X-Robots-Tag:noindex
X-PUBLISHED-TTL:PT1H
BEGIN:VTIMEZONE
TZID:America/New_York
BEGIN:DAYLIGHT
TZOFFSETFROM:-0500
TZOFFSETTO:-0400
TZNAME:EDT
DTSTART:20230312T070000
END:DAYLIGHT
BEGIN:STANDARD
TZOFFSETFROM:-0400
TZOFFSETTO:-0500
TZNAME:EST
DTSTART:20231105T060000
END:STANDARD
BEGIN:DAYLIGHT
TZOFFSETFROM:-0500
TZOFFSETTO:-0400
TZNAME:EDT
DTSTART:20240310T070000
END:DAYLIGHT
BEGIN:STANDARD
TZOFFSETFROM:-0400
TZOFFSETTO:-0500
TZNAME:EST
DTSTART:20241103T060000
END:STANDARD
BEGIN:DAYLIGHT
TZOFFSETFROM:-0500
TZOFFSETTO:-0400
TZNAME:EDT
DTSTART:20250309T070000
END:DAYLIGHT
BEGIN:STANDARD
TZOFFSETFROM:-0400
TZOFFSETTO:-0500
TZNAME:EST
DTSTART:20251102T060000
END:STANDARD
END:VTIMEZONE
BEGIN:VEVENT
DTSTART;TZID=America/New_York:20240418T154500
DTEND;TZID=America/New_York:20240418T164500
DTSTAMP:20260423T104131
CREATED:20221215T210758Z
LAST-MODIFIED:20260203T171538Z
UID:10009620-1713455100-1713458700@bj.org
SUMMARY:A Taste of Talmud: Daf Yomi with Rabbi Shuli Passow
DESCRIPTION:
URL:https://bj.org/event/a-taste-of-talmud-daf-yomi-with-rabbi-shuli-passow/2024-04-18/
LOCATION:Remote Access Only\, NY\, United States
CATEGORIES:Classes
ATTACH;FMTTYPE=image/png:https://bj.org/wp-content/uploads/2022/12/Daf-Yomi-Shuli-1.png
ORGANIZER;CN="B'nai Jeshurun":MAILTO:info@bj.org
END:VEVENT
BEGIN:VEVENT
DTSTART;TZID=America/New_York:20240417T191500
DTEND;TZID=America/New_York:20240417T203000
DTSTAMP:20260423T104131
CREATED:20240313T202519Z
LAST-MODIFIED:20240410T202324Z
UID:10011398-1713381300-1713385800@bj.org
SUMMARY:Preparing for Pesah from the Inside Out
DESCRIPTION:
URL:https://bj.org/event/preparing-for-pesah-from-the-inside-out/
LOCATION:Remote Access Only\, NY\, United States
CATEGORIES:Pesah Programs,Classes,Holidays
ATTACH;FMTTYPE=image/jpeg:https://bj.org/wp-content/uploads/2023/06/98fbde7f-41c9-b4e6-924f-400531957eca.jpg
ORGANIZER;CN="B'nai Jeshurun":MAILTO:info@bj.org
END:VEVENT
BEGIN:VEVENT
DTSTART;TZID=America/New_York:20240417T183000
DTEND;TZID=America/New_York:20240417T190000
DTSTAMP:20260423T104131
CREATED:20240401T153909Z
LAST-MODIFIED:20240416T185750Z
UID:10010171-1713378600-1713380400@bj.org
SUMMARY:Minha-Arvit (Online)
DESCRIPTION:
URL:https://bj.org/event/minha-arvit-online-4-2/2024-04-17/
LOCATION:Remote Access Only\, NY\, United States
CATEGORIES:Services,Featured in Next Service
ATTACH;FMTTYPE=image/jpeg:https://bj.org/wp-content/uploads/2023/01/1905-0258.jpg
ORGANIZER;CN="B'nai Jeshurun":MAILTO:info@bj.org
END:VEVENT
BEGIN:VEVENT
DTSTART;TZID=America/New_York:20240417T160000
DTEND;TZID=America/New_York:20240417T170000
DTSTAMP:20260423T104131
CREATED:20240116T212250Z
LAST-MODIFIED:20240311T133817Z
UID:10009783-1713369600-1713373200@bj.org
SUMMARY:Building Resiliency in Later Life
DESCRIPTION:
URL:https://bj.org/event/building-resiliency-in-later-life/2024-04-17/
LOCATION:Remote Access Only\, NY\, United States
CATEGORIES:Events
ATTACH;FMTTYPE=image/jpeg:https://bj.org/wp-content/uploads/2023/08/1905-0426.jpeg
ORGANIZER;CN="B'nai Jeshurun":MAILTO:info@bj.org
END:VEVENT
BEGIN:VEVENT
DTSTART;TZID=America/New_York:20240417T123000
DTEND;TZID=America/New_York:20240417T133000
DTSTAMP:20260423T104131
CREATED:20240405T161350Z
LAST-MODIFIED:20240409T185605Z
UID:10011491-1713357000-1713360600@bj.org
SUMMARY:Israeli Poetry in the Wake of October 7
DESCRIPTION:
URL:https://bj.org/event/israeli-poetry-in-the-wake-of-october-7/
LOCATION:Remote Access Only\, NY\, United States
CATEGORIES:Events,Featured on Home Page,Israel Solidarity
ATTACH;FMTTYPE=image/png:https://bj.org/wp-content/uploads/2024/04/Israel-at-76-April-17.png
ORGANIZER;CN="B'nai Jeshurun":MAILTO:info@bj.org
END:VEVENT
BEGIN:VEVENT
DTSTART;TZID=America/New_York:20240417T084500
DTEND;TZID=America/New_York:20240417T093000
DTSTAMP:20260423T104131
CREATED:20240313T150128Z
LAST-MODIFIED:20240409T184427Z
UID:10009689-1713343500-1713346200@bj.org
SUMMARY:Jewish Meditation with Rabbi Deena Cowans
DESCRIPTION:
URL:https://bj.org/event/jewish-meditation-with-rabbi-shuli-passow-3-3/
LOCATION:Remote Access Only\, NY\, United States
CATEGORIES:Classes
ATTACH;FMTTYPE=image/jpeg:https://bj.org/wp-content/uploads/2022/12/Daily-Meditation-Shuli-Image.jpg
ORGANIZER;CN="B'nai Jeshurun":MAILTO:info@bj.org
END:VEVENT
BEGIN:VEVENT
DTSTART;TZID=America/New_York:20240417T080000
DTEND;TZID=America/New_York:20240417T090000
DTSTAMP:20260423T104131
CREATED:20230920T151927Z
LAST-MODIFIED:20250321T183125Z
UID:10010031-1713340800-1713344400@bj.org
SUMMARY:Shaharit (Online)
DESCRIPTION:
URL:https://bj.org/event/shaharit-online-5/2024-04-17/
LOCATION:Remote Access Only\, NY\, United States
CATEGORIES:Services,Featured in Next Service
ATTACH;FMTTYPE=image/jpeg:https://bj.org/wp-content/uploads/2019/10/1905-0275.jpg
ORGANIZER;CN="B'nai Jeshurun":MAILTO:info@bj.org
END:VEVENT
BEGIN:VEVENT
DTSTART;TZID=America/New_York:20240416T183000
DTEND;TZID=America/New_York:20240416T190000
DTSTAMP:20260423T104131
CREATED:20240401T153909Z
LAST-MODIFIED:20240416T185750Z
UID:10010170-1713292200-1713294000@bj.org
SUMMARY:Minha-Arvit (Online)
DESCRIPTION:
URL:https://bj.org/event/minha-arvit-online-4-2/2024-04-16/
LOCATION:Remote Access Only\, NY\, United States
CATEGORIES:Services,Featured in Next Service
ATTACH;FMTTYPE=image/jpeg:https://bj.org/wp-content/uploads/2023/01/1905-0258.jpg
ORGANIZER;CN="B'nai Jeshurun":MAILTO:info@bj.org
END:VEVENT
BEGIN:VEVENT
DTSTART;TZID=America/New_York:20240416T173000
DTEND;TZID=America/New_York:20240416T181500
DTSTAMP:20260423T104131
CREATED:20230302T235540Z
LAST-MODIFIED:20260313T190025Z
UID:10011412-1713288600-1713291300@bj.org
SUMMARY:Mindfulness Prayer Practice Group
DESCRIPTION:
URL:https://bj.org/event/mindful-prayer-havurah/2024-04-16/
LOCATION:Remote Access Only\, NY\, United States
CATEGORIES:Classes
ATTACH;FMTTYPE=image/jpeg:https://bj.org/wp-content/uploads/2023/01/1905-0272-2048x1152-1.jpeg
ORGANIZER;CN="B'nai Jeshurun":MAILTO:info@bj.org
END:VEVENT
BEGIN:VEVENT
DTSTART;TZID=America/New_York:20240416T080000
DTEND;TZID=America/New_York:20240416T090000
DTSTAMP:20260423T104131
CREATED:20230920T151927Z
LAST-MODIFIED:20250321T183125Z
UID:10010030-1713254400-1713258000@bj.org
SUMMARY:Shaharit (Online)
DESCRIPTION:
URL:https://bj.org/event/shaharit-online-5/2024-04-16/
LOCATION:Remote Access Only\, NY\, United States
CATEGORIES:Services,Featured in Next Service
ATTACH;FMTTYPE=image/jpeg:https://bj.org/wp-content/uploads/2019/10/1905-0275.jpg
ORGANIZER;CN="B'nai Jeshurun":MAILTO:info@bj.org
END:VEVENT
BEGIN:VEVENT
DTSTART;TZID=America/New_York:20240415T193000
DTEND;TZID=America/New_York:20240415T203000
DTSTAMP:20260423T104131
CREATED:20210311T194417Z
LAST-MODIFIED:20260330T193129Z
UID:10007445-1713209400-1713213000@bj.org
SUMMARY:Connections Cocktail Hour
DESCRIPTION:
URL:https://bj.org/event/connections-cocktail-hour-2/2024-04-15/
LOCATION:Remote Access Only\, NY\, United States
CATEGORIES:Events
ATTACH;FMTTYPE=image/jpeg:https://bj.org/wp-content/uploads/2022/04/best-italian-cocktails.jpg
ORGANIZER;CN="B'nai Jeshurun":MAILTO:info@bj.org
END:VEVENT
BEGIN:VEVENT
DTSTART;TZID=America/New_York:20240415T190000
DTEND;TZID=America/New_York:20240415T201500
DTSTAMP:20260423T104131
CREATED:20240308T160909Z
LAST-MODIFIED:20240409T184311Z
UID:10010209-1713207600-1713212100@bj.org
SUMMARY:Empty Chair at the Seder—A Pre-Pesah Bereavement Group
DESCRIPTION:
URL:https://bj.org/event/empty-chair-at-the-seder-a-pre-pesah-bereavement-group-3/
LOCATION:Remote Access Only\, NY\, United States
CATEGORIES:Pesah Programs,Events,Featured on Home Page,Holidays
ATTACH;FMTTYPE=image/jpeg:https://bj.org/wp-content/uploads/2021/03/Screen-Shot-2021-03-16-at-12.41.20-PM.jpg
ORGANIZER;CN="B'nai Jeshurun":MAILTO:info@bj.org
END:VEVENT
BEGIN:VEVENT
DTSTART;TZID=America/New_York:20240415T190000
DTEND;TZID=America/New_York:20240415T200000
DTSTAMP:20260423T104131
CREATED:20240410T143056Z
LAST-MODIFIED:20240410T143058Z
UID:10011403-1713207600-1713211200@bj.org
SUMMARY:Prayer: Back to the Basics (Online)
DESCRIPTION:
URL:https://bj.org/event/prayer-back-to-the-basics-online-3/
LOCATION:Remote Access Only\, NY\, United States
CATEGORIES:Classes
ATTACH;FMTTYPE=image/jpeg:https://bj.org/wp-content/uploads/2019/10/1905-0068.jpg
ORGANIZER;CN="B'nai Jeshurun":MAILTO:info@bj.org
END:VEVENT
BEGIN:VEVENT
DTSTART;TZID=America/New_York:20240415T183000
DTEND;TZID=America/New_York:20240415T190000
DTSTAMP:20260423T104131
CREATED:20240401T153909Z
LAST-MODIFIED:20240416T185750Z
UID:10010169-1713205800-1713207600@bj.org
SUMMARY:Minha-Arvit (Online)
DESCRIPTION:
URL:https://bj.org/event/minha-arvit-online-4-2/2024-04-15/
LOCATION:Remote Access Only\, NY\, United States
CATEGORIES:Services,Featured in Next Service
ATTACH;FMTTYPE=image/jpeg:https://bj.org/wp-content/uploads/2023/01/1905-0258.jpg
ORGANIZER;CN="B'nai Jeshurun":MAILTO:info@bj.org
END:VEVENT
BEGIN:VEVENT
DTSTART;TZID=America/New_York:20240414T183000
DTEND;TZID=America/New_York:20240414T190000
DTSTAMP:20260423T104131
CREATED:20240401T153909Z
LAST-MODIFIED:20240416T185750Z
UID:10010168-1713119400-1713121200@bj.org
SUMMARY:Minha-Arvit (Online)
DESCRIPTION:
URL:https://bj.org/event/minha-arvit-online-4-2/2024-04-14/
LOCATION:Remote Access Only\, NY\, United States
CATEGORIES:Services,Featured in Next Service
ATTACH;FMTTYPE=image/jpeg:https://bj.org/wp-content/uploads/2023/01/1905-0258.jpg
ORGANIZER;CN="B'nai Jeshurun":MAILTO:info@bj.org
END:VEVENT
BEGIN:VEVENT
DTSTART;TZID=America/New_York:20240414T093000
DTEND;TZID=America/New_York:20240414T103000
DTSTAMP:20260423T104131
CREATED:20230926T191607Z
LAST-MODIFIED:20260226T185930Z
UID:10010056-1713087000-1713090600@bj.org
SUMMARY:Shaharit (Online)
DESCRIPTION:
URL:https://bj.org/event/shaharit-sunday/2024-04-14/
LOCATION:Remote Access Only\, NY\, United States
CATEGORIES:Services,Featured in Next Service
ATTACH;FMTTYPE=image/jpeg:https://bj.org/wp-content/uploads/2019/10/1905-0280.jpg
ORGANIZER;CN="B'nai Jeshurun":MAILTO:info@bj.org
END:VEVENT
BEGIN:VEVENT
DTSTART;TZID=America/New_York:20240413T202500
DTEND;TZID=America/New_York:20240413T205000
DTSTAMP:20260423T104131
CREATED:20240102T155619Z
LAST-MODIFIED:20240918T182738Z
UID:10009662-1713039900-1713041400@bj.org
SUMMARY:Arvit and Havdalah
DESCRIPTION:
URL:https://bj.org/event/arvit-and-havdalah-7/2024-04-13/
LOCATION:Remote Access Only\, NY\, United States
CATEGORIES:Services,Featured in Next Service
ATTACH;FMTTYPE=image/jpeg:https://bj.org/wp-content/uploads/2020/03/havdallah-shutterstock_1385831468.jpg
ORGANIZER;CN="B'nai Jeshurun":MAILTO:info@bj.org
END:VEVENT
BEGIN:VEVENT
DTSTART;TZID=America/New_York:20240412T080000
DTEND;TZID=America/New_York:20240412T090000
DTSTAMP:20260423T104131
CREATED:20230920T151927Z
LAST-MODIFIED:20250321T183125Z
UID:10010029-1712908800-1712912400@bj.org
SUMMARY:Shaharit (Online)
DESCRIPTION:
URL:https://bj.org/event/shaharit-online-5/2024-04-12/
LOCATION:Remote Access Only\, NY\, United States
CATEGORIES:Services,Featured in Next Service
ATTACH;FMTTYPE=image/jpeg:https://bj.org/wp-content/uploads/2019/10/1905-0275.jpg
ORGANIZER;CN="B'nai Jeshurun":MAILTO:info@bj.org
END:VEVENT
BEGIN:VEVENT
DTSTART;TZID=America/New_York:20240411T183000
DTEND;TZID=America/New_York:20240411T190000
DTSTAMP:20260423T104131
CREATED:20240401T153909Z
LAST-MODIFIED:20240416T185750Z
UID:10010188-1712860200-1712862000@bj.org
SUMMARY:Minha-Arvit (Online)
DESCRIPTION:
URL:https://bj.org/event/minha-arvit-online-4-2/2024-04-11/
LOCATION:Remote Access Only\, NY\, United States
CATEGORIES:Services,Featured in Next Service
ATTACH;FMTTYPE=image/jpeg:https://bj.org/wp-content/uploads/2023/01/1905-0258.jpg
ORGANIZER;CN="B'nai Jeshurun":MAILTO:info@bj.org
END:VEVENT
BEGIN:VEVENT
DTSTART;TZID=America/New_York:20240410T201500
DTEND;TZID=America/New_York:20240410T213000
DTSTAMP:20260423T104131
CREATED:20240313T193759Z
LAST-MODIFIED:20240401T204842Z
UID:10011397-1712780100-1712784600@bj.org
SUMMARY:How To Lead a Child-Friendly Seder
DESCRIPTION:
URL:https://bj.org/event/how-to-lead-a-child-friendly-seder/
LOCATION:Remote Access Only\, NY\, United States
CATEGORIES:Events,Holidays
ATTACH;FMTTYPE=image/jpeg:https://bj.org/wp-content/uploads/2024/03/Matsa_yeyən_usaqlar_-_1-scaled.jpg
ORGANIZER;CN="B'nai Jeshurun":MAILTO:info@bj.org
END:VEVENT
BEGIN:VEVENT
DTSTART;TZID=America/New_York:20240410T190000
DTEND;TZID=America/New_York:20240410T203000
DTSTAMP:20260423T104131
CREATED:20240404T185801Z
LAST-MODIFIED:20250107T184138Z
UID:10011480-1712775600-1712781000@bj.org
SUMMARY:M'kom Shalom: A Place of Peace
DESCRIPTION:
URL:https://bj.org/event/mkom-shalom-a-place-of-peace-3/2024-04-10/
LOCATION:Remote Access Only\, NY\, United States
CATEGORIES:Events
ATTACH;FMTTYPE=image/jpeg:https://bj.org/wp-content/uploads/2021/01/aniket-bhattacharya-CgyrwbE6Hm4-unsplash-scaled.jpg
ORGANIZER;CN="B'nai Jeshurun":MAILTO:info@bj.org
END:VEVENT
BEGIN:VEVENT
DTSTART;TZID=America/New_York:20240410T183000
DTEND;TZID=America/New_York:20240410T190000
DTSTAMP:20260423T104131
CREATED:20240401T153909Z
LAST-MODIFIED:20240416T185750Z
UID:10010167-1712773800-1712775600@bj.org
SUMMARY:Minha-Arvit (Online)
DESCRIPTION:
URL:https://bj.org/event/minha-arvit-online-4-2/2024-04-10/
LOCATION:Remote Access Only\, NY\, United States
CATEGORIES:Services,Featured in Next Service
ATTACH;FMTTYPE=image/jpeg:https://bj.org/wp-content/uploads/2023/01/1905-0258.jpg
ORGANIZER;CN="B'nai Jeshurun":MAILTO:info@bj.org
END:VEVENT
BEGIN:VEVENT
DTSTART;TZID=America/New_York:20240410T160000
DTEND;TZID=America/New_York:20240410T170000
DTSTAMP:20260423T104131
CREATED:20240116T212250Z
LAST-MODIFIED:20240311T133817Z
UID:10009782-1712764800-1712768400@bj.org
SUMMARY:Building Resiliency in Later Life
DESCRIPTION:
URL:https://bj.org/event/building-resiliency-in-later-life/2024-04-10/
LOCATION:Remote Access Only\, NY\, United States
CATEGORIES:Events
ATTACH;FMTTYPE=image/jpeg:https://bj.org/wp-content/uploads/2023/08/1905-0426.jpeg
ORGANIZER;CN="B'nai Jeshurun":MAILTO:info@bj.org
END:VEVENT
BEGIN:VEVENT
DTSTART;TZID=America/New_York:20240410T080000
DTEND;TZID=America/New_York:20240410T090000
DTSTAMP:20260423T104131
CREATED:20230920T151927Z
LAST-MODIFIED:20250321T183125Z
UID:10010028-1712736000-1712739600@bj.org
SUMMARY:Shaharit (Online)
DESCRIPTION:
URL:https://bj.org/event/shaharit-online-5/2024-04-10/
LOCATION:Remote Access Only\, NY\, United States
CATEGORIES:Services,Featured in Next Service
ATTACH;FMTTYPE=image/jpeg:https://bj.org/wp-content/uploads/2019/10/1905-0275.jpg
ORGANIZER;CN="B'nai Jeshurun":MAILTO:info@bj.org
END:VEVENT
BEGIN:VEVENT
DTSTART;TZID=America/New_York:20240409T183000
DTEND;TZID=America/New_York:20240409T190000
DTSTAMP:20260423T104131
CREATED:20240401T153909Z
LAST-MODIFIED:20240416T185750Z
UID:10010166-1712687400-1712689200@bj.org
SUMMARY:Minha-Arvit (Online)
DESCRIPTION:
URL:https://bj.org/event/minha-arvit-online-4-2/2024-04-09/
LOCATION:Remote Access Only\, NY\, United States
CATEGORIES:Services,Featured in Next Service
ATTACH;FMTTYPE=image/jpeg:https://bj.org/wp-content/uploads/2023/01/1905-0258.jpg
ORGANIZER;CN="B'nai Jeshurun":MAILTO:info@bj.org
END:VEVENT
BEGIN:VEVENT
DTSTART;TZID=America/New_York:20240409T173000
DTEND;TZID=America/New_York:20240409T181500
DTSTAMP:20260423T104131
CREATED:20230302T235540Z
LAST-MODIFIED:20260313T190025Z
UID:10011411-1712683800-1712686500@bj.org
SUMMARY:Mindfulness Prayer Practice Group
DESCRIPTION:
URL:https://bj.org/event/mindful-prayer-havurah/2024-04-09/
LOCATION:Remote Access Only\, NY\, United States
CATEGORIES:Classes
ATTACH;FMTTYPE=image/jpeg:https://bj.org/wp-content/uploads/2023/01/1905-0272-2048x1152-1.jpeg
ORGANIZER;CN="B'nai Jeshurun":MAILTO:info@bj.org
END:VEVENT
BEGIN:VEVENT
DTSTART;TZID=America/New_York:20240408T193000
DTEND;TZID=America/New_York:20240408T203000
DTSTAMP:20260423T104131
CREATED:20210311T194417Z
LAST-MODIFIED:20260330T193129Z
UID:10007444-1712604600-1712608200@bj.org
SUMMARY:Connections Cocktail Hour
DESCRIPTION:
URL:https://bj.org/event/connections-cocktail-hour-2/2024-04-08/
LOCATION:Remote Access Only\, NY\, United States
CATEGORIES:Events
ATTACH;FMTTYPE=image/jpeg:https://bj.org/wp-content/uploads/2022/04/best-italian-cocktails.jpg
ORGANIZER;CN="B'nai Jeshurun":MAILTO:info@bj.org
END:VEVENT
BEGIN:VEVENT
DTSTART;TZID=America/New_York:20240408T183000
DTEND;TZID=America/New_York:20240408T190000
DTSTAMP:20260423T104131
CREATED:20240401T153909Z
LAST-MODIFIED:20240416T185750Z
UID:10010165-1712601000-1712602800@bj.org
SUMMARY:Minha-Arvit (Online)
DESCRIPTION:
URL:https://bj.org/event/minha-arvit-online-4-2/2024-04-08/
LOCATION:Remote Access Only\, NY\, United States
CATEGORIES:Services,Featured in Next Service
ATTACH;FMTTYPE=image/jpeg:https://bj.org/wp-content/uploads/2023/01/1905-0258.jpg
ORGANIZER;CN="B'nai Jeshurun":MAILTO:info@bj.org
END:VEVENT
BEGIN:VEVENT
DTSTART;TZID=America/New_York:20240407T183000
DTEND;TZID=America/New_York:20240407T190000
DTSTAMP:20260423T104131
CREATED:20240401T153909Z
LAST-MODIFIED:20240416T185750Z
UID:10010164-1712514600-1712516400@bj.org
SUMMARY:Minha-Arvit (Online)
DESCRIPTION:
URL:https://bj.org/event/minha-arvit-online-4-2/2024-04-07/
LOCATION:Remote Access Only\, NY\, United States
CATEGORIES:Services,Featured in Next Service
ATTACH;FMTTYPE=image/jpeg:https://bj.org/wp-content/uploads/2023/01/1905-0258.jpg
ORGANIZER;CN="B'nai Jeshurun":MAILTO:info@bj.org
END:VEVENT
BEGIN:VEVENT
DTSTART;TZID=America/New_York:20240407T093000
DTEND;TZID=America/New_York:20240407T103000
DTSTAMP:20260423T104131
CREATED:20230926T191607Z
LAST-MODIFIED:20260226T185930Z
UID:10010055-1712482200-1712485800@bj.org
SUMMARY:Shaharit (Online)
DESCRIPTION:
URL:https://bj.org/event/shaharit-sunday/2024-04-07/
LOCATION:Remote Access Only\, NY\, United States
CATEGORIES:Services,Featured in Next Service
ATTACH;FMTTYPE=image/jpeg:https://bj.org/wp-content/uploads/2019/10/1905-0280.jpg
ORGANIZER;CN="B'nai Jeshurun":MAILTO:info@bj.org
END:VEVENT
END:VCALENDAR