BEGIN:VCALENDAR
VERSION:2.0
PRODID:-//B&#039;nai Jeshurun - ECPv6.15.20//NONSGML v1.0//EN
CALSCALE:GREGORIAN
METHOD:PUBLISH
X-WR-CALNAME:B&#039;nai Jeshurun
X-ORIGINAL-URL:https://bj.org
X-WR-CALDESC:Events for B&#039;nai Jeshurun
REFRESH-INTERVAL;VALUE=DURATION:PT1H
X-Robots-Tag:noindex
X-PUBLISHED-TTL:PT1H
BEGIN:VTIMEZONE
TZID:America/New_York
BEGIN:DAYLIGHT
TZOFFSETFROM:-0500
TZOFFSETTO:-0400
TZNAME:EDT
DTSTART:20230312T070000
END:DAYLIGHT
BEGIN:STANDARD
TZOFFSETFROM:-0400
TZOFFSETTO:-0500
TZNAME:EST
DTSTART:20231105T060000
END:STANDARD
BEGIN:DAYLIGHT
TZOFFSETFROM:-0500
TZOFFSETTO:-0400
TZNAME:EDT
DTSTART:20240310T070000
END:DAYLIGHT
BEGIN:STANDARD
TZOFFSETFROM:-0400
TZOFFSETTO:-0500
TZNAME:EST
DTSTART:20241103T060000
END:STANDARD
BEGIN:DAYLIGHT
TZOFFSETFROM:-0500
TZOFFSETTO:-0400
TZNAME:EDT
DTSTART:20250309T070000
END:DAYLIGHT
BEGIN:STANDARD
TZOFFSETFROM:-0400
TZOFFSETTO:-0500
TZNAME:EST
DTSTART:20251102T060000
END:STANDARD
END:VTIMEZONE
BEGIN:VEVENT
DTSTART;TZID=America/New_York:20240507T173000
DTEND;TZID=America/New_York:20240507T181500
DTSTAMP:20260423T083332
CREATED:20230302T235540Z
LAST-MODIFIED:20260313T190025Z
UID:10011415-1715103000-1715105700@bj.org
SUMMARY:Mindfulness Prayer Practice Group
DESCRIPTION:
URL:https://bj.org/event/mindful-prayer-havurah/2024-05-07/
LOCATION:Remote Access Only\, NY\, United States
CATEGORIES:Classes
ATTACH;FMTTYPE=image/jpeg:https://bj.org/wp-content/uploads/2023/01/1905-0272-2048x1152-1.jpeg
ORGANIZER;CN="B'nai Jeshurun":MAILTO:info@bj.org
END:VEVENT
BEGIN:VEVENT
DTSTART;TZID=America/New_York:20240507T080000
DTEND;TZID=America/New_York:20240507T090000
DTSTAMP:20260423T083332
CREATED:20230920T151927Z
LAST-MODIFIED:20250321T183125Z
UID:10010035-1715068800-1715072400@bj.org
SUMMARY:Shaharit (Online)
DESCRIPTION:
URL:https://bj.org/event/shaharit-online-5/2024-05-07/
LOCATION:Remote Access Only\, NY\, United States
CATEGORIES:Services,Featured in Next Service
ATTACH;FMTTYPE=image/jpeg:https://bj.org/wp-content/uploads/2019/10/1905-0275.jpg
ORGANIZER;CN="B'nai Jeshurun":MAILTO:info@bj.org
END:VEVENT
BEGIN:VEVENT
DTSTART;TZID=America/New_York:20240506T193000
DTEND;TZID=America/New_York:20240506T203000
DTSTAMP:20260423T083332
CREATED:20210311T194417Z
LAST-MODIFIED:20260330T193129Z
UID:10007448-1715023800-1715027400@bj.org
SUMMARY:Connections Cocktail Hour
DESCRIPTION:
URL:https://bj.org/event/connections-cocktail-hour-2/2024-05-06/
LOCATION:Remote Access Only\, NY\, United States
CATEGORIES:Events
ATTACH;FMTTYPE=image/jpeg:https://bj.org/wp-content/uploads/2022/04/best-italian-cocktails.jpg
ORGANIZER;CN="B'nai Jeshurun":MAILTO:info@bj.org
END:VEVENT
BEGIN:VEVENT
DTSTART;TZID=America/New_York:20240506T183000
DTEND;TZID=America/New_York:20240506T191500
DTSTAMP:20260423T083332
CREATED:20240416T190346Z
LAST-MODIFIED:20240418T175140Z
UID:10011567-1715020200-1715022900@bj.org
SUMMARY:Minha-Arvit (Online)
DESCRIPTION:
URL:https://bj.org/event/minha-arvit-online-5-2-2/2024-05-06/
LOCATION:Remote Access Only\, NY\, United States
CATEGORIES:Services,Featured in Next Service
ATTACH;FMTTYPE=image/jpeg:https://bj.org/wp-content/uploads/2024/03/1905-0258-2048x1536-1.jpg
ORGANIZER;CN="B'nai Jeshurun":MAILTO:info@bj.org
END:VEVENT
BEGIN:VEVENT
DTSTART;TZID=America/New_York:20240505T183000
DTEND;TZID=America/New_York:20240505T191500
DTSTAMP:20260423T083332
CREATED:20240416T190346Z
LAST-MODIFIED:20240418T175140Z
UID:10011571-1714933800-1714936500@bj.org
SUMMARY:Minha-Arvit (Online)
DESCRIPTION:
URL:https://bj.org/event/minha-arvit-online-5-2-2/2024-05-05/
LOCATION:Remote Access Only\, NY\, United States
CATEGORIES:Services,Featured in Next Service
ATTACH;FMTTYPE=image/jpeg:https://bj.org/wp-content/uploads/2024/03/1905-0258-2048x1536-1.jpg
ORGANIZER;CN="B'nai Jeshurun":MAILTO:info@bj.org
END:VEVENT
BEGIN:VEVENT
DTSTART;TZID=America/New_York:20240505T093000
DTEND;TZID=America/New_York:20240505T103000
DTSTAMP:20260423T083332
CREATED:20230926T191607Z
LAST-MODIFIED:20260226T185930Z
UID:10010058-1714901400-1714905000@bj.org
SUMMARY:Shaharit (Online)
DESCRIPTION:
URL:https://bj.org/event/shaharit-sunday/2024-05-05/
LOCATION:Remote Access Only\, NY\, United States
CATEGORIES:Services,Featured in Next Service
ATTACH;FMTTYPE=image/jpeg:https://bj.org/wp-content/uploads/2019/10/1905-0280.jpg
ORGANIZER;CN="B'nai Jeshurun":MAILTO:info@bj.org
END:VEVENT
BEGIN:VEVENT
DTSTART;TZID=America/New_York:20240504T205000
DTEND;TZID=America/New_York:20240504T211500
DTSTAMP:20260423T083332
CREATED:20240102T155619Z
LAST-MODIFIED:20240918T182738Z
UID:10009982-1714855800-1714857300@bj.org
SUMMARY:Arvit and Havdalah
DESCRIPTION:
URL:https://bj.org/event/arvit-and-havdalah-7/2024-05-04/
LOCATION:Remote Access Only\, NY\, United States
CATEGORIES:Services,Featured in Next Service
ATTACH;FMTTYPE=image/jpeg:https://bj.org/wp-content/uploads/2020/03/havdallah-shutterstock_1385831468.jpg
ORGANIZER;CN="B'nai Jeshurun":MAILTO:info@bj.org
END:VEVENT
BEGIN:VEVENT
DTSTART;TZID=America/New_York:20240503T080000
DTEND;TZID=America/New_York:20240503T090000
DTSTAMP:20260423T083332
CREATED:20230920T151927Z
LAST-MODIFIED:20250321T183125Z
UID:10010034-1714723200-1714726800@bj.org
SUMMARY:Shaharit (Online)
DESCRIPTION:
URL:https://bj.org/event/shaharit-online-5/2024-05-03/
LOCATION:Remote Access Only\, NY\, United States
CATEGORIES:Services,Featured in Next Service
ATTACH;FMTTYPE=image/jpeg:https://bj.org/wp-content/uploads/2019/10/1905-0275.jpg
ORGANIZER;CN="B'nai Jeshurun":MAILTO:info@bj.org
END:VEVENT
BEGIN:VEVENT
DTSTART;TZID=America/New_York:20240502T183000
DTEND;TZID=America/New_York:20240502T191500
DTSTAMP:20260423T083332
CREATED:20240416T190346Z
LAST-MODIFIED:20240418T175140Z
UID:10011566-1714674600-1714677300@bj.org
SUMMARY:Minha-Arvit (Online)
DESCRIPTION:
URL:https://bj.org/event/minha-arvit-online-5-2-2/2024-05-02/
LOCATION:Remote Access Only\, NY\, United States
CATEGORIES:Services,Featured in Next Service
ATTACH;FMTTYPE=image/jpeg:https://bj.org/wp-content/uploads/2024/03/1905-0258-2048x1536-1.jpg
ORGANIZER;CN="B'nai Jeshurun":MAILTO:info@bj.org
END:VEVENT
BEGIN:VEVENT
DTSTART;TZID=America/New_York:20240502T154500
DTEND;TZID=America/New_York:20240502T164500
DTSTAMP:20260423T083332
CREATED:20221215T210758Z
LAST-MODIFIED:20260203T171538Z
UID:10009622-1714664700-1714668300@bj.org
SUMMARY:A Taste of Talmud: Daf Yomi with Rabbi Shuli Passow
DESCRIPTION:
URL:https://bj.org/event/a-taste-of-talmud-daf-yomi-with-rabbi-shuli-passow/2024-05-02/
LOCATION:Remote Access Only\, NY\, United States
CATEGORIES:Classes
ATTACH;FMTTYPE=image/png:https://bj.org/wp-content/uploads/2022/12/Daf-Yomi-Shuli-1.png
ORGANIZER;CN="B'nai Jeshurun":MAILTO:info@bj.org
END:VEVENT
BEGIN:VEVENT
DTSTART;TZID=America/New_York:20240501T201500
DTEND;TZID=America/New_York:20240501T213000
DTSTAMP:20260423T083332
CREATED:20231221T023635Z
LAST-MODIFIED:20240516T192955Z
UID:10008259-1714594500-1714599000@bj.org
SUMMARY:Parenting as a Spiritual Practice with Rabbi Becca Weintraub
DESCRIPTION:
URL:https://bj.org/event/parenting-as-a-spiritual-practice-with-rabbi-becca-weintraub-4/2024-05-01/
LOCATION:Remote Access Only\, NY\, United States
CATEGORIES:Classes
ATTACH;FMTTYPE=image/jpeg:https://bj.org/wp-content/uploads/2019/10/1905-0290-e1573507444251.jpg
ORGANIZER;CN="B'nai Jeshurun":MAILTO:info@bj.org
END:VEVENT
BEGIN:VEVENT
DTSTART;TZID=America/New_York:20240501T183000
DTEND;TZID=America/New_York:20240501T191500
DTSTAMP:20260423T083332
CREATED:20240416T190346Z
LAST-MODIFIED:20240418T175140Z
UID:10011565-1714588200-1714590900@bj.org
SUMMARY:Minha-Arvit (Online)
DESCRIPTION:
URL:https://bj.org/event/minha-arvit-online-5-2-2/2024-05-01/
LOCATION:Remote Access Only\, NY\, United States
CATEGORIES:Services,Featured in Next Service
ATTACH;FMTTYPE=image/jpeg:https://bj.org/wp-content/uploads/2024/03/1905-0258-2048x1536-1.jpg
ORGANIZER;CN="B'nai Jeshurun":MAILTO:info@bj.org
END:VEVENT
BEGIN:VEVENT
DTSTART;TZID=America/New_York:20240501T083000
DTEND;TZID=America/New_York:20240501T091500
DTSTAMP:20260423T083332
CREATED:20221215T212948Z
LAST-MODIFIED:20260415T133805Z
UID:10019636-1714552200-1714554900@bj.org
SUMMARY:Jewish Meditation with Rabbi Shuli Passow
DESCRIPTION:
URL:https://bj.org/event/jewish-meditation-with-rabbi-shuli-passow-3/2024-05-01/
LOCATION:Remote Access Only\, NY\, United States
CATEGORIES:Classes
ATTACH;FMTTYPE=image/jpeg:https://bj.org/wp-content/uploads/2022/12/Daily-Meditation-Shuli-Image.jpg
ORGANIZER;CN="B'nai Jeshurun":MAILTO:info@bj.org
END:VEVENT
BEGIN:VEVENT
DTSTART;TZID=America/New_York:20240501T080000
DTEND;TZID=America/New_York:20240501T090000
DTSTAMP:20260423T083332
CREATED:20230920T151927Z
LAST-MODIFIED:20250321T183125Z
UID:10010033-1714550400-1714554000@bj.org
SUMMARY:Shaharit (Online)
DESCRIPTION:
URL:https://bj.org/event/shaharit-online-5/2024-05-01/
LOCATION:Remote Access Only\, NY\, United States
CATEGORIES:Services,Featured in Next Service
ATTACH;FMTTYPE=image/jpeg:https://bj.org/wp-content/uploads/2019/10/1905-0275.jpg
ORGANIZER;CN="B'nai Jeshurun":MAILTO:info@bj.org
END:VEVENT
BEGIN:VEVENT
DTSTART;TZID=America/New_York:20240430T204500
DTEND;TZID=America/New_York:20240430T211500
DTSTAMP:20260423T083332
CREATED:20240415T205820Z
LAST-MODIFIED:20240416T145244Z
UID:10011563-1714509900-1714511700@bj.org
SUMMARY:Arvit and Havdalah (Online)
DESCRIPTION:
URL:https://bj.org/event/arvit-havdalah-online/2024-04-30/
LOCATION:Remote Access Only\, NY\, United States
CATEGORIES:Services,Featured in Next Service
ATTACH;FMTTYPE=image/jpeg:https://bj.org/wp-content/uploads/2023/01/1905-0258.jpg
ORGANIZER;CN="B'nai Jeshurun":MAILTO:info@bj.org
END:VEVENT
BEGIN:VEVENT
DTSTART;TZID=America/New_York:20240427T204000
DTEND;TZID=America/New_York:20240427T210500
DTSTAMP:20260423T083332
CREATED:20240418T174505Z
LAST-MODIFIED:20250916T171029Z
UID:10011466-1714250400-1714251900@bj.org
SUMMARY:Arvit and Havdalah
DESCRIPTION:
URL:https://bj.org/event/arvit-and-havdalah/2024-04-27/
LOCATION:Remote Access Only\, NY\, United States
CATEGORIES:Services,Featured in Next Service
ATTACH;FMTTYPE=image/jpeg:https://bj.org/wp-content/uploads/2020/03/havdallah-shutterstock_1385831468.jpg
ORGANIZER;CN="B'nai Jeshurun":MAILTO:info@bj.org
END:VEVENT
BEGIN:VEVENT
DTSTART;TZID=America/New_York:20240425T183000
DTEND;TZID=America/New_York:20240425T190000
DTSTAMP:20260423T083332
CREATED:20240401T153909Z
LAST-MODIFIED:20240416T185750Z
UID:10011499-1714069800-1714071600@bj.org
SUMMARY:Minha-Arvit (Online)
DESCRIPTION:
URL:https://bj.org/event/minha-arvit-online-4-2/2024-04-25/
LOCATION:Remote Access Only\, NY\, United States
CATEGORIES:Services,Featured in Next Service
ATTACH;FMTTYPE=image/jpeg:https://bj.org/wp-content/uploads/2023/01/1905-0258.jpg
ORGANIZER;CN="B'nai Jeshurun":MAILTO:info@bj.org
END:VEVENT
BEGIN:VEVENT
DTSTART;TZID=America/New_York:20240425T154500
DTEND;TZID=America/New_York:20240425T164500
DTSTAMP:20260423T083332
CREATED:20221215T210758Z
LAST-MODIFIED:20260203T171538Z
UID:10009621-1714059900-1714063500@bj.org
SUMMARY:A Taste of Talmud: Daf Yomi with Rabbi Shuli Passow
DESCRIPTION:
URL:https://bj.org/event/a-taste-of-talmud-daf-yomi-with-rabbi-shuli-passow/2024-04-25/
LOCATION:Remote Access Only\, NY\, United States
CATEGORIES:Classes
ATTACH;FMTTYPE=image/png:https://bj.org/wp-content/uploads/2022/12/Daf-Yomi-Shuli-1.png
ORGANIZER;CN="B'nai Jeshurun":MAILTO:info@bj.org
END:VEVENT
BEGIN:VEVENT
DTSTART;TZID=America/New_York:20240424T204000
DTEND;TZID=America/New_York:20240424T211000
DTSTAMP:20260423T083332
CREATED:20240415T205820Z
LAST-MODIFIED:20240416T145244Z
UID:10011498-1713991200-1713993000@bj.org
SUMMARY:Arvit and Havdalah (Online)
DESCRIPTION:
URL:https://bj.org/event/arvit-havdalah-online/2024-04-24/
LOCATION:Remote Access Only\, NY\, United States
CATEGORIES:Services,Featured in Next Service
ATTACH;FMTTYPE=image/jpeg:https://bj.org/wp-content/uploads/2023/01/1905-0258.jpg
ORGANIZER;CN="B'nai Jeshurun":MAILTO:info@bj.org
END:VEVENT
BEGIN:VEVENT
DTSTART;TZID=America/New_York:20240421T183000
DTEND;TZID=America/New_York:20240421T190000
DTSTAMP:20260423T083332
CREATED:20240401T153909Z
LAST-MODIFIED:20240416T185750Z
UID:10010172-1713724200-1713726000@bj.org
SUMMARY:Minha-Arvit (Online)
DESCRIPTION:
URL:https://bj.org/event/minha-arvit-online-4-2/2024-04-21/
LOCATION:Remote Access Only\, NY\, United States
CATEGORIES:Services,Featured in Next Service
ATTACH;FMTTYPE=image/jpeg:https://bj.org/wp-content/uploads/2023/01/1905-0258.jpg
ORGANIZER;CN="B'nai Jeshurun":MAILTO:info@bj.org
END:VEVENT
BEGIN:VEVENT
DTSTART;TZID=America/New_York:20240421T093000
DTEND;TZID=America/New_York:20240421T103000
DTSTAMP:20260423T083332
CREATED:20230926T191607Z
LAST-MODIFIED:20260226T185930Z
UID:10010057-1713691800-1713695400@bj.org
SUMMARY:Shaharit (Online)
DESCRIPTION:
URL:https://bj.org/event/shaharit-sunday/2024-04-21/
LOCATION:Remote Access Only\, NY\, United States
CATEGORIES:Services,Featured in Next Service
ATTACH;FMTTYPE=image/jpeg:https://bj.org/wp-content/uploads/2019/10/1905-0280.jpg
ORGANIZER;CN="B'nai Jeshurun":MAILTO:info@bj.org
END:VEVENT
BEGIN:VEVENT
DTSTART;TZID=America/New_York:20240420T203500
DTEND;TZID=America/New_York:20240420T210000
DTSTAMP:20260423T083332
CREATED:20240102T155619Z
LAST-MODIFIED:20240918T182738Z
UID:10009663-1713645300-1713646800@bj.org
SUMMARY:Arvit and Havdalah
DESCRIPTION:
URL:https://bj.org/event/arvit-and-havdalah-7/2024-04-20/
LOCATION:Remote Access Only\, NY\, United States
CATEGORIES:Services,Featured in Next Service
ATTACH;FMTTYPE=image/jpeg:https://bj.org/wp-content/uploads/2020/03/havdallah-shutterstock_1385831468.jpg
ORGANIZER;CN="B'nai Jeshurun":MAILTO:info@bj.org
END:VEVENT
BEGIN:VEVENT
DTSTART;TZID=America/New_York:20240419T080000
DTEND;TZID=America/New_York:20240419T090000
DTSTAMP:20260423T083332
CREATED:20230920T151927Z
LAST-MODIFIED:20250321T183125Z
UID:10010032-1713513600-1713517200@bj.org
SUMMARY:Shaharit (Online)
DESCRIPTION:
URL:https://bj.org/event/shaharit-online-5/2024-04-19/
LOCATION:Remote Access Only\, NY\, United States
CATEGORIES:Services,Featured in Next Service
ATTACH;FMTTYPE=image/jpeg:https://bj.org/wp-content/uploads/2019/10/1905-0275.jpg
ORGANIZER;CN="B'nai Jeshurun":MAILTO:info@bj.org
END:VEVENT
BEGIN:VEVENT
DTSTART;TZID=America/New_York:20240418T190000
DTEND;TZID=America/New_York:20240418T203000
DTSTAMP:20260423T083332
CREATED:20240403T183629Z
LAST-MODIFIED:20240403T183900Z
UID:10008266-1713466800-1713472200@bj.org
SUMMARY:Israeli Authors Discussion Group: Agur Schiff
DESCRIPTION:
URL:https://bj.org/event/israeli-authors-discussion-group-13-7/
LOCATION:Remote Access Only\, NY\, United States
CATEGORIES:Classes
ATTACH;FMTTYPE=image/png:https://bj.org/wp-content/uploads/2024/04/Israeli-author-book-club-3-3.png
ORGANIZER;CN="B'nai Jeshurun":MAILTO:info@bj.org
END:VEVENT
BEGIN:VEVENT
DTSTART;TZID=America/New_York:20240418T183000
DTEND;TZID=America/New_York:20240418T190000
DTSTAMP:20260423T083332
CREATED:20240401T153909Z
LAST-MODIFIED:20240416T185750Z
UID:10010189-1713465000-1713466800@bj.org
SUMMARY:Minha-Arvit (Online)
DESCRIPTION:
URL:https://bj.org/event/minha-arvit-online-4-2/2024-04-18/
LOCATION:Remote Access Only\, NY\, United States
CATEGORIES:Services,Featured in Next Service
ATTACH;FMTTYPE=image/jpeg:https://bj.org/wp-content/uploads/2023/01/1905-0258.jpg
ORGANIZER;CN="B'nai Jeshurun":MAILTO:info@bj.org
END:VEVENT
BEGIN:VEVENT
DTSTART;TZID=America/New_York:20240418T154500
DTEND;TZID=America/New_York:20240418T164500
DTSTAMP:20260423T083332
CREATED:20221215T210758Z
LAST-MODIFIED:20260203T171538Z
UID:10009620-1713455100-1713458700@bj.org
SUMMARY:A Taste of Talmud: Daf Yomi with Rabbi Shuli Passow
DESCRIPTION:
URL:https://bj.org/event/a-taste-of-talmud-daf-yomi-with-rabbi-shuli-passow/2024-04-18/
LOCATION:Remote Access Only\, NY\, United States
CATEGORIES:Classes
ATTACH;FMTTYPE=image/png:https://bj.org/wp-content/uploads/2022/12/Daf-Yomi-Shuli-1.png
ORGANIZER;CN="B'nai Jeshurun":MAILTO:info@bj.org
END:VEVENT
BEGIN:VEVENT
DTSTART;TZID=America/New_York:20240417T191500
DTEND;TZID=America/New_York:20240417T203000
DTSTAMP:20260423T083332
CREATED:20240313T202519Z
LAST-MODIFIED:20240410T202324Z
UID:10011398-1713381300-1713385800@bj.org
SUMMARY:Preparing for Pesah from the Inside Out
DESCRIPTION:
URL:https://bj.org/event/preparing-for-pesah-from-the-inside-out/
LOCATION:Remote Access Only\, NY\, United States
CATEGORIES:Pesah Programs,Classes,Holidays
ATTACH;FMTTYPE=image/jpeg:https://bj.org/wp-content/uploads/2023/06/98fbde7f-41c9-b4e6-924f-400531957eca.jpg
ORGANIZER;CN="B'nai Jeshurun":MAILTO:info@bj.org
END:VEVENT
BEGIN:VEVENT
DTSTART;TZID=America/New_York:20240417T183000
DTEND;TZID=America/New_York:20240417T190000
DTSTAMP:20260423T083332
CREATED:20240401T153909Z
LAST-MODIFIED:20240416T185750Z
UID:10010171-1713378600-1713380400@bj.org
SUMMARY:Minha-Arvit (Online)
DESCRIPTION:
URL:https://bj.org/event/minha-arvit-online-4-2/2024-04-17/
LOCATION:Remote Access Only\, NY\, United States
CATEGORIES:Services,Featured in Next Service
ATTACH;FMTTYPE=image/jpeg:https://bj.org/wp-content/uploads/2023/01/1905-0258.jpg
ORGANIZER;CN="B'nai Jeshurun":MAILTO:info@bj.org
END:VEVENT
BEGIN:VEVENT
DTSTART;TZID=America/New_York:20240417T160000
DTEND;TZID=America/New_York:20240417T170000
DTSTAMP:20260423T083332
CREATED:20240116T212250Z
LAST-MODIFIED:20240311T133817Z
UID:10009783-1713369600-1713373200@bj.org
SUMMARY:Building Resiliency in Later Life
DESCRIPTION:
URL:https://bj.org/event/building-resiliency-in-later-life/2024-04-17/
LOCATION:Remote Access Only\, NY\, United States
CATEGORIES:Events
ATTACH;FMTTYPE=image/jpeg:https://bj.org/wp-content/uploads/2023/08/1905-0426.jpeg
ORGANIZER;CN="B'nai Jeshurun":MAILTO:info@bj.org
END:VEVENT
BEGIN:VEVENT
DTSTART;TZID=America/New_York:20240417T123000
DTEND;TZID=America/New_York:20240417T133000
DTSTAMP:20260423T083332
CREATED:20240405T161350Z
LAST-MODIFIED:20240409T185605Z
UID:10011491-1713357000-1713360600@bj.org
SUMMARY:Israeli Poetry in the Wake of October 7
DESCRIPTION:
URL:https://bj.org/event/israeli-poetry-in-the-wake-of-october-7/
LOCATION:Remote Access Only\, NY\, United States
CATEGORIES:Events,Featured on Home Page,Israel Solidarity
ATTACH;FMTTYPE=image/png:https://bj.org/wp-content/uploads/2024/04/Israel-at-76-April-17.png
ORGANIZER;CN="B'nai Jeshurun":MAILTO:info@bj.org
END:VEVENT
END:VCALENDAR