BEGIN:VCALENDAR
VERSION:2.0
PRODID:-//B&#039;nai Jeshurun - ECPv6.15.20//NONSGML v1.0//EN
CALSCALE:GREGORIAN
METHOD:PUBLISH
X-ORIGINAL-URL:https://bj.org
X-WR-CALDESC:Events for B&#039;nai Jeshurun
REFRESH-INTERVAL;VALUE=DURATION:PT1H
X-Robots-Tag:noindex
X-PUBLISHED-TTL:PT1H
BEGIN:VTIMEZONE
TZID:America/New_York
BEGIN:DAYLIGHT
TZOFFSETFROM:-0500
TZOFFSETTO:-0400
TZNAME:EDT
DTSTART:20230312T070000
END:DAYLIGHT
BEGIN:STANDARD
TZOFFSETFROM:-0400
TZOFFSETTO:-0500
TZNAME:EST
DTSTART:20231105T060000
END:STANDARD
BEGIN:DAYLIGHT
TZOFFSETFROM:-0500
TZOFFSETTO:-0400
TZNAME:EDT
DTSTART:20240310T070000
END:DAYLIGHT
BEGIN:STANDARD
TZOFFSETFROM:-0400
TZOFFSETTO:-0500
TZNAME:EST
DTSTART:20241103T060000
END:STANDARD
BEGIN:DAYLIGHT
TZOFFSETFROM:-0500
TZOFFSETTO:-0400
TZNAME:EDT
DTSTART:20250309T070000
END:DAYLIGHT
BEGIN:STANDARD
TZOFFSETFROM:-0400
TZOFFSETTO:-0500
TZNAME:EST
DTSTART:20251102T060000
END:STANDARD
END:VTIMEZONE
BEGIN:VEVENT
DTSTART;TZID=America/New_York:20240626T080000
DTEND;TZID=America/New_York:20240626T090000
DTSTAMP:20260423T022850
CREATED:20230920T151927Z
LAST-MODIFIED:20250321T183125Z
UID:10010053-1719388800-1719392400@bj.org
SUMMARY:Shaharit (Online)
DESCRIPTION:
URL:https://bj.org/event/shaharit-online-5/2024-06-26/
LOCATION:Remote Access Only\, NY\, United States
CATEGORIES:Services,Featured in Next Service
ATTACH;FMTTYPE=image/jpeg:https://bj.org/wp-content/uploads/2019/10/1905-0275.jpg
ORGANIZER;CN="B'nai Jeshurun":MAILTO:info@bj.org
END:VEVENT
BEGIN:VEVENT
DTSTART;TZID=America/New_York:20240625T183000
DTEND;TZID=America/New_York:20240625T185000
DTSTAMP:20260423T022850
CREATED:20240313T165444Z
LAST-MODIFIED:20240916T182913Z
UID:10011084-1719340200-1719341400@bj.org
SUMMARY:Minha (Online)
DESCRIPTION:
URL:https://bj.org/event/minha-online-2/2024-06-25/
LOCATION:Remote Access Only\, NY\, United States
CATEGORIES:Services,Featured in Next Service
ATTACH;FMTTYPE=image/jpeg:https://bj.org/wp-content/uploads/2024/03/1905-0258-2048x1536-1.jpg
ORGANIZER;CN="B'nai Jeshurun":MAILTO:info@bj.org
END:VEVENT
BEGIN:VEVENT
DTSTART;TZID=America/New_York:20240625T173000
DTEND;TZID=America/New_York:20240625T181500
DTSTAMP:20260423T022850
CREATED:20230302T235540Z
LAST-MODIFIED:20260313T190025Z
UID:10011422-1719336600-1719339300@bj.org
SUMMARY:Mindfulness Prayer Practice Group
DESCRIPTION:
URL:https://bj.org/event/mindful-prayer-havurah/2024-06-25/
LOCATION:Remote Access Only\, NY\, United States
CATEGORIES:Classes
ATTACH;FMTTYPE=image/jpeg:https://bj.org/wp-content/uploads/2023/01/1905-0272-2048x1152-1.jpeg
ORGANIZER;CN="B'nai Jeshurun":MAILTO:info@bj.org
END:VEVENT
BEGIN:VEVENT
DTSTART;TZID=America/New_York:20240625T080000
DTEND;TZID=America/New_York:20240625T090000
DTSTAMP:20260423T022850
CREATED:20230920T151927Z
LAST-MODIFIED:20250321T183125Z
UID:10010052-1719302400-1719306000@bj.org
SUMMARY:Shaharit (Online)
DESCRIPTION:
URL:https://bj.org/event/shaharit-online-5/2024-06-25/
LOCATION:Remote Access Only\, NY\, United States
CATEGORIES:Services,Featured in Next Service
ATTACH;FMTTYPE=image/jpeg:https://bj.org/wp-content/uploads/2019/10/1905-0275.jpg
ORGANIZER;CN="B'nai Jeshurun":MAILTO:info@bj.org
END:VEVENT
BEGIN:VEVENT
DTSTART;TZID=America/New_York:20240624T193000
DTEND;TZID=America/New_York:20240624T203000
DTSTAMP:20260423T022850
CREATED:20210311T194417Z
LAST-MODIFIED:20260330T193129Z
UID:10007455-1719257400-1719261000@bj.org
SUMMARY:Connections Cocktail Hour
DESCRIPTION:
URL:https://bj.org/event/connections-cocktail-hour-2/2024-06-24/
LOCATION:Remote Access Only\, NY\, United States
CATEGORIES:Events
ATTACH;FMTTYPE=image/jpeg:https://bj.org/wp-content/uploads/2022/04/best-italian-cocktails.jpg
ORGANIZER;CN="B'nai Jeshurun":MAILTO:info@bj.org
END:VEVENT
BEGIN:VEVENT
DTSTART;TZID=America/New_York:20240624T183000
DTEND;TZID=America/New_York:20240624T185000
DTSTAMP:20260423T022850
CREATED:20240313T165444Z
LAST-MODIFIED:20240916T182913Z
UID:10011083-1719253800-1719255000@bj.org
SUMMARY:Minha (Online)
DESCRIPTION:
URL:https://bj.org/event/minha-online-2/2024-06-24/
LOCATION:Remote Access Only\, NY\, United States
CATEGORIES:Services,Featured in Next Service
ATTACH;FMTTYPE=image/jpeg:https://bj.org/wp-content/uploads/2024/03/1905-0258-2048x1536-1.jpg
ORGANIZER;CN="B'nai Jeshurun":MAILTO:info@bj.org
END:VEVENT
BEGIN:VEVENT
DTSTART;TZID=America/New_York:20240623T183000
DTEND;TZID=America/New_York:20240623T185000
DTSTAMP:20260423T022850
CREATED:20240313T165444Z
LAST-MODIFIED:20240916T182913Z
UID:10011082-1719167400-1719168600@bj.org
SUMMARY:Minha (Online)
DESCRIPTION:
URL:https://bj.org/event/minha-online-2/2024-06-23/
LOCATION:Remote Access Only\, NY\, United States
CATEGORIES:Services,Featured in Next Service
ATTACH;FMTTYPE=image/jpeg:https://bj.org/wp-content/uploads/2024/03/1905-0258-2048x1536-1.jpg
ORGANIZER;CN="B'nai Jeshurun":MAILTO:info@bj.org
END:VEVENT
BEGIN:VEVENT
DTSTART;TZID=America/New_York:20240623T093000
DTEND;TZID=America/New_York:20240623T103000
DTSTAMP:20260423T022850
CREATED:20230926T191607Z
LAST-MODIFIED:20260226T185930Z
UID:10010065-1719135000-1719138600@bj.org
SUMMARY:Shaharit (Online)
DESCRIPTION:
URL:https://bj.org/event/shaharit-sunday/2024-06-23/
LOCATION:Remote Access Only\, NY\, United States
CATEGORIES:Services,Featured in Next Service
ATTACH;FMTTYPE=image/jpeg:https://bj.org/wp-content/uploads/2019/10/1905-0280.jpg
ORGANIZER;CN="B'nai Jeshurun":MAILTO:info@bj.org
END:VEVENT
BEGIN:VEVENT
DTSTART;TZID=America/New_York:20240622T212500
DTEND;TZID=America/New_York:20240622T215000
DTSTAMP:20260423T022850
CREATED:20240102T155619Z
LAST-MODIFIED:20240918T182738Z
UID:10009989-1719091500-1719093000@bj.org
SUMMARY:Arvit and Havdalah
DESCRIPTION:
URL:https://bj.org/event/arvit-and-havdalah-7/2024-06-22/
LOCATION:Remote Access Only\, NY\, United States
CATEGORIES:Services,Featured in Next Service
ATTACH;FMTTYPE=image/jpeg:https://bj.org/wp-content/uploads/2020/03/havdallah-shutterstock_1385831468.jpg
ORGANIZER;CN="B'nai Jeshurun":MAILTO:info@bj.org
END:VEVENT
BEGIN:VEVENT
DTSTART;TZID=America/New_York:20240621T080000
DTEND;TZID=America/New_York:20240621T090000
DTSTAMP:20260423T022850
CREATED:20230920T151927Z
LAST-MODIFIED:20250321T183125Z
UID:10010051-1718956800-1718960400@bj.org
SUMMARY:Shaharit (Online)
DESCRIPTION:
URL:https://bj.org/event/shaharit-online-5/2024-06-21/
LOCATION:Remote Access Only\, NY\, United States
CATEGORIES:Services,Featured in Next Service
ATTACH;FMTTYPE=image/jpeg:https://bj.org/wp-content/uploads/2019/10/1905-0275.jpg
ORGANIZER;CN="B'nai Jeshurun":MAILTO:info@bj.org
END:VEVENT
BEGIN:VEVENT
DTSTART;TZID=America/New_York:20240620T183000
DTEND;TZID=America/New_York:20240620T185000
DTSTAMP:20260423T022850
CREATED:20240313T165444Z
LAST-MODIFIED:20240916T182913Z
UID:10011081-1718908200-1718909400@bj.org
SUMMARY:Minha (Online)
DESCRIPTION:
URL:https://bj.org/event/minha-online-2/2024-06-20/
LOCATION:Remote Access Only\, NY\, United States
CATEGORIES:Services,Featured in Next Service
ATTACH;FMTTYPE=image/jpeg:https://bj.org/wp-content/uploads/2024/03/1905-0258-2048x1536-1.jpg
ORGANIZER;CN="B'nai Jeshurun":MAILTO:info@bj.org
END:VEVENT
BEGIN:VEVENT
DTSTART;TZID=America/New_York:20240620T154500
DTEND;TZID=America/New_York:20240620T164500
DTSTAMP:20260423T022850
CREATED:20221215T210758Z
LAST-MODIFIED:20260203T171538Z
UID:10009629-1718898300-1718901900@bj.org
SUMMARY:A Taste of Talmud: Daf Yomi with Rabbi Shuli Passow
DESCRIPTION:
URL:https://bj.org/event/a-taste-of-talmud-daf-yomi-with-rabbi-shuli-passow/2024-06-20/
LOCATION:Remote Access Only\, NY\, United States
CATEGORIES:Classes
ATTACH;FMTTYPE=image/png:https://bj.org/wp-content/uploads/2022/12/Daf-Yomi-Shuli-1.png
ORGANIZER;CN="B'nai Jeshurun":MAILTO:info@bj.org
END:VEVENT
BEGIN:VEVENT
DTSTART;TZID=America/New_York:20240619T190000
DTEND;TZID=America/New_York:20240619T203000
DTSTAMP:20260423T022850
CREATED:20240404T185801Z
LAST-MODIFIED:20250107T184138Z
UID:10011482-1718823600-1718829000@bj.org
SUMMARY:M'kom Shalom: A Place of Peace
DESCRIPTION:
URL:https://bj.org/event/mkom-shalom-a-place-of-peace-3/2024-06-19/
LOCATION:Remote Access Only\, NY\, United States
CATEGORIES:Events
ATTACH;FMTTYPE=image/jpeg:https://bj.org/wp-content/uploads/2021/01/aniket-bhattacharya-CgyrwbE6Hm4-unsplash-scaled.jpg
ORGANIZER;CN="B'nai Jeshurun":MAILTO:info@bj.org
END:VEVENT
BEGIN:VEVENT
DTSTART;TZID=America/New_York:20240619T183000
DTEND;TZID=America/New_York:20240619T185000
DTSTAMP:20260423T022850
CREATED:20240313T165444Z
LAST-MODIFIED:20240916T182913Z
UID:10011080-1718821800-1718823000@bj.org
SUMMARY:Minha (Online)
DESCRIPTION:
URL:https://bj.org/event/minha-online-2/2024-06-19/
LOCATION:Remote Access Only\, NY\, United States
CATEGORIES:Services,Featured in Next Service
ATTACH;FMTTYPE=image/jpeg:https://bj.org/wp-content/uploads/2024/03/1905-0258-2048x1536-1.jpg
ORGANIZER;CN="B'nai Jeshurun":MAILTO:info@bj.org
END:VEVENT
BEGIN:VEVENT
DTSTART;TZID=America/New_York:20240619T083000
DTEND;TZID=America/New_York:20240619T091500
DTSTAMP:20260423T022850
CREATED:20221215T212948Z
LAST-MODIFIED:20260415T133805Z
UID:10019642-1718785800-1718788500@bj.org
SUMMARY:Jewish Meditation with Rabbi Shuli Passow
DESCRIPTION:
URL:https://bj.org/event/jewish-meditation-with-rabbi-shuli-passow-3/2024-06-19/
LOCATION:Remote Access Only\, NY\, United States
CATEGORIES:Classes
ATTACH;FMTTYPE=image/jpeg:https://bj.org/wp-content/uploads/2022/12/Daily-Meditation-Shuli-Image.jpg
ORGANIZER;CN="B'nai Jeshurun":MAILTO:info@bj.org
END:VEVENT
BEGIN:VEVENT
DTSTART;TZID=America/New_York:20240619T080000
DTEND;TZID=America/New_York:20240619T090000
DTSTAMP:20260423T022850
CREATED:20230920T151927Z
LAST-MODIFIED:20250321T183125Z
UID:10010050-1718784000-1718787600@bj.org
SUMMARY:Shaharit (Online)
DESCRIPTION:
URL:https://bj.org/event/shaharit-online-5/2024-06-19/
LOCATION:Remote Access Only\, NY\, United States
CATEGORIES:Services,Featured in Next Service
ATTACH;FMTTYPE=image/jpeg:https://bj.org/wp-content/uploads/2019/10/1905-0275.jpg
ORGANIZER;CN="B'nai Jeshurun":MAILTO:info@bj.org
END:VEVENT
BEGIN:VEVENT
DTSTART;TZID=America/New_York:20240618T183000
DTEND;TZID=America/New_York:20240618T185000
DTSTAMP:20260423T022850
CREATED:20240313T165444Z
LAST-MODIFIED:20240916T182913Z
UID:10011079-1718735400-1718736600@bj.org
SUMMARY:Minha (Online)
DESCRIPTION:
URL:https://bj.org/event/minha-online-2/2024-06-18/
LOCATION:Remote Access Only\, NY\, United States
CATEGORIES:Services,Featured in Next Service
ATTACH;FMTTYPE=image/jpeg:https://bj.org/wp-content/uploads/2024/03/1905-0258-2048x1536-1.jpg
ORGANIZER;CN="B'nai Jeshurun":MAILTO:info@bj.org
END:VEVENT
BEGIN:VEVENT
DTSTART;TZID=America/New_York:20240618T173000
DTEND;TZID=America/New_York:20240618T181500
DTSTAMP:20260423T022850
CREATED:20230302T235540Z
LAST-MODIFIED:20260313T190025Z
UID:10011421-1718731800-1718734500@bj.org
SUMMARY:Mindfulness Prayer Practice Group
DESCRIPTION:
URL:https://bj.org/event/mindful-prayer-havurah/2024-06-18/
LOCATION:Remote Access Only\, NY\, United States
CATEGORIES:Classes
ATTACH;FMTTYPE=image/jpeg:https://bj.org/wp-content/uploads/2023/01/1905-0272-2048x1152-1.jpeg
ORGANIZER;CN="B'nai Jeshurun":MAILTO:info@bj.org
END:VEVENT
BEGIN:VEVENT
DTSTART;TZID=America/New_York:20240618T080000
DTEND;TZID=America/New_York:20240618T090000
DTSTAMP:20260423T022850
CREATED:20230920T151927Z
LAST-MODIFIED:20250321T183125Z
UID:10010049-1718697600-1718701200@bj.org
SUMMARY:Shaharit (Online)
DESCRIPTION:
URL:https://bj.org/event/shaharit-online-5/2024-06-18/
LOCATION:Remote Access Only\, NY\, United States
CATEGORIES:Services,Featured in Next Service
ATTACH;FMTTYPE=image/jpeg:https://bj.org/wp-content/uploads/2019/10/1905-0275.jpg
ORGANIZER;CN="B'nai Jeshurun":MAILTO:info@bj.org
END:VEVENT
BEGIN:VEVENT
DTSTART;TZID=America/New_York:20240617T193000
DTEND;TZID=America/New_York:20240617T203000
DTSTAMP:20260423T022850
CREATED:20210311T194417Z
LAST-MODIFIED:20260330T193129Z
UID:10007454-1718652600-1718656200@bj.org
SUMMARY:Connections Cocktail Hour
DESCRIPTION:
URL:https://bj.org/event/connections-cocktail-hour-2/2024-06-17/
LOCATION:Remote Access Only\, NY\, United States
CATEGORIES:Events
ATTACH;FMTTYPE=image/jpeg:https://bj.org/wp-content/uploads/2022/04/best-italian-cocktails.jpg
ORGANIZER;CN="B'nai Jeshurun":MAILTO:info@bj.org
END:VEVENT
BEGIN:VEVENT
DTSTART;TZID=America/New_York:20240617T183000
DTEND;TZID=America/New_York:20240617T185000
DTSTAMP:20260423T022850
CREATED:20240313T165444Z
LAST-MODIFIED:20240916T182913Z
UID:10011078-1718649000-1718650200@bj.org
SUMMARY:Minha (Online)
DESCRIPTION:
URL:https://bj.org/event/minha-online-2/2024-06-17/
LOCATION:Remote Access Only\, NY\, United States
CATEGORIES:Services,Featured in Next Service
ATTACH;FMTTYPE=image/jpeg:https://bj.org/wp-content/uploads/2024/03/1905-0258-2048x1536-1.jpg
ORGANIZER;CN="B'nai Jeshurun":MAILTO:info@bj.org
END:VEVENT
BEGIN:VEVENT
DTSTART;TZID=America/New_York:20240616T183000
DTEND;TZID=America/New_York:20240616T185000
DTSTAMP:20260423T022850
CREATED:20240313T165444Z
LAST-MODIFIED:20240916T182913Z
UID:10011077-1718562600-1718563800@bj.org
SUMMARY:Minha (Online)
DESCRIPTION:
URL:https://bj.org/event/minha-online-2/2024-06-16/
LOCATION:Remote Access Only\, NY\, United States
CATEGORIES:Services,Featured in Next Service
ATTACH;FMTTYPE=image/jpeg:https://bj.org/wp-content/uploads/2024/03/1905-0258-2048x1536-1.jpg
ORGANIZER;CN="B'nai Jeshurun":MAILTO:info@bj.org
END:VEVENT
BEGIN:VEVENT
DTSTART;TZID=America/New_York:20240616T093000
DTEND;TZID=America/New_York:20240616T103000
DTSTAMP:20260423T022850
CREATED:20230926T191607Z
LAST-MODIFIED:20260226T185930Z
UID:10010064-1718530200-1718533800@bj.org
SUMMARY:Shaharit (Online)
DESCRIPTION:
URL:https://bj.org/event/shaharit-sunday/2024-06-16/
LOCATION:Remote Access Only\, NY\, United States
CATEGORIES:Services,Featured in Next Service
ATTACH;FMTTYPE=image/jpeg:https://bj.org/wp-content/uploads/2019/10/1905-0280.jpg
ORGANIZER;CN="B'nai Jeshurun":MAILTO:info@bj.org
END:VEVENT
BEGIN:VEVENT
DTSTART;TZID=America/New_York:20240615T212000
DTEND;TZID=America/New_York:20240615T214500
DTSTAMP:20260423T022850
CREATED:20240102T155619Z
LAST-MODIFIED:20240918T182738Z
UID:10009988-1718486400-1718487900@bj.org
SUMMARY:Arvit and Havdalah
DESCRIPTION:
URL:https://bj.org/event/arvit-and-havdalah-7/2024-06-15/
LOCATION:Remote Access Only\, NY\, United States
CATEGORIES:Services,Featured in Next Service
ATTACH;FMTTYPE=image/jpeg:https://bj.org/wp-content/uploads/2020/03/havdallah-shutterstock_1385831468.jpg
ORGANIZER;CN="B'nai Jeshurun":MAILTO:info@bj.org
END:VEVENT
BEGIN:VEVENT
DTSTART;TZID=America/New_York:20240614T080000
DTEND;TZID=America/New_York:20240614T090000
DTSTAMP:20260423T022850
CREATED:20230920T151927Z
LAST-MODIFIED:20250321T183125Z
UID:10010048-1718352000-1718355600@bj.org
SUMMARY:Shaharit (Online)
DESCRIPTION:
URL:https://bj.org/event/shaharit-online-5/2024-06-14/
LOCATION:Remote Access Only\, NY\, United States
CATEGORIES:Services,Featured in Next Service
ATTACH;FMTTYPE=image/jpeg:https://bj.org/wp-content/uploads/2019/10/1905-0275.jpg
ORGANIZER;CN="B'nai Jeshurun":MAILTO:info@bj.org
END:VEVENT
BEGIN:VEVENT
DTSTART;TZID=America/New_York:20240613T212000
DTEND;TZID=America/New_York:20240613T215000
DTSTAMP:20260423T022850
CREATED:20240415T205820Z
LAST-MODIFIED:20240416T145244Z
UID:10011562-1718313600-1718315400@bj.org
SUMMARY:Arvit and Havdalah (Online)
DESCRIPTION:
URL:https://bj.org/event/arvit-havdalah-online/2024-06-13/
LOCATION:Remote Access Only\, NY\, United States
CATEGORIES:Services,Featured in Next Service
ATTACH;FMTTYPE=image/jpeg:https://bj.org/wp-content/uploads/2023/01/1905-0258.jpg
ORGANIZER;CN="B'nai Jeshurun":MAILTO:info@bj.org
END:VEVENT
BEGIN:VEVENT
DTSTART;TZID=America/New_York:20240611T183000
DTEND;TZID=America/New_York:20240611T190000
DTSTAMP:20260423T022850
CREATED:20240313T165149Z
LAST-MODIFIED:20240416T192124Z
UID:10010788-1718130600-1718132400@bj.org
SUMMARY:Minha (Online)
DESCRIPTION:
URL:https://bj.org/event/minha-online-3/2024-06-11/
LOCATION:Remote Access Only\, NY\, United States
CATEGORIES:Services,Featured in Next Service
ATTACH;FMTTYPE=image/jpeg:https://bj.org/wp-content/uploads/2024/03/1905-0258-2048x1536-1.jpg
ORGANIZER;CN="B'nai Jeshurun":MAILTO:info@bj.org
END:VEVENT
BEGIN:VEVENT
DTSTART;TZID=America/New_York:20240611T173000
DTEND;TZID=America/New_York:20240611T181500
DTSTAMP:20260423T022850
CREATED:20230302T235540Z
LAST-MODIFIED:20260313T190025Z
UID:10011420-1718127000-1718129700@bj.org
SUMMARY:Mindfulness Prayer Practice Group
DESCRIPTION:
URL:https://bj.org/event/mindful-prayer-havurah/2024-06-11/
LOCATION:Remote Access Only\, NY\, United States
CATEGORIES:Classes
ATTACH;FMTTYPE=image/jpeg:https://bj.org/wp-content/uploads/2023/01/1905-0272-2048x1152-1.jpeg
ORGANIZER;CN="B'nai Jeshurun":MAILTO:info@bj.org
END:VEVENT
BEGIN:VEVENT
DTSTART;TZID=America/New_York:20240611T080000
DTEND;TZID=America/New_York:20240611T090000
DTSTAMP:20260423T022850
CREATED:20230920T151927Z
LAST-MODIFIED:20250321T183125Z
UID:10010047-1718092800-1718096400@bj.org
SUMMARY:Shaharit (Online)
DESCRIPTION:
URL:https://bj.org/event/shaharit-online-5/2024-06-11/
LOCATION:Remote Access Only\, NY\, United States
CATEGORIES:Services,Featured in Next Service
ATTACH;FMTTYPE=image/jpeg:https://bj.org/wp-content/uploads/2019/10/1905-0275.jpg
ORGANIZER;CN="B'nai Jeshurun":MAILTO:info@bj.org
END:VEVENT
BEGIN:VEVENT
DTSTART;TZID=America/New_York:20240610T193000
DTEND;TZID=America/New_York:20240610T203000
DTSTAMP:20260423T022850
CREATED:20210311T194417Z
LAST-MODIFIED:20260330T193129Z
UID:10007453-1718047800-1718051400@bj.org
SUMMARY:Connections Cocktail Hour
DESCRIPTION:
URL:https://bj.org/event/connections-cocktail-hour-2/2024-06-10/
LOCATION:Remote Access Only\, NY\, United States
CATEGORIES:Events
ATTACH;FMTTYPE=image/jpeg:https://bj.org/wp-content/uploads/2022/04/best-italian-cocktails.jpg
ORGANIZER;CN="B'nai Jeshurun":MAILTO:info@bj.org
END:VEVENT
END:VCALENDAR