BEGIN:VCALENDAR
VERSION:2.0
PRODID:-//B&#039;nai Jeshurun - ECPv6.15.20//NONSGML v1.0//EN
CALSCALE:GREGORIAN
METHOD:PUBLISH
X-ORIGINAL-URL:https://bj.org
X-WR-CALDESC:Events for B&#039;nai Jeshurun
REFRESH-INTERVAL;VALUE=DURATION:PT1H
X-Robots-Tag:noindex
X-PUBLISHED-TTL:PT1H
BEGIN:VTIMEZONE
TZID:America/New_York
BEGIN:DAYLIGHT
TZOFFSETFROM:-0500
TZOFFSETTO:-0400
TZNAME:EDT
DTSTART:20230312T070000
END:DAYLIGHT
BEGIN:STANDARD
TZOFFSETFROM:-0400
TZOFFSETTO:-0500
TZNAME:EST
DTSTART:20231105T060000
END:STANDARD
BEGIN:DAYLIGHT
TZOFFSETFROM:-0500
TZOFFSETTO:-0400
TZNAME:EDT
DTSTART:20240310T070000
END:DAYLIGHT
BEGIN:STANDARD
TZOFFSETFROM:-0400
TZOFFSETTO:-0500
TZNAME:EST
DTSTART:20241103T060000
END:STANDARD
BEGIN:DAYLIGHT
TZOFFSETFROM:-0500
TZOFFSETTO:-0400
TZNAME:EDT
DTSTART:20250309T070000
END:DAYLIGHT
BEGIN:STANDARD
TZOFFSETFROM:-0400
TZOFFSETTO:-0500
TZNAME:EST
DTSTART:20251102T060000
END:STANDARD
END:VTIMEZONE
BEGIN:VEVENT
DTSTART;TZID=America/New_York:20240709T183000
DTEND;TZID=America/New_York:20240709T185000
DTSTAMP:20260423T005535
CREATED:20240313T165444Z
LAST-MODIFIED:20240916T182913Z
UID:10011094-1720549800-1720551000@bj.org
SUMMARY:Minha (Online)
DESCRIPTION:
URL:https://bj.org/event/minha-online-2/2024-07-09/
LOCATION:Remote Access Only\, NY\, United States
CATEGORIES:Services,Featured in Next Service
ATTACH;FMTTYPE=image/jpeg:https://bj.org/wp-content/uploads/2024/03/1905-0258-2048x1536-1.jpg
ORGANIZER;CN="B'nai Jeshurun":MAILTO:info@bj.org
END:VEVENT
BEGIN:VEVENT
DTSTART;TZID=America/New_York:20240709T173000
DTEND;TZID=America/New_York:20240709T181500
DTSTAMP:20260423T005535
CREATED:20230302T235540Z
LAST-MODIFIED:20260313T190025Z
UID:10011424-1720546200-1720548900@bj.org
SUMMARY:Mindfulness Prayer Practice Group
DESCRIPTION:
URL:https://bj.org/event/mindful-prayer-havurah/2024-07-09/
LOCATION:Remote Access Only\, NY\, United States
CATEGORIES:Classes
ATTACH;FMTTYPE=image/jpeg:https://bj.org/wp-content/uploads/2023/01/1905-0272-2048x1152-1.jpeg
ORGANIZER;CN="B'nai Jeshurun":MAILTO:info@bj.org
END:VEVENT
BEGIN:VEVENT
DTSTART;TZID=America/New_York:20240709T080000
DTEND;TZID=America/New_York:20240709T090000
DTSTAMP:20260423T005535
CREATED:20230920T151927Z
LAST-MODIFIED:20250321T183125Z
UID:10012077-1720512000-1720515600@bj.org
SUMMARY:Shaharit (Online)
DESCRIPTION:
URL:https://bj.org/event/shaharit-online-5/2024-07-09/
LOCATION:Remote Access Only\, NY\, United States
CATEGORIES:Services,Featured in Next Service
ATTACH;FMTTYPE=image/jpeg:https://bj.org/wp-content/uploads/2019/10/1905-0275.jpg
ORGANIZER;CN="B'nai Jeshurun":MAILTO:info@bj.org
END:VEVENT
BEGIN:VEVENT
DTSTART;TZID=America/New_York:20240708T193000
DTEND;TZID=America/New_York:20240708T203000
DTSTAMP:20260423T005535
CREATED:20210311T194417Z
LAST-MODIFIED:20260330T193129Z
UID:10007457-1720467000-1720470600@bj.org
SUMMARY:Connections Cocktail Hour
DESCRIPTION:
URL:https://bj.org/event/connections-cocktail-hour-2/2024-07-08/
LOCATION:Remote Access Only\, NY\, United States
CATEGORIES:Events
ATTACH;FMTTYPE=image/jpeg:https://bj.org/wp-content/uploads/2022/04/best-italian-cocktails.jpg
ORGANIZER;CN="B'nai Jeshurun":MAILTO:info@bj.org
END:VEVENT
BEGIN:VEVENT
DTSTART;TZID=America/New_York:20240708T183000
DTEND;TZID=America/New_York:20240708T185000
DTSTAMP:20260423T005535
CREATED:20240313T165444Z
LAST-MODIFIED:20240916T182913Z
UID:10011093-1720463400-1720464600@bj.org
SUMMARY:Minha (Online)
DESCRIPTION:
URL:https://bj.org/event/minha-online-2/2024-07-08/
LOCATION:Remote Access Only\, NY\, United States
CATEGORIES:Services,Featured in Next Service
ATTACH;FMTTYPE=image/jpeg:https://bj.org/wp-content/uploads/2024/03/1905-0258-2048x1536-1.jpg
ORGANIZER;CN="B'nai Jeshurun":MAILTO:info@bj.org
END:VEVENT
BEGIN:VEVENT
DTSTART;TZID=America/New_York:20240707T183000
DTEND;TZID=America/New_York:20240707T185000
DTSTAMP:20260423T005535
CREATED:20240313T165444Z
LAST-MODIFIED:20240916T182913Z
UID:10011092-1720377000-1720378200@bj.org
SUMMARY:Minha (Online)
DESCRIPTION:
URL:https://bj.org/event/minha-online-2/2024-07-07/
LOCATION:Remote Access Only\, NY\, United States
CATEGORIES:Services,Featured in Next Service
ATTACH;FMTTYPE=image/jpeg:https://bj.org/wp-content/uploads/2024/03/1905-0258-2048x1536-1.jpg
ORGANIZER;CN="B'nai Jeshurun":MAILTO:info@bj.org
END:VEVENT
BEGIN:VEVENT
DTSTART;TZID=America/New_York:20240706T212000
DTEND;TZID=America/New_York:20240706T214500
DTSTAMP:20260423T005535
CREATED:20240102T155619Z
LAST-MODIFIED:20240918T182738Z
UID:10009991-1720300800-1720302300@bj.org
SUMMARY:Arvit and Havdalah
DESCRIPTION:
URL:https://bj.org/event/arvit-and-havdalah-7/2024-07-06/
LOCATION:Remote Access Only\, NY\, United States
CATEGORIES:Services,Featured in Next Service
ATTACH;FMTTYPE=image/jpeg:https://bj.org/wp-content/uploads/2020/03/havdallah-shutterstock_1385831468.jpg
ORGANIZER;CN="B'nai Jeshurun":MAILTO:info@bj.org
END:VEVENT
BEGIN:VEVENT
DTSTART;TZID=America/New_York:20240705T080000
DTEND;TZID=America/New_York:20240705T090000
DTSTAMP:20260423T005535
CREATED:20230920T151927Z
LAST-MODIFIED:20250321T183125Z
UID:10012076-1720166400-1720170000@bj.org
SUMMARY:Shaharit (Online)
DESCRIPTION:
URL:https://bj.org/event/shaharit-online-5/2024-07-05/
LOCATION:Remote Access Only\, NY\, United States
CATEGORIES:Services,Featured in Next Service
ATTACH;FMTTYPE=image/jpeg:https://bj.org/wp-content/uploads/2019/10/1905-0275.jpg
ORGANIZER;CN="B'nai Jeshurun":MAILTO:info@bj.org
END:VEVENT
BEGIN:VEVENT
DTSTART;TZID=America/New_York:20240704T183000
DTEND;TZID=America/New_York:20240704T185000
DTSTAMP:20260423T005535
CREATED:20240313T165444Z
LAST-MODIFIED:20240916T182913Z
UID:10011091-1720117800-1720119000@bj.org
SUMMARY:Minha (Online)
DESCRIPTION:
URL:https://bj.org/event/minha-online-2/2024-07-04/
LOCATION:Remote Access Only\, NY\, United States
CATEGORIES:Services,Featured in Next Service
ATTACH;FMTTYPE=image/jpeg:https://bj.org/wp-content/uploads/2024/03/1905-0258-2048x1536-1.jpg
ORGANIZER;CN="B'nai Jeshurun":MAILTO:info@bj.org
END:VEVENT
BEGIN:VEVENT
DTSTART;TZID=America/New_York:20240703T183000
DTEND;TZID=America/New_York:20240703T185000
DTSTAMP:20260423T005535
CREATED:20240313T165444Z
LAST-MODIFIED:20240916T182913Z
UID:10011090-1720031400-1720032600@bj.org
SUMMARY:Minha (Online)
DESCRIPTION:
URL:https://bj.org/event/minha-online-2/2024-07-03/
LOCATION:Remote Access Only\, NY\, United States
CATEGORIES:Services,Featured in Next Service
ATTACH;FMTTYPE=image/jpeg:https://bj.org/wp-content/uploads/2024/03/1905-0258-2048x1536-1.jpg
ORGANIZER;CN="B'nai Jeshurun":MAILTO:info@bj.org
END:VEVENT
BEGIN:VEVENT
DTSTART;TZID=America/New_York:20240703T083000
DTEND;TZID=America/New_York:20240703T091500
DTSTAMP:20260423T005535
CREATED:20221215T212948Z
LAST-MODIFIED:20260415T133805Z
UID:10019644-1719995400-1719998100@bj.org
SUMMARY:Jewish Meditation with Rabbi Shuli Passow
DESCRIPTION:
URL:https://bj.org/event/jewish-meditation-with-rabbi-shuli-passow-3/2024-07-03/
LOCATION:Remote Access Only\, NY\, United States
CATEGORIES:Classes
ATTACH;FMTTYPE=image/jpeg:https://bj.org/wp-content/uploads/2022/12/Daily-Meditation-Shuli-Image.jpg
ORGANIZER;CN="B'nai Jeshurun":MAILTO:info@bj.org
END:VEVENT
BEGIN:VEVENT
DTSTART;TZID=America/New_York:20240703T080000
DTEND;TZID=America/New_York:20240703T090000
DTSTAMP:20260423T005535
CREATED:20230920T151927Z
LAST-MODIFIED:20250321T183125Z
UID:10012075-1719993600-1719997200@bj.org
SUMMARY:Shaharit (Online)
DESCRIPTION:
URL:https://bj.org/event/shaharit-online-5/2024-07-03/
LOCATION:Remote Access Only\, NY\, United States
CATEGORIES:Services,Featured in Next Service
ATTACH;FMTTYPE=image/jpeg:https://bj.org/wp-content/uploads/2019/10/1905-0275.jpg
ORGANIZER;CN="B'nai Jeshurun":MAILTO:info@bj.org
END:VEVENT
BEGIN:VEVENT
DTSTART;TZID=America/New_York:20240702T183000
DTEND;TZID=America/New_York:20240702T185000
DTSTAMP:20260423T005535
CREATED:20240313T165444Z
LAST-MODIFIED:20240916T182913Z
UID:10011089-1719945000-1719946200@bj.org
SUMMARY:Minha (Online)
DESCRIPTION:
URL:https://bj.org/event/minha-online-2/2024-07-02/
LOCATION:Remote Access Only\, NY\, United States
CATEGORIES:Services,Featured in Next Service
ATTACH;FMTTYPE=image/jpeg:https://bj.org/wp-content/uploads/2024/03/1905-0258-2048x1536-1.jpg
ORGANIZER;CN="B'nai Jeshurun":MAILTO:info@bj.org
END:VEVENT
BEGIN:VEVENT
DTSTART;TZID=America/New_York:20240702T173000
DTEND;TZID=America/New_York:20240702T181500
DTSTAMP:20260423T005535
CREATED:20230302T235540Z
LAST-MODIFIED:20260313T190025Z
UID:10011423-1719941400-1719944100@bj.org
SUMMARY:Mindfulness Prayer Practice Group
DESCRIPTION:
URL:https://bj.org/event/mindful-prayer-havurah/2024-07-02/
LOCATION:Remote Access Only\, NY\, United States
CATEGORIES:Classes
ATTACH;FMTTYPE=image/jpeg:https://bj.org/wp-content/uploads/2023/01/1905-0272-2048x1152-1.jpeg
ORGANIZER;CN="B'nai Jeshurun":MAILTO:info@bj.org
END:VEVENT
BEGIN:VEVENT
DTSTART;TZID=America/New_York:20240702T080000
DTEND;TZID=America/New_York:20240702T090000
DTSTAMP:20260423T005535
CREATED:20230920T151927Z
LAST-MODIFIED:20250321T183125Z
UID:10012074-1719907200-1719910800@bj.org
SUMMARY:Shaharit (Online)
DESCRIPTION:
URL:https://bj.org/event/shaharit-online-5/2024-07-02/
LOCATION:Remote Access Only\, NY\, United States
CATEGORIES:Services,Featured in Next Service
ATTACH;FMTTYPE=image/jpeg:https://bj.org/wp-content/uploads/2019/10/1905-0275.jpg
ORGANIZER;CN="B'nai Jeshurun":MAILTO:info@bj.org
END:VEVENT
BEGIN:VEVENT
DTSTART;TZID=America/New_York:20240701T193000
DTEND;TZID=America/New_York:20240701T203000
DTSTAMP:20260423T005535
CREATED:20210311T194417Z
LAST-MODIFIED:20260330T193129Z
UID:10007456-1719862200-1719865800@bj.org
SUMMARY:Connections Cocktail Hour
DESCRIPTION:
URL:https://bj.org/event/connections-cocktail-hour-2/2024-07-01/
LOCATION:Remote Access Only\, NY\, United States
CATEGORIES:Events
ATTACH;FMTTYPE=image/jpeg:https://bj.org/wp-content/uploads/2022/04/best-italian-cocktails.jpg
ORGANIZER;CN="B'nai Jeshurun":MAILTO:info@bj.org
END:VEVENT
BEGIN:VEVENT
DTSTART;TZID=America/New_York:20240701T183000
DTEND;TZID=America/New_York:20240701T185000
DTSTAMP:20260423T005535
CREATED:20240313T165444Z
LAST-MODIFIED:20240916T182913Z
UID:10011088-1719858600-1719859800@bj.org
SUMMARY:Minha (Online)
DESCRIPTION:
URL:https://bj.org/event/minha-online-2/2024-07-01/
LOCATION:Remote Access Only\, NY\, United States
CATEGORIES:Services,Featured in Next Service
ATTACH;FMTTYPE=image/jpeg:https://bj.org/wp-content/uploads/2024/03/1905-0258-2048x1536-1.jpg
ORGANIZER;CN="B'nai Jeshurun":MAILTO:info@bj.org
END:VEVENT
BEGIN:VEVENT
DTSTART;TZID=America/New_York:20240630T183000
DTEND;TZID=America/New_York:20240630T185000
DTSTAMP:20260423T005535
CREATED:20240313T165444Z
LAST-MODIFIED:20240916T182913Z
UID:10011087-1719772200-1719773400@bj.org
SUMMARY:Minha (Online)
DESCRIPTION:
URL:https://bj.org/event/minha-online-2/2024-06-30/
LOCATION:Remote Access Only\, NY\, United States
CATEGORIES:Services,Featured in Next Service
ATTACH;FMTTYPE=image/jpeg:https://bj.org/wp-content/uploads/2024/03/1905-0258-2048x1536-1.jpg
ORGANIZER;CN="B'nai Jeshurun":MAILTO:info@bj.org
END:VEVENT
BEGIN:VEVENT
DTSTART;TZID=America/New_York:20240630T093000
DTEND;TZID=America/New_York:20240630T103000
DTSTAMP:20260423T005535
CREATED:20230926T191607Z
LAST-MODIFIED:20260226T185930Z
UID:10010066-1719739800-1719743400@bj.org
SUMMARY:Shaharit (Online)
DESCRIPTION:
URL:https://bj.org/event/shaharit-sunday/2024-06-30/
LOCATION:Remote Access Only\, NY\, United States
CATEGORIES:Services,Featured in Next Service
ATTACH;FMTTYPE=image/jpeg:https://bj.org/wp-content/uploads/2019/10/1905-0280.jpg
ORGANIZER;CN="B'nai Jeshurun":MAILTO:info@bj.org
END:VEVENT
BEGIN:VEVENT
DTSTART;TZID=America/New_York:20240629T212500
DTEND;TZID=America/New_York:20240629T215000
DTSTAMP:20260423T005535
CREATED:20240102T155619Z
LAST-MODIFIED:20240918T182738Z
UID:10009990-1719696300-1719697800@bj.org
SUMMARY:Arvit and Havdalah
DESCRIPTION:
URL:https://bj.org/event/arvit-and-havdalah-7/2024-06-29/
LOCATION:Remote Access Only\, NY\, United States
CATEGORIES:Services,Featured in Next Service
ATTACH;FMTTYPE=image/jpeg:https://bj.org/wp-content/uploads/2020/03/havdallah-shutterstock_1385831468.jpg
ORGANIZER;CN="B'nai Jeshurun":MAILTO:info@bj.org
END:VEVENT
BEGIN:VEVENT
DTSTART;TZID=America/New_York:20240628T080000
DTEND;TZID=America/New_York:20240628T090000
DTSTAMP:20260423T005535
CREATED:20230920T151927Z
LAST-MODIFIED:20250321T183125Z
UID:10010054-1719561600-1719565200@bj.org
SUMMARY:Shaharit (Online)
DESCRIPTION:
URL:https://bj.org/event/shaharit-online-5/2024-06-28/
LOCATION:Remote Access Only\, NY\, United States
CATEGORIES:Services,Featured in Next Service
ATTACH;FMTTYPE=image/jpeg:https://bj.org/wp-content/uploads/2019/10/1905-0275.jpg
ORGANIZER;CN="B'nai Jeshurun":MAILTO:info@bj.org
END:VEVENT
BEGIN:VEVENT
DTSTART;TZID=America/New_York:20240627T183000
DTEND;TZID=America/New_York:20240627T185000
DTSTAMP:20260423T005535
CREATED:20240313T165444Z
LAST-MODIFIED:20240916T182913Z
UID:10011086-1719513000-1719514200@bj.org
SUMMARY:Minha (Online)
DESCRIPTION:
URL:https://bj.org/event/minha-online-2/2024-06-27/
LOCATION:Remote Access Only\, NY\, United States
CATEGORIES:Services,Featured in Next Service
ATTACH;FMTTYPE=image/jpeg:https://bj.org/wp-content/uploads/2024/03/1905-0258-2048x1536-1.jpg
ORGANIZER;CN="B'nai Jeshurun":MAILTO:info@bj.org
END:VEVENT
BEGIN:VEVENT
DTSTART;TZID=America/New_York:20240627T154500
DTEND;TZID=America/New_York:20240627T164500
DTSTAMP:20260423T005535
CREATED:20221215T210758Z
LAST-MODIFIED:20260203T171538Z
UID:10009630-1719503100-1719506700@bj.org
SUMMARY:A Taste of Talmud: Daf Yomi with Rabbi Shuli Passow
DESCRIPTION:
URL:https://bj.org/event/a-taste-of-talmud-daf-yomi-with-rabbi-shuli-passow/2024-06-27/
LOCATION:Remote Access Only\, NY\, United States
CATEGORIES:Classes
ATTACH;FMTTYPE=image/png:https://bj.org/wp-content/uploads/2022/12/Daf-Yomi-Shuli-1.png
ORGANIZER;CN="B'nai Jeshurun":MAILTO:info@bj.org
END:VEVENT
BEGIN:VEVENT
DTSTART;TZID=America/New_York:20240626T183000
DTEND;TZID=America/New_York:20240626T185000
DTSTAMP:20260423T005535
CREATED:20240313T165444Z
LAST-MODIFIED:20240916T182913Z
UID:10011085-1719426600-1719427800@bj.org
SUMMARY:Minha (Online)
DESCRIPTION:
URL:https://bj.org/event/minha-online-2/2024-06-26/
LOCATION:Remote Access Only\, NY\, United States
CATEGORIES:Services,Featured in Next Service
ATTACH;FMTTYPE=image/jpeg:https://bj.org/wp-content/uploads/2024/03/1905-0258-2048x1536-1.jpg
ORGANIZER;CN="B'nai Jeshurun":MAILTO:info@bj.org
END:VEVENT
BEGIN:VEVENT
DTSTART;TZID=America/New_York:20240626T083000
DTEND;TZID=America/New_York:20240626T091500
DTSTAMP:20260423T005535
CREATED:20221215T212948Z
LAST-MODIFIED:20260415T133805Z
UID:10019643-1719390600-1719393300@bj.org
SUMMARY:Jewish Meditation with Rabbi Shuli Passow
DESCRIPTION:
URL:https://bj.org/event/jewish-meditation-with-rabbi-shuli-passow-3/2024-06-26/
LOCATION:Remote Access Only\, NY\, United States
CATEGORIES:Classes
ATTACH;FMTTYPE=image/jpeg:https://bj.org/wp-content/uploads/2022/12/Daily-Meditation-Shuli-Image.jpg
ORGANIZER;CN="B'nai Jeshurun":MAILTO:info@bj.org
END:VEVENT
BEGIN:VEVENT
DTSTART;TZID=America/New_York:20240626T080000
DTEND;TZID=America/New_York:20240626T090000
DTSTAMP:20260423T005535
CREATED:20230920T151927Z
LAST-MODIFIED:20250321T183125Z
UID:10010053-1719388800-1719392400@bj.org
SUMMARY:Shaharit (Online)
DESCRIPTION:
URL:https://bj.org/event/shaharit-online-5/2024-06-26/
LOCATION:Remote Access Only\, NY\, United States
CATEGORIES:Services,Featured in Next Service
ATTACH;FMTTYPE=image/jpeg:https://bj.org/wp-content/uploads/2019/10/1905-0275.jpg
ORGANIZER;CN="B'nai Jeshurun":MAILTO:info@bj.org
END:VEVENT
BEGIN:VEVENT
DTSTART;TZID=America/New_York:20240625T183000
DTEND;TZID=America/New_York:20240625T185000
DTSTAMP:20260423T005535
CREATED:20240313T165444Z
LAST-MODIFIED:20240916T182913Z
UID:10011084-1719340200-1719341400@bj.org
SUMMARY:Minha (Online)
DESCRIPTION:
URL:https://bj.org/event/minha-online-2/2024-06-25/
LOCATION:Remote Access Only\, NY\, United States
CATEGORIES:Services,Featured in Next Service
ATTACH;FMTTYPE=image/jpeg:https://bj.org/wp-content/uploads/2024/03/1905-0258-2048x1536-1.jpg
ORGANIZER;CN="B'nai Jeshurun":MAILTO:info@bj.org
END:VEVENT
BEGIN:VEVENT
DTSTART;TZID=America/New_York:20240625T173000
DTEND;TZID=America/New_York:20240625T181500
DTSTAMP:20260423T005535
CREATED:20230302T235540Z
LAST-MODIFIED:20260313T190025Z
UID:10011422-1719336600-1719339300@bj.org
SUMMARY:Mindfulness Prayer Practice Group
DESCRIPTION:
URL:https://bj.org/event/mindful-prayer-havurah/2024-06-25/
LOCATION:Remote Access Only\, NY\, United States
CATEGORIES:Classes
ATTACH;FMTTYPE=image/jpeg:https://bj.org/wp-content/uploads/2023/01/1905-0272-2048x1152-1.jpeg
ORGANIZER;CN="B'nai Jeshurun":MAILTO:info@bj.org
END:VEVENT
BEGIN:VEVENT
DTSTART;TZID=America/New_York:20240625T080000
DTEND;TZID=America/New_York:20240625T090000
DTSTAMP:20260423T005535
CREATED:20230920T151927Z
LAST-MODIFIED:20250321T183125Z
UID:10010052-1719302400-1719306000@bj.org
SUMMARY:Shaharit (Online)
DESCRIPTION:
URL:https://bj.org/event/shaharit-online-5/2024-06-25/
LOCATION:Remote Access Only\, NY\, United States
CATEGORIES:Services,Featured in Next Service
ATTACH;FMTTYPE=image/jpeg:https://bj.org/wp-content/uploads/2019/10/1905-0275.jpg
ORGANIZER;CN="B'nai Jeshurun":MAILTO:info@bj.org
END:VEVENT
BEGIN:VEVENT
DTSTART;TZID=America/New_York:20240624T193000
DTEND;TZID=America/New_York:20240624T203000
DTSTAMP:20260423T005535
CREATED:20210311T194417Z
LAST-MODIFIED:20260330T193129Z
UID:10007455-1719257400-1719261000@bj.org
SUMMARY:Connections Cocktail Hour
DESCRIPTION:
URL:https://bj.org/event/connections-cocktail-hour-2/2024-06-24/
LOCATION:Remote Access Only\, NY\, United States
CATEGORIES:Events
ATTACH;FMTTYPE=image/jpeg:https://bj.org/wp-content/uploads/2022/04/best-italian-cocktails.jpg
ORGANIZER;CN="B'nai Jeshurun":MAILTO:info@bj.org
END:VEVENT
END:VCALENDAR