BEGIN:VCALENDAR
VERSION:2.0
PRODID:-//B&#039;nai Jeshurun - ECPv6.15.20//NONSGML v1.0//EN
CALSCALE:GREGORIAN
METHOD:PUBLISH
X-ORIGINAL-URL:https://bj.org
X-WR-CALDESC:Events for B&#039;nai Jeshurun
REFRESH-INTERVAL;VALUE=DURATION:PT1H
X-Robots-Tag:noindex
X-PUBLISHED-TTL:PT1H
BEGIN:VTIMEZONE
TZID:America/New_York
BEGIN:DAYLIGHT
TZOFFSETFROM:-0500
TZOFFSETTO:-0400
TZNAME:EDT
DTSTART:20230312T070000
END:DAYLIGHT
BEGIN:STANDARD
TZOFFSETFROM:-0400
TZOFFSETTO:-0500
TZNAME:EST
DTSTART:20231105T060000
END:STANDARD
BEGIN:DAYLIGHT
TZOFFSETFROM:-0500
TZOFFSETTO:-0400
TZNAME:EDT
DTSTART:20240310T070000
END:DAYLIGHT
BEGIN:STANDARD
TZOFFSETFROM:-0400
TZOFFSETTO:-0500
TZNAME:EST
DTSTART:20241103T060000
END:STANDARD
BEGIN:DAYLIGHT
TZOFFSETFROM:-0500
TZOFFSETTO:-0400
TZNAME:EDT
DTSTART:20250309T070000
END:DAYLIGHT
BEGIN:STANDARD
TZOFFSETFROM:-0400
TZOFFSETTO:-0500
TZNAME:EST
DTSTART:20251102T060000
END:STANDARD
END:VTIMEZONE
BEGIN:VEVENT
DTSTART;TZID=America/New_York:20240911T190000
DTEND;TZID=America/New_York:20240911T203000
DTSTAMP:20260422T170930
CREATED:20240404T185801Z
LAST-MODIFIED:20250107T184138Z
UID:10011485-1726081200-1726086600@bj.org
SUMMARY:M'kom Shalom: A Place of Peace
DESCRIPTION:
URL:https://bj.org/event/mkom-shalom-a-place-of-peace-3/2024-09-11/
LOCATION:Remote Access Only\, NY\, United States
CATEGORIES:Events
ATTACH;FMTTYPE=image/jpeg:https://bj.org/wp-content/uploads/2021/01/aniket-bhattacharya-CgyrwbE6Hm4-unsplash-scaled.jpg
ORGANIZER;CN="B'nai Jeshurun":MAILTO:info@bj.org
END:VEVENT
BEGIN:VEVENT
DTSTART;TZID=America/New_York:20240911T183000
DTEND;TZID=America/New_York:20240911T185000
DTSTAMP:20260422T170930
CREATED:20240313T165444Z
LAST-MODIFIED:20240916T182913Z
UID:10012436-1726079400-1726080600@bj.org
SUMMARY:Minha (Online)
DESCRIPTION:
URL:https://bj.org/event/minha-online-2/2024-09-11/
LOCATION:Remote Access Only\, NY\, United States
CATEGORIES:Services,Featured in Next Service
ATTACH;FMTTYPE=image/jpeg:https://bj.org/wp-content/uploads/2024/03/1905-0258-2048x1536-1.jpg
ORGANIZER;CN="B'nai Jeshurun":MAILTO:info@bj.org
END:VEVENT
BEGIN:VEVENT
DTSTART;TZID=America/New_York:20240911T083000
DTEND;TZID=America/New_York:20240911T091500
DTSTAMP:20260422T170930
CREATED:20221215T212948Z
LAST-MODIFIED:20260415T133805Z
UID:10019653-1726043400-1726046100@bj.org
SUMMARY:Jewish Meditation with Rabbi Shuli Passow
DESCRIPTION:
URL:https://bj.org/event/jewish-meditation-with-rabbi-shuli-passow-3/2024-09-11/
LOCATION:Remote Access Only\, NY\, United States
CATEGORIES:Classes
ATTACH;FMTTYPE=image/jpeg:https://bj.org/wp-content/uploads/2022/12/Daily-Meditation-Shuli-Image.jpg
ORGANIZER;CN="B'nai Jeshurun":MAILTO:info@bj.org
END:VEVENT
BEGIN:VEVENT
DTSTART;TZID=America/New_York:20240911T080000
DTEND;TZID=America/New_York:20240911T090000
DTSTAMP:20260422T170930
CREATED:20230920T151927Z
LAST-MODIFIED:20250321T183125Z
UID:10012104-1726041600-1726045200@bj.org
SUMMARY:Shaharit (Online)
DESCRIPTION:
URL:https://bj.org/event/shaharit-online-5/2024-09-11/
LOCATION:Remote Access Only\, NY\, United States
CATEGORIES:Services,Featured in Next Service
ATTACH;FMTTYPE=image/jpeg:https://bj.org/wp-content/uploads/2019/10/1905-0275.jpg
ORGANIZER;CN="B'nai Jeshurun":MAILTO:info@bj.org
END:VEVENT
BEGIN:VEVENT
DTSTART;TZID=America/New_York:20240910T183000
DTEND;TZID=America/New_York:20240910T185000
DTSTAMP:20260422T170930
CREATED:20240313T165444Z
LAST-MODIFIED:20240916T182913Z
UID:10012435-1725993000-1725994200@bj.org
SUMMARY:Minha (Online)
DESCRIPTION:
URL:https://bj.org/event/minha-online-2/2024-09-10/
LOCATION:Remote Access Only\, NY\, United States
CATEGORIES:Services,Featured in Next Service
ATTACH;FMTTYPE=image/jpeg:https://bj.org/wp-content/uploads/2024/03/1905-0258-2048x1536-1.jpg
ORGANIZER;CN="B'nai Jeshurun":MAILTO:info@bj.org
END:VEVENT
BEGIN:VEVENT
DTSTART;TZID=America/New_York:20240910T173000
DTEND;TZID=America/New_York:20240910T181500
DTSTAMP:20260422T170930
CREATED:20230302T235540Z
LAST-MODIFIED:20260313T190025Z
UID:10011433-1725989400-1725992100@bj.org
SUMMARY:Mindfulness Prayer Practice Group
DESCRIPTION:
URL:https://bj.org/event/mindful-prayer-havurah/2024-09-10/
LOCATION:Remote Access Only\, NY\, United States
CATEGORIES:Classes
ATTACH;FMTTYPE=image/jpeg:https://bj.org/wp-content/uploads/2023/01/1905-0272-2048x1152-1.jpeg
ORGANIZER;CN="B'nai Jeshurun":MAILTO:info@bj.org
END:VEVENT
BEGIN:VEVENT
DTSTART;TZID=America/New_York:20240910T080000
DTEND;TZID=America/New_York:20240910T090000
DTSTAMP:20260422T170930
CREATED:20230920T151927Z
LAST-MODIFIED:20250321T183125Z
UID:10012103-1725955200-1725958800@bj.org
SUMMARY:Shaharit (Online)
DESCRIPTION:
URL:https://bj.org/event/shaharit-online-5/2024-09-10/
LOCATION:Remote Access Only\, NY\, United States
CATEGORIES:Services,Featured in Next Service
ATTACH;FMTTYPE=image/jpeg:https://bj.org/wp-content/uploads/2019/10/1905-0275.jpg
ORGANIZER;CN="B'nai Jeshurun":MAILTO:info@bj.org
END:VEVENT
BEGIN:VEVENT
DTSTART;TZID=America/New_York:20240909T193000
DTEND;TZID=America/New_York:20240909T203000
DTSTAMP:20260422T170930
CREATED:20210311T194417Z
LAST-MODIFIED:20260330T193129Z
UID:10007466-1725910200-1725913800@bj.org
SUMMARY:Connections Cocktail Hour
DESCRIPTION:
URL:https://bj.org/event/connections-cocktail-hour-2/2024-09-09/
LOCATION:Remote Access Only\, NY\, United States
CATEGORIES:Events
ATTACH;FMTTYPE=image/jpeg:https://bj.org/wp-content/uploads/2022/04/best-italian-cocktails.jpg
ORGANIZER;CN="B'nai Jeshurun":MAILTO:info@bj.org
END:VEVENT
BEGIN:VEVENT
DTSTART;TZID=America/New_York:20240909T183000
DTEND;TZID=America/New_York:20240909T185000
DTSTAMP:20260422T170930
CREATED:20240313T165444Z
LAST-MODIFIED:20240916T182913Z
UID:10012434-1725906600-1725907800@bj.org
SUMMARY:Minha (Online)
DESCRIPTION:
URL:https://bj.org/event/minha-online-2/2024-09-09/
LOCATION:Remote Access Only\, NY\, United States
CATEGORIES:Services,Featured in Next Service
ATTACH;FMTTYPE=image/jpeg:https://bj.org/wp-content/uploads/2024/03/1905-0258-2048x1536-1.jpg
ORGANIZER;CN="B'nai Jeshurun":MAILTO:info@bj.org
END:VEVENT
BEGIN:VEVENT
DTSTART;TZID=America/New_York:20240908T183000
DTEND;TZID=America/New_York:20240908T185000
DTSTAMP:20260422T170930
CREATED:20240313T165444Z
LAST-MODIFIED:20240916T182913Z
UID:10012433-1725820200-1725821400@bj.org
SUMMARY:Minha (Online)
DESCRIPTION:
URL:https://bj.org/event/minha-online-2/2024-09-08/
LOCATION:Remote Access Only\, NY\, United States
CATEGORIES:Services,Featured in Next Service
ATTACH;FMTTYPE=image/jpeg:https://bj.org/wp-content/uploads/2024/03/1905-0258-2048x1536-1.jpg
ORGANIZER;CN="B'nai Jeshurun":MAILTO:info@bj.org
END:VEVENT
BEGIN:VEVENT
DTSTART;TZID=America/New_York:20240908T093000
DTEND;TZID=America/New_York:20240908T103000
DTSTAMP:20260422T170930
CREATED:20230926T191607Z
LAST-MODIFIED:20260226T185930Z
UID:10012125-1725787800-1725791400@bj.org
SUMMARY:Shaharit (Online)
DESCRIPTION:
URL:https://bj.org/event/shaharit-sunday/2024-09-08/
LOCATION:Remote Access Only\, NY\, United States
CATEGORIES:Services,Featured in Next Service
ATTACH;FMTTYPE=image/jpeg:https://bj.org/wp-content/uploads/2019/10/1905-0280.jpg
ORGANIZER;CN="B'nai Jeshurun":MAILTO:info@bj.org
END:VEVENT
BEGIN:VEVENT
DTSTART;TZID=America/New_York:20240907T201000
DTEND;TZID=America/New_York:20240907T203500
DTSTAMP:20260422T170930
CREATED:20240102T155619Z
LAST-MODIFIED:20240918T182738Z
UID:10010000-1725739800-1725741300@bj.org
SUMMARY:Arvit and Havdalah
DESCRIPTION:
URL:https://bj.org/event/arvit-and-havdalah-7/2024-09-07/
LOCATION:Remote Access Only\, NY\, United States
CATEGORIES:Services,Featured in Next Service
ATTACH;FMTTYPE=image/jpeg:https://bj.org/wp-content/uploads/2020/03/havdallah-shutterstock_1385831468.jpg
ORGANIZER;CN="B'nai Jeshurun":MAILTO:info@bj.org
END:VEVENT
BEGIN:VEVENT
DTSTART;TZID=America/New_York:20240906T080000
DTEND;TZID=America/New_York:20240906T090000
DTSTAMP:20260422T170930
CREATED:20230920T151927Z
LAST-MODIFIED:20250321T183125Z
UID:10012102-1725609600-1725613200@bj.org
SUMMARY:Shaharit (Online)
DESCRIPTION:
URL:https://bj.org/event/shaharit-online-5/2024-09-06/
LOCATION:Remote Access Only\, NY\, United States
CATEGORIES:Services,Featured in Next Service
ATTACH;FMTTYPE=image/jpeg:https://bj.org/wp-content/uploads/2019/10/1905-0275.jpg
ORGANIZER;CN="B'nai Jeshurun":MAILTO:info@bj.org
END:VEVENT
BEGIN:VEVENT
DTSTART;TZID=America/New_York:20240905T183000
DTEND;TZID=America/New_York:20240905T185000
DTSTAMP:20260422T170930
CREATED:20240313T165444Z
LAST-MODIFIED:20240916T182913Z
UID:10012432-1725561000-1725562200@bj.org
SUMMARY:Minha (Online)
DESCRIPTION:
URL:https://bj.org/event/minha-online-2/2024-09-05/
LOCATION:Remote Access Only\, NY\, United States
CATEGORIES:Services,Featured in Next Service
ATTACH;FMTTYPE=image/jpeg:https://bj.org/wp-content/uploads/2024/03/1905-0258-2048x1536-1.jpg
ORGANIZER;CN="B'nai Jeshurun":MAILTO:info@bj.org
END:VEVENT
BEGIN:VEVENT
DTSTART;TZID=America/New_York:20240905T154500
DTEND;TZID=America/New_York:20240905T164500
DTSTAMP:20260422T170930
CREATED:20221215T210758Z
LAST-MODIFIED:20260203T171538Z
UID:10009640-1725551100-1725554700@bj.org
SUMMARY:A Taste of Talmud: Daf Yomi with Rabbi Shuli Passow
DESCRIPTION:
URL:https://bj.org/event/a-taste-of-talmud-daf-yomi-with-rabbi-shuli-passow/2024-09-05/
LOCATION:Remote Access Only\, NY\, United States
CATEGORIES:Classes
ATTACH;FMTTYPE=image/png:https://bj.org/wp-content/uploads/2022/12/Daf-Yomi-Shuli-1.png
ORGANIZER;CN="B'nai Jeshurun":MAILTO:info@bj.org
END:VEVENT
BEGIN:VEVENT
DTSTART;TZID=America/New_York:20240904T183000
DTEND;TZID=America/New_York:20240904T185000
DTSTAMP:20260422T170930
CREATED:20240313T165444Z
LAST-MODIFIED:20240916T182913Z
UID:10012431-1725474600-1725475800@bj.org
SUMMARY:Minha (Online)
DESCRIPTION:
URL:https://bj.org/event/minha-online-2/2024-09-04/
LOCATION:Remote Access Only\, NY\, United States
CATEGORIES:Services,Featured in Next Service
ATTACH;FMTTYPE=image/jpeg:https://bj.org/wp-content/uploads/2024/03/1905-0258-2048x1536-1.jpg
ORGANIZER;CN="B'nai Jeshurun":MAILTO:info@bj.org
END:VEVENT
BEGIN:VEVENT
DTSTART;TZID=America/New_York:20240903T183000
DTEND;TZID=America/New_York:20240903T185000
DTSTAMP:20260422T170930
CREATED:20240313T165444Z
LAST-MODIFIED:20240916T182913Z
UID:10012430-1725388200-1725389400@bj.org
SUMMARY:Minha (Online)
DESCRIPTION:
URL:https://bj.org/event/minha-online-2/2024-09-03/
LOCATION:Remote Access Only\, NY\, United States
CATEGORIES:Services,Featured in Next Service
ATTACH;FMTTYPE=image/jpeg:https://bj.org/wp-content/uploads/2024/03/1905-0258-2048x1536-1.jpg
ORGANIZER;CN="B'nai Jeshurun":MAILTO:info@bj.org
END:VEVENT
BEGIN:VEVENT
DTSTART;TZID=America/New_York:20240903T173000
DTEND;TZID=America/New_York:20240903T181500
DTSTAMP:20260422T170930
CREATED:20230302T235540Z
LAST-MODIFIED:20260313T190025Z
UID:10011432-1725384600-1725387300@bj.org
SUMMARY:Mindfulness Prayer Practice Group
DESCRIPTION:
URL:https://bj.org/event/mindful-prayer-havurah/2024-09-03/
LOCATION:Remote Access Only\, NY\, United States
CATEGORIES:Classes
ATTACH;FMTTYPE=image/jpeg:https://bj.org/wp-content/uploads/2023/01/1905-0272-2048x1152-1.jpeg
ORGANIZER;CN="B'nai Jeshurun":MAILTO:info@bj.org
END:VEVENT
BEGIN:VEVENT
DTSTART;TZID=America/New_York:20240902T183000
DTEND;TZID=America/New_York:20240902T185000
DTSTAMP:20260422T170930
CREATED:20240313T165444Z
LAST-MODIFIED:20240916T182913Z
UID:10012429-1725301800-1725303000@bj.org
SUMMARY:Minha (Online)
DESCRIPTION:
URL:https://bj.org/event/minha-online-2/2024-09-02/
LOCATION:Remote Access Only\, NY\, United States
CATEGORIES:Services,Featured in Next Service
ATTACH;FMTTYPE=image/jpeg:https://bj.org/wp-content/uploads/2024/03/1905-0258-2048x1536-1.jpg
ORGANIZER;CN="B'nai Jeshurun":MAILTO:info@bj.org
END:VEVENT
BEGIN:VEVENT
DTSTART;TZID=America/New_York:20240901T183000
DTEND;TZID=America/New_York:20240901T185000
DTSTAMP:20260422T170930
CREATED:20240313T165444Z
LAST-MODIFIED:20240916T182913Z
UID:10011132-1725215400-1725216600@bj.org
SUMMARY:Minha (Online)
DESCRIPTION:
URL:https://bj.org/event/minha-online-2/2024-09-01/
LOCATION:Remote Access Only\, NY\, United States
CATEGORIES:Services,Featured in Next Service
ATTACH;FMTTYPE=image/jpeg:https://bj.org/wp-content/uploads/2024/03/1905-0258-2048x1536-1.jpg
ORGANIZER;CN="B'nai Jeshurun":MAILTO:info@bj.org
END:VEVENT
BEGIN:VEVENT
DTSTART;TZID=America/New_York:20240901T093000
DTEND;TZID=America/New_York:20240901T103000
DTSTAMP:20260422T170930
CREATED:20230926T191607Z
LAST-MODIFIED:20260226T185930Z
UID:10012124-1725183000-1725186600@bj.org
SUMMARY:Shaharit (Online)
DESCRIPTION:
URL:https://bj.org/event/shaharit-sunday/2024-09-01/
LOCATION:Remote Access Only\, NY\, United States
CATEGORIES:Services,Featured in Next Service
ATTACH;FMTTYPE=image/jpeg:https://bj.org/wp-content/uploads/2019/10/1905-0280.jpg
ORGANIZER;CN="B'nai Jeshurun":MAILTO:info@bj.org
END:VEVENT
BEGIN:VEVENT
DTSTART;TZID=America/New_York:20240831T202000
DTEND;TZID=America/New_York:20240831T204500
DTSTAMP:20260422T170930
CREATED:20240102T155619Z
LAST-MODIFIED:20240918T182738Z
UID:10009999-1725135600-1725137100@bj.org
SUMMARY:Arvit and Havdalah
DESCRIPTION:
URL:https://bj.org/event/arvit-and-havdalah-7/2024-08-31/
LOCATION:Remote Access Only\, NY\, United States
CATEGORIES:Services,Featured in Next Service
ATTACH;FMTTYPE=image/jpeg:https://bj.org/wp-content/uploads/2020/03/havdallah-shutterstock_1385831468.jpg
ORGANIZER;CN="B'nai Jeshurun":MAILTO:info@bj.org
END:VEVENT
BEGIN:VEVENT
DTSTART;TZID=America/New_York:20240830T080000
DTEND;TZID=America/New_York:20240830T090000
DTSTAMP:20260422T170930
CREATED:20230920T151927Z
LAST-MODIFIED:20250321T183125Z
UID:10012100-1725004800-1725008400@bj.org
SUMMARY:Shaharit (Online)
DESCRIPTION:
URL:https://bj.org/event/shaharit-online-5/2024-08-30/
LOCATION:Remote Access Only\, NY\, United States
CATEGORIES:Services,Featured in Next Service
ATTACH;FMTTYPE=image/jpeg:https://bj.org/wp-content/uploads/2019/10/1905-0275.jpg
ORGANIZER;CN="B'nai Jeshurun":MAILTO:info@bj.org
END:VEVENT
BEGIN:VEVENT
DTSTART;TZID=America/New_York:20240829T183000
DTEND;TZID=America/New_York:20240829T185000
DTSTAMP:20260422T170930
CREATED:20240313T165444Z
LAST-MODIFIED:20240916T182913Z
UID:10011131-1724956200-1724957400@bj.org
SUMMARY:Minha (Online)
DESCRIPTION:
URL:https://bj.org/event/minha-online-2/2024-08-29/
LOCATION:Remote Access Only\, NY\, United States
CATEGORIES:Services,Featured in Next Service
ATTACH;FMTTYPE=image/jpeg:https://bj.org/wp-content/uploads/2024/03/1905-0258-2048x1536-1.jpg
ORGANIZER;CN="B'nai Jeshurun":MAILTO:info@bj.org
END:VEVENT
BEGIN:VEVENT
DTSTART;TZID=America/New_York:20240829T154500
DTEND;TZID=America/New_York:20240829T164500
DTSTAMP:20260422T170930
CREATED:20221215T210758Z
LAST-MODIFIED:20260203T171538Z
UID:10009639-1724946300-1724949900@bj.org
SUMMARY:A Taste of Talmud: Daf Yomi with Rabbi Shuli Passow
DESCRIPTION:
URL:https://bj.org/event/a-taste-of-talmud-daf-yomi-with-rabbi-shuli-passow/2024-08-29/
LOCATION:Remote Access Only\, NY\, United States
CATEGORIES:Classes
ATTACH;FMTTYPE=image/png:https://bj.org/wp-content/uploads/2022/12/Daf-Yomi-Shuli-1.png
ORGANIZER;CN="B'nai Jeshurun":MAILTO:info@bj.org
END:VEVENT
BEGIN:VEVENT
DTSTART;TZID=America/New_York:20240828T183000
DTEND;TZID=America/New_York:20240828T185000
DTSTAMP:20260422T170930
CREATED:20240313T165444Z
LAST-MODIFIED:20240916T182913Z
UID:10011130-1724869800-1724871000@bj.org
SUMMARY:Minha (Online)
DESCRIPTION:
URL:https://bj.org/event/minha-online-2/2024-08-28/
LOCATION:Remote Access Only\, NY\, United States
CATEGORIES:Services,Featured in Next Service
ATTACH;FMTTYPE=image/jpeg:https://bj.org/wp-content/uploads/2024/03/1905-0258-2048x1536-1.jpg
ORGANIZER;CN="B'nai Jeshurun":MAILTO:info@bj.org
END:VEVENT
BEGIN:VEVENT
DTSTART;TZID=America/New_York:20240828T083000
DTEND;TZID=America/New_York:20240828T091500
DTSTAMP:20260422T170930
CREATED:20221215T212948Z
LAST-MODIFIED:20260415T133805Z
UID:10019652-1724833800-1724836500@bj.org
SUMMARY:Jewish Meditation with Rabbi Shuli Passow
DESCRIPTION:
URL:https://bj.org/event/jewish-meditation-with-rabbi-shuli-passow-3/2024-08-28/
LOCATION:Remote Access Only\, NY\, United States
CATEGORIES:Classes
ATTACH;FMTTYPE=image/jpeg:https://bj.org/wp-content/uploads/2022/12/Daily-Meditation-Shuli-Image.jpg
ORGANIZER;CN="B'nai Jeshurun":MAILTO:info@bj.org
END:VEVENT
BEGIN:VEVENT
DTSTART;TZID=America/New_York:20240828T080000
DTEND;TZID=America/New_York:20240828T090000
DTSTAMP:20260422T170930
CREATED:20230920T151927Z
LAST-MODIFIED:20250321T183125Z
UID:10012099-1724832000-1724835600@bj.org
SUMMARY:Shaharit (Online)
DESCRIPTION:
URL:https://bj.org/event/shaharit-online-5/2024-08-28/
LOCATION:Remote Access Only\, NY\, United States
CATEGORIES:Services,Featured in Next Service
ATTACH;FMTTYPE=image/jpeg:https://bj.org/wp-content/uploads/2019/10/1905-0275.jpg
ORGANIZER;CN="B'nai Jeshurun":MAILTO:info@bj.org
END:VEVENT
BEGIN:VEVENT
DTSTART;TZID=America/New_York:20240827T183000
DTEND;TZID=America/New_York:20240827T185000
DTSTAMP:20260422T170930
CREATED:20240313T165444Z
LAST-MODIFIED:20240916T182913Z
UID:10011129-1724783400-1724784600@bj.org
SUMMARY:Minha (Online)
DESCRIPTION:
URL:https://bj.org/event/minha-online-2/2024-08-27/
LOCATION:Remote Access Only\, NY\, United States
CATEGORIES:Services,Featured in Next Service
ATTACH;FMTTYPE=image/jpeg:https://bj.org/wp-content/uploads/2024/03/1905-0258-2048x1536-1.jpg
ORGANIZER;CN="B'nai Jeshurun":MAILTO:info@bj.org
END:VEVENT
BEGIN:VEVENT
DTSTART;TZID=America/New_York:20240827T173000
DTEND;TZID=America/New_York:20240827T181500
DTSTAMP:20260422T170930
CREATED:20230302T235540Z
LAST-MODIFIED:20260313T190025Z
UID:10011431-1724779800-1724782500@bj.org
SUMMARY:Mindfulness Prayer Practice Group
DESCRIPTION:
URL:https://bj.org/event/mindful-prayer-havurah/2024-08-27/
LOCATION:Remote Access Only\, NY\, United States
CATEGORIES:Classes
ATTACH;FMTTYPE=image/jpeg:https://bj.org/wp-content/uploads/2023/01/1905-0272-2048x1152-1.jpeg
ORGANIZER;CN="B'nai Jeshurun":MAILTO:info@bj.org
END:VEVENT
END:VCALENDAR