BEGIN:VCALENDAR
VERSION:2.0
PRODID:-//B&#039;nai Jeshurun - ECPv6.15.20//NONSGML v1.0//EN
CALSCALE:GREGORIAN
METHOD:PUBLISH
X-ORIGINAL-URL:https://bj.org
X-WR-CALDESC:Events for B&#039;nai Jeshurun
REFRESH-INTERVAL;VALUE=DURATION:PT1H
X-Robots-Tag:noindex
X-PUBLISHED-TTL:PT1H
BEGIN:VTIMEZONE
TZID:America/New_York
BEGIN:DAYLIGHT
TZOFFSETFROM:-0500
TZOFFSETTO:-0400
TZNAME:EDT
DTSTART:20230312T070000
END:DAYLIGHT
BEGIN:STANDARD
TZOFFSETFROM:-0400
TZOFFSETTO:-0500
TZNAME:EST
DTSTART:20231105T060000
END:STANDARD
BEGIN:DAYLIGHT
TZOFFSETFROM:-0500
TZOFFSETTO:-0400
TZNAME:EDT
DTSTART:20240310T070000
END:DAYLIGHT
BEGIN:STANDARD
TZOFFSETFROM:-0400
TZOFFSETTO:-0500
TZNAME:EST
DTSTART:20241103T060000
END:STANDARD
BEGIN:DAYLIGHT
TZOFFSETFROM:-0500
TZOFFSETTO:-0400
TZNAME:EDT
DTSTART:20250309T070000
END:DAYLIGHT
BEGIN:STANDARD
TZOFFSETFROM:-0400
TZOFFSETTO:-0500
TZNAME:EST
DTSTART:20251102T060000
END:STANDARD
BEGIN:DAYLIGHT
TZOFFSETFROM:-0500
TZOFFSETTO:-0400
TZNAME:EDT
DTSTART:20260308T070000
END:DAYLIGHT
BEGIN:STANDARD
TZOFFSETFROM:-0400
TZOFFSETTO:-0500
TZNAME:EST
DTSTART:20261101T060000
END:STANDARD
END:VTIMEZONE
BEGIN:VEVENT
DTSTART;TZID=America/New_York:20250107T173000
DTEND;TZID=America/New_York:20250107T181500
DTSTAMP:20260422T025525
CREATED:20230302T235540Z
LAST-MODIFIED:20260313T190025Z
UID:10011450-1736271000-1736273700@bj.org
SUMMARY:Mindfulness Prayer Practice Group
DESCRIPTION:
URL:https://bj.org/event/mindful-prayer-havurah/2025-01-07/
LOCATION:Remote Access Only\, NY\, United States
CATEGORIES:Classes
ATTACH;FMTTYPE=image/jpeg:https://bj.org/wp-content/uploads/2023/01/1905-0272-2048x1152-1.jpeg
ORGANIZER;CN="B'nai Jeshurun":MAILTO:info@bj.org
END:VEVENT
BEGIN:VEVENT
DTSTART;TZID=America/New_York:20250107T080000
DTEND;TZID=America/New_York:20250107T090000
DTSTAMP:20260422T025525
CREATED:20230920T151927Z
LAST-MODIFIED:20250321T183125Z
UID:10013141-1736236800-1736240400@bj.org
SUMMARY:Shaharit (Online)
DESCRIPTION:
URL:https://bj.org/event/shaharit-online-5/2025-01-07/
LOCATION:Remote Access Only\, NY\, United States
CATEGORIES:Services,Featured in Next Service
ATTACH;FMTTYPE=image/jpeg:https://bj.org/wp-content/uploads/2019/10/1905-0275.jpg
ORGANIZER;CN="B'nai Jeshurun":MAILTO:info@bj.org
END:VEVENT
BEGIN:VEVENT
DTSTART;TZID=America/New_York:20250106T193000
DTEND;TZID=America/New_York:20250106T203000
DTSTAMP:20260422T025525
CREATED:20210311T194417Z
LAST-MODIFIED:20260330T193129Z
UID:10007483-1736191800-1736195400@bj.org
SUMMARY:Connections Cocktail Hour
DESCRIPTION:
URL:https://bj.org/event/connections-cocktail-hour-2/2025-01-06/
LOCATION:Remote Access Only\, NY\, United States
CATEGORIES:Events
ATTACH;FMTTYPE=image/jpeg:https://bj.org/wp-content/uploads/2022/04/best-italian-cocktails.jpg
ORGANIZER;CN="B'nai Jeshurun":MAILTO:info@bj.org
END:VEVENT
BEGIN:VEVENT
DTSTART;TZID=America/New_York:20250106T183000
DTEND;TZID=America/New_York:20250106T185000
DTSTAMP:20260422T025525
CREATED:20240923T201132Z
LAST-MODIFIED:20250321T183431Z
UID:10013370-1736188200-1736189400@bj.org
SUMMARY:Arvit (Online)
DESCRIPTION:
URL:https://bj.org/event/arvit-online-2/2025-01-06/
LOCATION:Remote Access Only\, NY\, United States
CATEGORIES:Services,Featured in Next Service
ATTACH;FMTTYPE=image/jpeg:https://bj.org/wp-content/uploads/2024/03/1905-0258-2048x1536-1.jpg
ORGANIZER;CN="B'nai Jeshurun":MAILTO:info@bj.org
END:VEVENT
BEGIN:VEVENT
DTSTART;TZID=America/New_York:20250105T183000
DTEND;TZID=America/New_York:20250105T185000
DTSTAMP:20260422T025525
CREATED:20240923T201132Z
LAST-MODIFIED:20250321T183431Z
UID:10013369-1736101800-1736103000@bj.org
SUMMARY:Arvit (Online)
DESCRIPTION:
URL:https://bj.org/event/arvit-online-2/2025-01-05/
LOCATION:Remote Access Only\, NY\, United States
CATEGORIES:Services,Featured in Next Service
ATTACH;FMTTYPE=image/jpeg:https://bj.org/wp-content/uploads/2024/03/1905-0258-2048x1536-1.jpg
ORGANIZER;CN="B'nai Jeshurun":MAILTO:info@bj.org
END:VEVENT
BEGIN:VEVENT
DTSTART;TZID=America/New_York:20250105T093000
DTEND;TZID=America/New_York:20250105T103000
DTSTAMP:20260422T025525
CREATED:20230926T191607Z
LAST-MODIFIED:20260226T185930Z
UID:10013179-1736069400-1736073000@bj.org
SUMMARY:Shaharit (Online)
DESCRIPTION:
URL:https://bj.org/event/shaharit-sunday/2025-01-05/
LOCATION:Remote Access Only\, NY\, United States
CATEGORIES:Services,Featured in Next Service
ATTACH;FMTTYPE=image/jpeg:https://bj.org/wp-content/uploads/2019/10/1905-0280.jpg
ORGANIZER;CN="B'nai Jeshurun":MAILTO:info@bj.org
END:VEVENT
BEGIN:VEVENT
DTSTART;TZID=America/New_York:20250104T173000
DTEND;TZID=America/New_York:20250104T175500
DTSTAMP:20260422T025525
CREATED:20240418T174505Z
LAST-MODIFIED:20250916T171029Z
UID:10013505-1736011800-1736013300@bj.org
SUMMARY:Arvit and Havdalah
DESCRIPTION:
URL:https://bj.org/event/arvit-and-havdalah/2025-01-04/
LOCATION:Remote Access Only\, NY\, United States
CATEGORIES:Services,Featured in Next Service
ATTACH;FMTTYPE=image/jpeg:https://bj.org/wp-content/uploads/2020/03/havdallah-shutterstock_1385831468.jpg
ORGANIZER;CN="B'nai Jeshurun":MAILTO:info@bj.org
END:VEVENT
BEGIN:VEVENT
DTSTART;TZID=America/New_York:20250103T080000
DTEND;TZID=America/New_York:20250103T090000
DTSTAMP:20260422T025525
CREATED:20230920T151927Z
LAST-MODIFIED:20250321T183125Z
UID:10013140-1735891200-1735894800@bj.org
SUMMARY:Shaharit (Online)
DESCRIPTION:
URL:https://bj.org/event/shaharit-online-5/2025-01-03/
LOCATION:Remote Access Only\, NY\, United States
CATEGORIES:Services,Featured in Next Service
ATTACH;FMTTYPE=image/jpeg:https://bj.org/wp-content/uploads/2019/10/1905-0275.jpg
ORGANIZER;CN="B'nai Jeshurun":MAILTO:info@bj.org
END:VEVENT
BEGIN:VEVENT
DTSTART;TZID=America/New_York:20250102T183000
DTEND;TZID=America/New_York:20250102T185000
DTSTAMP:20260422T025525
CREATED:20240923T201132Z
LAST-MODIFIED:20250321T183431Z
UID:10013368-1735842600-1735843800@bj.org
SUMMARY:Arvit (Online)
DESCRIPTION:
URL:https://bj.org/event/arvit-online-2/2025-01-02/
LOCATION:Remote Access Only\, NY\, United States
CATEGORIES:Services,Featured in Next Service
ATTACH;FMTTYPE=image/jpeg:https://bj.org/wp-content/uploads/2024/03/1905-0258-2048x1536-1.jpg
ORGANIZER;CN="B'nai Jeshurun":MAILTO:info@bj.org
END:VEVENT
BEGIN:VEVENT
DTSTART;TZID=America/New_York:20250101T183000
DTEND;TZID=America/New_York:20250101T185000
DTSTAMP:20260422T025525
CREATED:20240923T201132Z
LAST-MODIFIED:20250321T183431Z
UID:10013367-1735756200-1735757400@bj.org
SUMMARY:Arvit (Online)
DESCRIPTION:
URL:https://bj.org/event/arvit-online-2/2025-01-01/
LOCATION:Remote Access Only\, NY\, United States
CATEGORIES:Services,Featured in Next Service
ATTACH;FMTTYPE=image/jpeg:https://bj.org/wp-content/uploads/2024/03/1905-0258-2048x1536-1.jpg
ORGANIZER;CN="B'nai Jeshurun":MAILTO:info@bj.org
END:VEVENT
BEGIN:VEVENT
DTSTART;TZID=America/New_York:20241231T183000
DTEND;TZID=America/New_York:20241231T185000
DTSTAMP:20260422T025525
CREATED:20240923T201132Z
LAST-MODIFIED:20250321T183431Z
UID:10013366-1735669800-1735671000@bj.org
SUMMARY:Arvit (Online)
DESCRIPTION:
URL:https://bj.org/event/arvit-online-2/2024-12-31/
LOCATION:Remote Access Only\, NY\, United States
CATEGORIES:Services,Featured in Next Service
ATTACH;FMTTYPE=image/jpeg:https://bj.org/wp-content/uploads/2024/03/1905-0258-2048x1536-1.jpg
ORGANIZER;CN="B'nai Jeshurun":MAILTO:info@bj.org
END:VEVENT
BEGIN:VEVENT
DTSTART;TZID=America/New_York:20241231T173000
DTEND;TZID=America/New_York:20241231T181500
DTSTAMP:20260422T025525
CREATED:20230302T235540Z
LAST-MODIFIED:20260313T190025Z
UID:10011449-1735666200-1735668900@bj.org
SUMMARY:Mindfulness Prayer Practice Group
DESCRIPTION:
URL:https://bj.org/event/mindful-prayer-havurah/2024-12-31/
LOCATION:Remote Access Only\, NY\, United States
CATEGORIES:Classes
ATTACH;FMTTYPE=image/jpeg:https://bj.org/wp-content/uploads/2023/01/1905-0272-2048x1152-1.jpeg
ORGANIZER;CN="B'nai Jeshurun":MAILTO:info@bj.org
END:VEVENT
BEGIN:VEVENT
DTSTART;TZID=America/New_York:20241230T183000
DTEND;TZID=America/New_York:20241230T185000
DTSTAMP:20260422T025525
CREATED:20240923T201132Z
LAST-MODIFIED:20250321T183431Z
UID:10013365-1735583400-1735584600@bj.org
SUMMARY:Arvit (Online)
DESCRIPTION:
URL:https://bj.org/event/arvit-online-2/2024-12-30/
LOCATION:Remote Access Only\, NY\, United States
CATEGORIES:Services,Featured in Next Service
ATTACH;FMTTYPE=image/jpeg:https://bj.org/wp-content/uploads/2024/03/1905-0258-2048x1536-1.jpg
ORGANIZER;CN="B'nai Jeshurun":MAILTO:info@bj.org
END:VEVENT
BEGIN:VEVENT
DTSTART;TZID=America/New_York:20241229T183000
DTEND;TZID=America/New_York:20241229T185000
DTSTAMP:20260422T025525
CREATED:20240923T201132Z
LAST-MODIFIED:20250321T183431Z
UID:10013364-1735497000-1735498200@bj.org
SUMMARY:Arvit (Online)
DESCRIPTION:
URL:https://bj.org/event/arvit-online-2/2024-12-29/
LOCATION:Remote Access Only\, NY\, United States
CATEGORIES:Services,Featured in Next Service
ATTACH;FMTTYPE=image/jpeg:https://bj.org/wp-content/uploads/2024/03/1905-0258-2048x1536-1.jpg
ORGANIZER;CN="B'nai Jeshurun":MAILTO:info@bj.org
END:VEVENT
BEGIN:VEVENT
DTSTART;TZID=America/New_York:20241228T172500
DTEND;TZID=America/New_York:20241228T175000
DTSTAMP:20260422T025525
CREATED:20240418T174505Z
LAST-MODIFIED:20250916T171029Z
UID:10013504-1735406700-1735408200@bj.org
SUMMARY:Arvit and Havdalah
DESCRIPTION:
URL:https://bj.org/event/arvit-and-havdalah/2024-12-28/
LOCATION:Remote Access Only\, NY\, United States
CATEGORIES:Services,Featured in Next Service
ATTACH;FMTTYPE=image/jpeg:https://bj.org/wp-content/uploads/2020/03/havdallah-shutterstock_1385831468.jpg
ORGANIZER;CN="B'nai Jeshurun":MAILTO:info@bj.org
END:VEVENT
BEGIN:VEVENT
DTSTART;TZID=America/New_York:20241226T183000
DTEND;TZID=America/New_York:20241226T185000
DTSTAMP:20260422T025525
CREATED:20240923T201132Z
LAST-MODIFIED:20250321T183431Z
UID:10013363-1735237800-1735239000@bj.org
SUMMARY:Arvit (Online)
DESCRIPTION:
URL:https://bj.org/event/arvit-online-2/2024-12-26/
LOCATION:Remote Access Only\, NY\, United States
CATEGORIES:Services,Featured in Next Service
ATTACH;FMTTYPE=image/jpeg:https://bj.org/wp-content/uploads/2024/03/1905-0258-2048x1536-1.jpg
ORGANIZER;CN="B'nai Jeshurun":MAILTO:info@bj.org
END:VEVENT
BEGIN:VEVENT
DTSTART;TZID=America/New_York:20241225T183000
DTEND;TZID=America/New_York:20241225T185000
DTSTAMP:20260422T025525
CREATED:20240923T201132Z
LAST-MODIFIED:20250321T183431Z
UID:10013362-1735151400-1735152600@bj.org
SUMMARY:Arvit (Online)
DESCRIPTION:
URL:https://bj.org/event/arvit-online-2/2024-12-25/
LOCATION:Remote Access Only\, NY\, United States
CATEGORIES:Services,Featured in Next Service
ATTACH;FMTTYPE=image/jpeg:https://bj.org/wp-content/uploads/2024/03/1905-0258-2048x1536-1.jpg
ORGANIZER;CN="B'nai Jeshurun":MAILTO:info@bj.org
END:VEVENT
BEGIN:VEVENT
DTSTART;TZID=America/New_York:20241224T183000
DTEND;TZID=America/New_York:20241224T185000
DTSTAMP:20260422T025525
CREATED:20240923T201132Z
LAST-MODIFIED:20250321T183431Z
UID:10013361-1735065000-1735066200@bj.org
SUMMARY:Arvit (Online)
DESCRIPTION:
URL:https://bj.org/event/arvit-online-2/2024-12-24/
LOCATION:Remote Access Only\, NY\, United States
CATEGORIES:Services,Featured in Next Service
ATTACH;FMTTYPE=image/jpeg:https://bj.org/wp-content/uploads/2024/03/1905-0258-2048x1536-1.jpg
ORGANIZER;CN="B'nai Jeshurun":MAILTO:info@bj.org
END:VEVENT
BEGIN:VEVENT
DTSTART;TZID=America/New_York:20241224T173000
DTEND;TZID=America/New_York:20241224T181500
DTSTAMP:20260422T025525
CREATED:20230302T235540Z
LAST-MODIFIED:20260313T190025Z
UID:10011448-1735061400-1735064100@bj.org
SUMMARY:Mindfulness Prayer Practice Group
DESCRIPTION:
URL:https://bj.org/event/mindful-prayer-havurah/2024-12-24/
LOCATION:Remote Access Only\, NY\, United States
CATEGORIES:Classes
ATTACH;FMTTYPE=image/jpeg:https://bj.org/wp-content/uploads/2023/01/1905-0272-2048x1152-1.jpeg
ORGANIZER;CN="B'nai Jeshurun":MAILTO:info@bj.org
END:VEVENT
BEGIN:VEVENT
DTSTART;TZID=America/New_York:20241224T080000
DTEND;TZID=America/New_York:20241224T090000
DTSTAMP:20260422T025525
CREATED:20230920T151927Z
LAST-MODIFIED:20250321T183125Z
UID:10013139-1735027200-1735030800@bj.org
SUMMARY:Shaharit (Online)
DESCRIPTION:
URL:https://bj.org/event/shaharit-online-5/2024-12-24/
LOCATION:Remote Access Only\, NY\, United States
CATEGORIES:Services,Featured in Next Service
ATTACH;FMTTYPE=image/jpeg:https://bj.org/wp-content/uploads/2019/10/1905-0275.jpg
ORGANIZER;CN="B'nai Jeshurun":MAILTO:info@bj.org
END:VEVENT
BEGIN:VEVENT
DTSTART;TZID=America/New_York:20241223T193000
DTEND;TZID=America/New_York:20241223T203000
DTSTAMP:20260422T025525
CREATED:20210311T194417Z
LAST-MODIFIED:20260330T193129Z
UID:10007481-1734982200-1734985800@bj.org
SUMMARY:Connections Cocktail Hour
DESCRIPTION:
URL:https://bj.org/event/connections-cocktail-hour-2/2024-12-23/
LOCATION:Remote Access Only\, NY\, United States
CATEGORIES:Events
ATTACH;FMTTYPE=image/jpeg:https://bj.org/wp-content/uploads/2022/04/best-italian-cocktails.jpg
ORGANIZER;CN="B'nai Jeshurun":MAILTO:info@bj.org
END:VEVENT
BEGIN:VEVENT
DTSTART;TZID=America/New_York:20241223T183000
DTEND;TZID=America/New_York:20241223T185000
DTSTAMP:20260422T025525
CREATED:20240923T201132Z
LAST-MODIFIED:20250321T183431Z
UID:10013360-1734978600-1734979800@bj.org
SUMMARY:Arvit (Online)
DESCRIPTION:
URL:https://bj.org/event/arvit-online-2/2024-12-23/
LOCATION:Remote Access Only\, NY\, United States
CATEGORIES:Services,Featured in Next Service
ATTACH;FMTTYPE=image/jpeg:https://bj.org/wp-content/uploads/2024/03/1905-0258-2048x1536-1.jpg
ORGANIZER;CN="B'nai Jeshurun":MAILTO:info@bj.org
END:VEVENT
BEGIN:VEVENT
DTSTART;TZID=America/New_York:20241222T183000
DTEND;TZID=America/New_York:20241222T185000
DTSTAMP:20260422T025525
CREATED:20240923T201132Z
LAST-MODIFIED:20250321T183431Z
UID:10013359-1734892200-1734893400@bj.org
SUMMARY:Arvit (Online)
DESCRIPTION:
URL:https://bj.org/event/arvit-online-2/2024-12-22/
LOCATION:Remote Access Only\, NY\, United States
CATEGORIES:Services,Featured in Next Service
ATTACH;FMTTYPE=image/jpeg:https://bj.org/wp-content/uploads/2024/03/1905-0258-2048x1536-1.jpg
ORGANIZER;CN="B'nai Jeshurun":MAILTO:info@bj.org
END:VEVENT
BEGIN:VEVENT
DTSTART;TZID=America/New_York:20241222T093000
DTEND;TZID=America/New_York:20241222T103000
DTSTAMP:20260422T025525
CREATED:20230926T191607Z
LAST-MODIFIED:20260226T185930Z
UID:10013178-1734859800-1734863400@bj.org
SUMMARY:Shaharit (Online)
DESCRIPTION:
URL:https://bj.org/event/shaharit-sunday/2024-12-22/
LOCATION:Remote Access Only\, NY\, United States
CATEGORIES:Services,Featured in Next Service
ATTACH;FMTTYPE=image/jpeg:https://bj.org/wp-content/uploads/2019/10/1905-0280.jpg
ORGANIZER;CN="B'nai Jeshurun":MAILTO:info@bj.org
END:VEVENT
BEGIN:VEVENT
DTSTART;TZID=America/New_York:20241221T172000
DTEND;TZID=America/New_York:20241221T174500
DTSTAMP:20260422T025525
CREATED:20240418T174505Z
LAST-MODIFIED:20250916T171029Z
UID:10013503-1734801600-1734803100@bj.org
SUMMARY:Arvit and Havdalah
DESCRIPTION:
URL:https://bj.org/event/arvit-and-havdalah/2024-12-21/
LOCATION:Remote Access Only\, NY\, United States
CATEGORIES:Services,Featured in Next Service
ATTACH;FMTTYPE=image/jpeg:https://bj.org/wp-content/uploads/2020/03/havdallah-shutterstock_1385831468.jpg
ORGANIZER;CN="B'nai Jeshurun":MAILTO:info@bj.org
END:VEVENT
BEGIN:VEVENT
DTSTART;TZID=America/New_York:20241220T080000
DTEND;TZID=America/New_York:20241220T090000
DTSTAMP:20260422T025525
CREATED:20230920T151927Z
LAST-MODIFIED:20250321T183125Z
UID:10013138-1734681600-1734685200@bj.org
SUMMARY:Shaharit (Online)
DESCRIPTION:
URL:https://bj.org/event/shaharit-online-5/2024-12-20/
LOCATION:Remote Access Only\, NY\, United States
CATEGORIES:Services,Featured in Next Service
ATTACH;FMTTYPE=image/jpeg:https://bj.org/wp-content/uploads/2019/10/1905-0275.jpg
ORGANIZER;CN="B'nai Jeshurun":MAILTO:info@bj.org
END:VEVENT
BEGIN:VEVENT
DTSTART;TZID=America/New_York:20241219T190000
DTEND;TZID=America/New_York:20241219T203000
DTSTAMP:20260422T025525
CREATED:20241126T192102Z
LAST-MODIFIED:20241126T192103Z
UID:10013439-1734634800-1734640200@bj.org
SUMMARY:Israeli Authors Discussion Group: Ayelet Tsabari
DESCRIPTION:
URL:https://bj.org/event/israeli-authors-discussion-group-15-3/
LOCATION:Remote Access Only\, NY\, United States
CATEGORIES:Events,Featured on Home Page
ATTACH;FMTTYPE=image/png:https://bj.org/wp-content/uploads/2024/10/Songs-for-the-Broken-Hearted.png
ORGANIZER;CN="B'nai Jeshurun":MAILTO:info@bj.org
END:VEVENT
BEGIN:VEVENT
DTSTART;TZID=America/New_York:20241219T183000
DTEND;TZID=America/New_York:20241219T185000
DTSTAMP:20260422T025525
CREATED:20240923T201132Z
LAST-MODIFIED:20250321T183431Z
UID:10013358-1734633000-1734634200@bj.org
SUMMARY:Arvit (Online)
DESCRIPTION:
URL:https://bj.org/event/arvit-online-2/2024-12-19/
LOCATION:Remote Access Only\, NY\, United States
CATEGORIES:Services,Featured in Next Service
ATTACH;FMTTYPE=image/jpeg:https://bj.org/wp-content/uploads/2024/03/1905-0258-2048x1536-1.jpg
ORGANIZER;CN="B'nai Jeshurun":MAILTO:info@bj.org
END:VEVENT
BEGIN:VEVENT
DTSTART;TZID=America/New_York:20241219T154500
DTEND;TZID=America/New_York:20241219T164500
DTSTAMP:20260422T025525
CREATED:20221215T210758Z
LAST-MODIFIED:20260203T171538Z
UID:10009655-1734623100-1734626700@bj.org
SUMMARY:A Taste of Talmud: Daf Yomi with Rabbi Shuli Passow
DESCRIPTION:
URL:https://bj.org/event/a-taste-of-talmud-daf-yomi-with-rabbi-shuli-passow/2024-12-19/
LOCATION:Remote Access Only\, NY\, United States
CATEGORIES:Classes
ATTACH;FMTTYPE=image/png:https://bj.org/wp-content/uploads/2022/12/Daf-Yomi-Shuli-1.png
ORGANIZER;CN="B'nai Jeshurun":MAILTO:info@bj.org
END:VEVENT
BEGIN:VEVENT
DTSTART;TZID=America/New_York:20241218T190000
DTEND;TZID=America/New_York:20241218T201500
DTSTAMP:20260422T025525
CREATED:20241204T192202Z
LAST-MODIFIED:20241204T192202Z
UID:10013531-1734548400-1734552900@bj.org
SUMMARY:Light in the Darkness: A Hanukkah Bereavement Group
DESCRIPTION:
URL:https://bj.org/event/light-in-the-darkness-a-hanukkah-bereavement-group-2/
LOCATION:Remote Access Only\, NY\, United States
CATEGORIES:Events,Holidays,Hanukkah
ATTACH;FMTTYPE=image/png:https://bj.org/wp-content/uploads/2024/12/hanukkah.png
ORGANIZER;CN="B'nai Jeshurun":MAILTO:info@bj.org
END:VEVENT
END:VCALENDAR