BEGIN:VCALENDAR
VERSION:2.0
PRODID:-//B&#039;nai Jeshurun - ECPv6.15.20//NONSGML v1.0//EN
CALSCALE:GREGORIAN
METHOD:PUBLISH
X-WR-CALNAME:B&#039;nai Jeshurun
X-ORIGINAL-URL:https://bj.org
X-WR-CALDESC:Events for B&#039;nai Jeshurun
REFRESH-INTERVAL;VALUE=DURATION:PT1H
X-Robots-Tag:noindex
X-PUBLISHED-TTL:PT1H
BEGIN:VTIMEZONE
TZID:America/New_York
BEGIN:DAYLIGHT
TZOFFSETFROM:-0500
TZOFFSETTO:-0400
TZNAME:EDT
DTSTART:20240310T070000
END:DAYLIGHT
BEGIN:STANDARD
TZOFFSETFROM:-0400
TZOFFSETTO:-0500
TZNAME:EST
DTSTART:20241103T060000
END:STANDARD
BEGIN:DAYLIGHT
TZOFFSETFROM:-0500
TZOFFSETTO:-0400
TZNAME:EDT
DTSTART:20250309T070000
END:DAYLIGHT
BEGIN:STANDARD
TZOFFSETFROM:-0400
TZOFFSETTO:-0500
TZNAME:EST
DTSTART:20251102T060000
END:STANDARD
BEGIN:DAYLIGHT
TZOFFSETFROM:-0500
TZOFFSETTO:-0400
TZNAME:EDT
DTSTART:20260308T070000
END:DAYLIGHT
BEGIN:STANDARD
TZOFFSETFROM:-0400
TZOFFSETTO:-0500
TZNAME:EST
DTSTART:20261101T060000
END:STANDARD
END:VTIMEZONE
BEGIN:VEVENT
DTSTART;TZID=America/New_York:20250207T080000
DTEND;TZID=America/New_York:20250207T090000
DTSTAMP:20260421T232140
CREATED:20250127T213804Z
LAST-MODIFIED:20250911T161424Z
UID:10013852-1738915200-1738918800@bj.org
SUMMARY:Shaharit (Online)
DESCRIPTION:
URL:https://bj.org/event/shaharit-online-10/2025-02-07/
LOCATION:Remote Access Only\, NY\, United States
CATEGORIES:Services,Featured in Next Service
ATTACH;FMTTYPE=image/jpeg:https://bj.org/wp-content/uploads/2019/10/1905-0275.jpg
ORGANIZER;CN="B'nai Jeshurun":MAILTO:info@bj.org
END:VEVENT
BEGIN:VEVENT
DTSTART;TZID=America/New_York:20250206T183000
DTEND;TZID=America/New_York:20250206T185000
DTSTAMP:20260421T232140
CREATED:20240923T201132Z
LAST-MODIFIED:20250321T183431Z
UID:10013393-1738866600-1738867800@bj.org
SUMMARY:Arvit (Online)
DESCRIPTION:
URL:https://bj.org/event/arvit-online-2/2025-02-06/
LOCATION:Remote Access Only\, NY\, United States
CATEGORIES:Services,Featured in Next Service
ATTACH;FMTTYPE=image/jpeg:https://bj.org/wp-content/uploads/2024/03/1905-0258-2048x1536-1.jpg
ORGANIZER;CN="B'nai Jeshurun":MAILTO:info@bj.org
END:VEVENT
BEGIN:VEVENT
DTSTART;TZID=America/New_York:20250206T154500
DTEND;TZID=America/New_York:20250206T164500
DTSTAMP:20260421T232140
CREATED:20221215T210758Z
LAST-MODIFIED:20260203T171538Z
UID:10013552-1738856700-1738860300@bj.org
SUMMARY:A Taste of Talmud: Daf Yomi with Rabbi Shuli Passow
DESCRIPTION:
URL:https://bj.org/event/a-taste-of-talmud-daf-yomi-with-rabbi-shuli-passow/2025-02-06/
LOCATION:Remote Access Only\, NY\, United States
CATEGORIES:Classes
ATTACH;FMTTYPE=image/png:https://bj.org/wp-content/uploads/2022/12/Daf-Yomi-Shuli-1.png
ORGANIZER;CN="B'nai Jeshurun":MAILTO:info@bj.org
END:VEVENT
BEGIN:VEVENT
DTSTART;TZID=America/New_York:20250205T183000
DTEND;TZID=America/New_York:20250205T185000
DTSTAMP:20260421T232140
CREATED:20240923T201132Z
LAST-MODIFIED:20250321T183431Z
UID:10013392-1738780200-1738781400@bj.org
SUMMARY:Arvit (Online)
DESCRIPTION:
URL:https://bj.org/event/arvit-online-2/2025-02-05/
LOCATION:Remote Access Only\, NY\, United States
CATEGORIES:Services,Featured in Next Service
ATTACH;FMTTYPE=image/jpeg:https://bj.org/wp-content/uploads/2024/03/1905-0258-2048x1536-1.jpg
ORGANIZER;CN="B'nai Jeshurun":MAILTO:info@bj.org
END:VEVENT
BEGIN:VEVENT
DTSTART;TZID=America/New_York:20250205T083000
DTEND;TZID=America/New_York:20250205T091500
DTSTAMP:20260421T232140
CREATED:20221215T212948Z
LAST-MODIFIED:20260415T133805Z
UID:10019671-1738744200-1738746900@bj.org
SUMMARY:Jewish Meditation with Rabbi Shuli Passow
DESCRIPTION:
URL:https://bj.org/event/jewish-meditation-with-rabbi-shuli-passow-3/2025-02-05/
LOCATION:Remote Access Only\, NY\, United States
CATEGORIES:Classes
ATTACH;FMTTYPE=image/jpeg:https://bj.org/wp-content/uploads/2022/12/Daily-Meditation-Shuli-Image.jpg
ORGANIZER;CN="B'nai Jeshurun":MAILTO:info@bj.org
END:VEVENT
BEGIN:VEVENT
DTSTART;TZID=America/New_York:20250205T080000
DTEND;TZID=America/New_York:20250205T090000
DTSTAMP:20260421T232140
CREATED:20250127T213804Z
LAST-MODIFIED:20250911T161424Z
UID:10013851-1738742400-1738746000@bj.org
SUMMARY:Shaharit (Online)
DESCRIPTION:
URL:https://bj.org/event/shaharit-online-10/2025-02-05/
LOCATION:Remote Access Only\, NY\, United States
CATEGORIES:Services,Featured in Next Service
ATTACH;FMTTYPE=image/jpeg:https://bj.org/wp-content/uploads/2019/10/1905-0275.jpg
ORGANIZER;CN="B'nai Jeshurun":MAILTO:info@bj.org
END:VEVENT
BEGIN:VEVENT
DTSTART;TZID=America/New_York:20250204T193000
DTEND;TZID=America/New_York:20250204T210000
DTSTAMP:20260421T232140
CREATED:20241022T151404Z
LAST-MODIFIED:20250508T145917Z
UID:10013237-1738697400-1738702800@bj.org
SUMMARY:Intro to Judaism
DESCRIPTION:
URL:https://bj.org/event/intro-to-judaism/2025-02-04/
LOCATION:Remote Access Only\, NY\, United States
CATEGORIES:Classes,Featured on Home Page
ATTACH;FMTTYPE=image/jpeg:https://bj.org/wp-content/uploads/2024/10/whi5A0o8.jpg
ORGANIZER;CN="B'nai Jeshurun":MAILTO:info@bj.org
END:VEVENT
BEGIN:VEVENT
DTSTART;TZID=America/New_York:20250204T183000
DTEND;TZID=America/New_York:20250204T185000
DTSTAMP:20260421T232140
CREATED:20240923T201132Z
LAST-MODIFIED:20250321T183431Z
UID:10013391-1738693800-1738695000@bj.org
SUMMARY:Arvit (Online)
DESCRIPTION:
URL:https://bj.org/event/arvit-online-2/2025-02-04/
LOCATION:Remote Access Only\, NY\, United States
CATEGORIES:Services,Featured in Next Service
ATTACH;FMTTYPE=image/jpeg:https://bj.org/wp-content/uploads/2024/03/1905-0258-2048x1536-1.jpg
ORGANIZER;CN="B'nai Jeshurun":MAILTO:info@bj.org
END:VEVENT
BEGIN:VEVENT
DTSTART;TZID=America/New_York:20250204T173000
DTEND;TZID=America/New_York:20250204T181500
DTSTAMP:20260421T232140
CREATED:20230302T235540Z
LAST-MODIFIED:20260313T190025Z
UID:10011454-1738690200-1738692900@bj.org
SUMMARY:Mindfulness Prayer Practice Group
DESCRIPTION:
URL:https://bj.org/event/mindful-prayer-havurah/2025-02-04/
LOCATION:Remote Access Only\, NY\, United States
CATEGORIES:Classes
ATTACH;FMTTYPE=image/jpeg:https://bj.org/wp-content/uploads/2023/01/1905-0272-2048x1152-1.jpeg
ORGANIZER;CN="B'nai Jeshurun":MAILTO:info@bj.org
END:VEVENT
BEGIN:VEVENT
DTSTART;TZID=America/New_York:20250204T080000
DTEND;TZID=America/New_York:20250204T090000
DTSTAMP:20260421T232140
CREATED:20250127T213804Z
LAST-MODIFIED:20250911T161424Z
UID:10013850-1738656000-1738659600@bj.org
SUMMARY:Shaharit (Online)
DESCRIPTION:
URL:https://bj.org/event/shaharit-online-10/2025-02-04/
LOCATION:Remote Access Only\, NY\, United States
CATEGORIES:Services,Featured in Next Service
ATTACH;FMTTYPE=image/jpeg:https://bj.org/wp-content/uploads/2019/10/1905-0275.jpg
ORGANIZER;CN="B'nai Jeshurun":MAILTO:info@bj.org
END:VEVENT
BEGIN:VEVENT
DTSTART;TZID=America/New_York:20250203T203000
DTEND;TZID=America/New_York:20250203T213000
DTSTAMP:20260421T232140
CREATED:20241016T155552Z
LAST-MODIFIED:20241204T203845Z
UID:10013535-1738614600-1738618200@bj.org
SUMMARY:Parenting as a Spiritual Practice with Rabbi Becca Weintraub
DESCRIPTION:
URL:https://bj.org/event/parenting-as-a-spiritual-practice/2025-02-03/
LOCATION:Remote Access Only\, NY\, United States
CATEGORIES:Events,Featured on Home Page
ATTACH;FMTTYPE=image/jpeg:https://bj.org/wp-content/uploads/2019/09/1905-0290.jpg
ORGANIZER;CN="B'nai Jeshurun":MAILTO:info@bj.org
END:VEVENT
BEGIN:VEVENT
DTSTART;TZID=America/New_York:20250203T193000
DTEND;TZID=America/New_York:20250203T203000
DTSTAMP:20260421T232140
CREATED:20250115T205159Z
LAST-MODIFIED:20250124T142808Z
UID:10007487-1738611000-1738614600@bj.org
SUMMARY:Connections Zoom Cocktail Hour and Trivia—Bicentennial Edition!
DESCRIPTION:
URL:https://bj.org/event/connections-cocktail-hour-2-4/
LOCATION:Remote Access Only\, NY\, United States
CATEGORIES:Events
ATTACH;FMTTYPE=image/jpeg:https://bj.org/wp-content/uploads/2022/04/best-italian-cocktails.jpg
ORGANIZER;CN="B'nai Jeshurun":MAILTO:info@bj.org
END:VEVENT
BEGIN:VEVENT
DTSTART;TZID=America/New_York:20250203T183000
DTEND;TZID=America/New_York:20250203T185000
DTSTAMP:20260421T232140
CREATED:20240923T201132Z
LAST-MODIFIED:20250321T183431Z
UID:10013390-1738607400-1738608600@bj.org
SUMMARY:Arvit (Online)
DESCRIPTION:
URL:https://bj.org/event/arvit-online-2/2025-02-03/
LOCATION:Remote Access Only\, NY\, United States
CATEGORIES:Services,Featured in Next Service
ATTACH;FMTTYPE=image/jpeg:https://bj.org/wp-content/uploads/2024/03/1905-0258-2048x1536-1.jpg
ORGANIZER;CN="B'nai Jeshurun":MAILTO:info@bj.org
END:VEVENT
BEGIN:VEVENT
DTSTART;TZID=America/New_York:20250202T183000
DTEND;TZID=America/New_York:20250202T185000
DTSTAMP:20260421T232140
CREATED:20240923T201132Z
LAST-MODIFIED:20250321T183431Z
UID:10013389-1738521000-1738522200@bj.org
SUMMARY:Arvit (Online)
DESCRIPTION:
URL:https://bj.org/event/arvit-online-2/2025-02-02/
LOCATION:Remote Access Only\, NY\, United States
CATEGORIES:Services,Featured in Next Service
ATTACH;FMTTYPE=image/jpeg:https://bj.org/wp-content/uploads/2024/03/1905-0258-2048x1536-1.jpg
ORGANIZER;CN="B'nai Jeshurun":MAILTO:info@bj.org
END:VEVENT
BEGIN:VEVENT
DTSTART;TZID=America/New_York:20250202T093000
DTEND;TZID=America/New_York:20250202T103000
DTSTAMP:20260421T232140
CREATED:20230926T191607Z
LAST-MODIFIED:20260226T185930Z
UID:10013795-1738488600-1738492200@bj.org
SUMMARY:Shaharit (Online)
DESCRIPTION:
URL:https://bj.org/event/shaharit-sunday/2025-02-02/
LOCATION:Remote Access Only\, NY\, United States
CATEGORIES:Services,Featured in Next Service
ATTACH;FMTTYPE=image/jpeg:https://bj.org/wp-content/uploads/2019/10/1905-0280.jpg
ORGANIZER;CN="B'nai Jeshurun":MAILTO:info@bj.org
END:VEVENT
BEGIN:VEVENT
DTSTART;TZID=America/New_York:20250201T180000
DTEND;TZID=America/New_York:20250201T182500
DTSTAMP:20260421T232140
CREATED:20240418T174505Z
LAST-MODIFIED:20250916T171029Z
UID:10013770-1738432800-1738434300@bj.org
SUMMARY:Arvit and Havdalah
DESCRIPTION:
URL:https://bj.org/event/arvit-and-havdalah/2025-02-01/
LOCATION:Remote Access Only\, NY\, United States
CATEGORIES:Services,Featured in Next Service
ATTACH;FMTTYPE=image/jpeg:https://bj.org/wp-content/uploads/2020/03/havdallah-shutterstock_1385831468.jpg
ORGANIZER;CN="B'nai Jeshurun":MAILTO:info@bj.org
END:VEVENT
BEGIN:VEVENT
DTSTART;TZID=America/New_York:20250131T080000
DTEND;TZID=America/New_York:20250131T090000
DTSTAMP:20260421T232140
CREATED:20230920T151927Z
LAST-MODIFIED:20250321T183125Z
UID:10013152-1738310400-1738314000@bj.org
SUMMARY:Shaharit (Online)
DESCRIPTION:
URL:https://bj.org/event/shaharit-online-5/2025-01-31/
LOCATION:Remote Access Only\, NY\, United States
CATEGORIES:Services,Featured in Next Service
ATTACH;FMTTYPE=image/jpeg:https://bj.org/wp-content/uploads/2019/10/1905-0275.jpg
ORGANIZER;CN="B'nai Jeshurun":MAILTO:info@bj.org
END:VEVENT
BEGIN:VEVENT
DTSTART;TZID=America/New_York:20250130T183000
DTEND;TZID=America/New_York:20250130T185000
DTSTAMP:20260421T232140
CREATED:20240923T201132Z
LAST-MODIFIED:20250321T183431Z
UID:10013388-1738261800-1738263000@bj.org
SUMMARY:Arvit (Online)
DESCRIPTION:
URL:https://bj.org/event/arvit-online-2/2025-01-30/
LOCATION:Remote Access Only\, NY\, United States
CATEGORIES:Services,Featured in Next Service
ATTACH;FMTTYPE=image/jpeg:https://bj.org/wp-content/uploads/2024/03/1905-0258-2048x1536-1.jpg
ORGANIZER;CN="B'nai Jeshurun":MAILTO:info@bj.org
END:VEVENT
BEGIN:VEVENT
DTSTART;TZID=America/New_York:20250130T154500
DTEND;TZID=America/New_York:20250130T164500
DTSTAMP:20260421T232140
CREATED:20221215T210758Z
LAST-MODIFIED:20260203T171538Z
UID:10013551-1738251900-1738255500@bj.org
SUMMARY:A Taste of Talmud: Daf Yomi with Rabbi Shuli Passow
DESCRIPTION:
URL:https://bj.org/event/a-taste-of-talmud-daf-yomi-with-rabbi-shuli-passow/2025-01-30/
LOCATION:Remote Access Only\, NY\, United States
CATEGORIES:Classes
ATTACH;FMTTYPE=image/png:https://bj.org/wp-content/uploads/2022/12/Daf-Yomi-Shuli-1.png
ORGANIZER;CN="B'nai Jeshurun":MAILTO:info@bj.org
END:VEVENT
BEGIN:VEVENT
DTSTART;TZID=America/New_York:20250129T183000
DTEND;TZID=America/New_York:20250129T185000
DTSTAMP:20260421T232140
CREATED:20240923T201132Z
LAST-MODIFIED:20250321T183431Z
UID:10013387-1738175400-1738176600@bj.org
SUMMARY:Arvit (Online)
DESCRIPTION:
URL:https://bj.org/event/arvit-online-2/2025-01-29/
LOCATION:Remote Access Only\, NY\, United States
CATEGORIES:Services,Featured in Next Service
ATTACH;FMTTYPE=image/jpeg:https://bj.org/wp-content/uploads/2024/03/1905-0258-2048x1536-1.jpg
ORGANIZER;CN="B'nai Jeshurun":MAILTO:info@bj.org
END:VEVENT
BEGIN:VEVENT
DTSTART;TZID=America/New_York:20250129T083000
DTEND;TZID=America/New_York:20250129T091500
DTSTAMP:20260421T232140
CREATED:20221215T212948Z
LAST-MODIFIED:20260415T133805Z
UID:10019670-1738139400-1738142100@bj.org
SUMMARY:Jewish Meditation with Rabbi Shuli Passow
DESCRIPTION:
URL:https://bj.org/event/jewish-meditation-with-rabbi-shuli-passow-3/2025-01-29/
LOCATION:Remote Access Only\, NY\, United States
CATEGORIES:Classes
ATTACH;FMTTYPE=image/jpeg:https://bj.org/wp-content/uploads/2022/12/Daily-Meditation-Shuli-Image.jpg
ORGANIZER;CN="B'nai Jeshurun":MAILTO:info@bj.org
END:VEVENT
BEGIN:VEVENT
DTSTART;TZID=America/New_York:20250129T080000
DTEND;TZID=America/New_York:20250129T090000
DTSTAMP:20260421T232140
CREATED:20230920T151927Z
LAST-MODIFIED:20250321T183125Z
UID:10013151-1738137600-1738141200@bj.org
SUMMARY:Shaharit (Online)
DESCRIPTION:
URL:https://bj.org/event/shaharit-online-5/2025-01-29/
LOCATION:Remote Access Only\, NY\, United States
CATEGORIES:Services,Featured in Next Service
ATTACH;FMTTYPE=image/jpeg:https://bj.org/wp-content/uploads/2019/10/1905-0275.jpg
ORGANIZER;CN="B'nai Jeshurun":MAILTO:info@bj.org
END:VEVENT
BEGIN:VEVENT
DTSTART;TZID=America/New_York:20250128T193000
DTEND;TZID=America/New_York:20250128T210000
DTSTAMP:20260421T232140
CREATED:20241022T151404Z
LAST-MODIFIED:20250508T145917Z
UID:10013236-1738092600-1738098000@bj.org
SUMMARY:Intro to Judaism
DESCRIPTION:
URL:https://bj.org/event/intro-to-judaism/2025-01-28/
LOCATION:Remote Access Only\, NY\, United States
CATEGORIES:Classes,Featured on Home Page
ATTACH;FMTTYPE=image/jpeg:https://bj.org/wp-content/uploads/2024/10/whi5A0o8.jpg
ORGANIZER;CN="B'nai Jeshurun":MAILTO:info@bj.org
END:VEVENT
BEGIN:VEVENT
DTSTART;TZID=America/New_York:20250128T183000
DTEND;TZID=America/New_York:20250128T185000
DTSTAMP:20260421T232140
CREATED:20240923T201132Z
LAST-MODIFIED:20250321T183431Z
UID:10013386-1738089000-1738090200@bj.org
SUMMARY:Arvit (Online)
DESCRIPTION:
URL:https://bj.org/event/arvit-online-2/2025-01-28/
LOCATION:Remote Access Only\, NY\, United States
CATEGORIES:Services,Featured in Next Service
ATTACH;FMTTYPE=image/jpeg:https://bj.org/wp-content/uploads/2024/03/1905-0258-2048x1536-1.jpg
ORGANIZER;CN="B'nai Jeshurun":MAILTO:info@bj.org
END:VEVENT
BEGIN:VEVENT
DTSTART;TZID=America/New_York:20250128T173000
DTEND;TZID=America/New_York:20250128T181500
DTSTAMP:20260421T232140
CREATED:20230302T235540Z
LAST-MODIFIED:20260313T190025Z
UID:10011453-1738085400-1738088100@bj.org
SUMMARY:Mindfulness Prayer Practice Group
DESCRIPTION:
URL:https://bj.org/event/mindful-prayer-havurah/2025-01-28/
LOCATION:Remote Access Only\, NY\, United States
CATEGORIES:Classes
ATTACH;FMTTYPE=image/jpeg:https://bj.org/wp-content/uploads/2023/01/1905-0272-2048x1152-1.jpeg
ORGANIZER;CN="B'nai Jeshurun":MAILTO:info@bj.org
END:VEVENT
BEGIN:VEVENT
DTSTART;TZID=America/New_York:20250128T080000
DTEND;TZID=America/New_York:20250128T090000
DTSTAMP:20260421T232140
CREATED:20230920T151927Z
LAST-MODIFIED:20250321T183125Z
UID:10013150-1738051200-1738054800@bj.org
SUMMARY:Shaharit (Online)
DESCRIPTION:
URL:https://bj.org/event/shaharit-online-5/2025-01-28/
LOCATION:Remote Access Only\, NY\, United States
CATEGORIES:Services,Featured in Next Service
ATTACH;FMTTYPE=image/jpeg:https://bj.org/wp-content/uploads/2019/10/1905-0275.jpg
ORGANIZER;CN="B'nai Jeshurun":MAILTO:info@bj.org
END:VEVENT
BEGIN:VEVENT
DTSTART;TZID=America/New_York:20250127T203000
DTEND;TZID=America/New_York:20250127T213000
DTSTAMP:20260421T232140
CREATED:20241016T155552Z
LAST-MODIFIED:20241204T203845Z
UID:10013534-1738009800-1738013400@bj.org
SUMMARY:Parenting as a Spiritual Practice with Rabbi Becca Weintraub
DESCRIPTION:
URL:https://bj.org/event/parenting-as-a-spiritual-practice/2025-01-27/
LOCATION:Remote Access Only\, NY\, United States
CATEGORIES:Events,Featured on Home Page
ATTACH;FMTTYPE=image/jpeg:https://bj.org/wp-content/uploads/2019/09/1905-0290.jpg
ORGANIZER;CN="B'nai Jeshurun":MAILTO:info@bj.org
END:VEVENT
BEGIN:VEVENT
DTSTART;TZID=America/New_York:20250127T193000
DTEND;TZID=America/New_York:20250127T203000
DTSTAMP:20260421T232140
CREATED:20210311T194417Z
LAST-MODIFIED:20260330T193129Z
UID:10007486-1738006200-1738009800@bj.org
SUMMARY:Connections Cocktail Hour
DESCRIPTION:
URL:https://bj.org/event/connections-cocktail-hour-2/2025-01-27/
LOCATION:Remote Access Only\, NY\, United States
CATEGORIES:Events
ATTACH;FMTTYPE=image/jpeg:https://bj.org/wp-content/uploads/2022/04/best-italian-cocktails.jpg
ORGANIZER;CN="B'nai Jeshurun":MAILTO:info@bj.org
END:VEVENT
BEGIN:VEVENT
DTSTART;TZID=America/New_York:20250127T183000
DTEND;TZID=America/New_York:20250127T185000
DTSTAMP:20260421T232140
CREATED:20240923T201132Z
LAST-MODIFIED:20250321T183431Z
UID:10013385-1738002600-1738003800@bj.org
SUMMARY:Arvit (Online)
DESCRIPTION:
URL:https://bj.org/event/arvit-online-2/2025-01-27/
LOCATION:Remote Access Only\, NY\, United States
CATEGORIES:Services,Featured in Next Service
ATTACH;FMTTYPE=image/jpeg:https://bj.org/wp-content/uploads/2024/03/1905-0258-2048x1536-1.jpg
ORGANIZER;CN="B'nai Jeshurun":MAILTO:info@bj.org
END:VEVENT
BEGIN:VEVENT
DTSTART;TZID=America/New_York:20250126T183000
DTEND;TZID=America/New_York:20250126T185000
DTSTAMP:20260421T232140
CREATED:20240923T201132Z
LAST-MODIFIED:20250321T183431Z
UID:10013384-1737916200-1737917400@bj.org
SUMMARY:Arvit (Online)
DESCRIPTION:
URL:https://bj.org/event/arvit-online-2/2025-01-26/
LOCATION:Remote Access Only\, NY\, United States
CATEGORIES:Services,Featured in Next Service
ATTACH;FMTTYPE=image/jpeg:https://bj.org/wp-content/uploads/2024/03/1905-0258-2048x1536-1.jpg
ORGANIZER;CN="B'nai Jeshurun":MAILTO:info@bj.org
END:VEVENT
END:VCALENDAR