BEGIN:VCALENDAR
VERSION:2.0
PRODID:-//B&#039;nai Jeshurun - ECPv6.15.20//NONSGML v1.0//EN
CALSCALE:GREGORIAN
METHOD:PUBLISH
X-ORIGINAL-URL:https://bj.org
X-WR-CALDESC:Events for B&#039;nai Jeshurun
REFRESH-INTERVAL;VALUE=DURATION:PT1H
X-Robots-Tag:noindex
X-PUBLISHED-TTL:PT1H
BEGIN:VTIMEZONE
TZID:America/New_York
BEGIN:DAYLIGHT
TZOFFSETFROM:-0500
TZOFFSETTO:-0400
TZNAME:EDT
DTSTART:20240310T070000
END:DAYLIGHT
BEGIN:STANDARD
TZOFFSETFROM:-0400
TZOFFSETTO:-0500
TZNAME:EST
DTSTART:20241103T060000
END:STANDARD
BEGIN:DAYLIGHT
TZOFFSETFROM:-0500
TZOFFSETTO:-0400
TZNAME:EDT
DTSTART:20250309T070000
END:DAYLIGHT
BEGIN:STANDARD
TZOFFSETFROM:-0400
TZOFFSETTO:-0500
TZNAME:EST
DTSTART:20251102T060000
END:STANDARD
BEGIN:DAYLIGHT
TZOFFSETFROM:-0500
TZOFFSETTO:-0400
TZNAME:EDT
DTSTART:20260308T070000
END:DAYLIGHT
BEGIN:STANDARD
TZOFFSETFROM:-0400
TZOFFSETTO:-0500
TZNAME:EST
DTSTART:20261101T060000
END:STANDARD
END:VTIMEZONE
BEGIN:VEVENT
DTSTART;TZID=America/New_York:20250219T080000
DTEND;TZID=America/New_York:20250219T090000
DTSTAMP:20260421T220112
CREATED:20250127T213804Z
LAST-MODIFIED:20250911T161424Z
UID:10013857-1739952000-1739955600@bj.org
SUMMARY:Shaharit (Online)
DESCRIPTION:
URL:https://bj.org/event/shaharit-online-10/2025-02-19/
LOCATION:Remote Access Only\, NY\, United States
CATEGORIES:Services,Featured in Next Service
ATTACH;FMTTYPE=image/jpeg:https://bj.org/wp-content/uploads/2019/10/1905-0275.jpg
ORGANIZER;CN="B'nai Jeshurun":MAILTO:info@bj.org
END:VEVENT
BEGIN:VEVENT
DTSTART;TZID=America/New_York:20250218T193000
DTEND;TZID=America/New_York:20250218T210000
DTSTAMP:20260421T220112
CREATED:20241022T151404Z
LAST-MODIFIED:20250508T145917Z
UID:10013239-1739907000-1739912400@bj.org
SUMMARY:Intro to Judaism
DESCRIPTION:
URL:https://bj.org/event/intro-to-judaism/2025-02-18/
LOCATION:Remote Access Only\, NY\, United States
CATEGORIES:Classes,Featured on Home Page
ATTACH;FMTTYPE=image/jpeg:https://bj.org/wp-content/uploads/2024/10/whi5A0o8.jpg
ORGANIZER;CN="B'nai Jeshurun":MAILTO:info@bj.org
END:VEVENT
BEGIN:VEVENT
DTSTART;TZID=America/New_York:20250218T183000
DTEND;TZID=America/New_York:20250218T185000
DTSTAMP:20260421T220112
CREATED:20240923T201132Z
LAST-MODIFIED:20250321T183431Z
UID:10013401-1739903400-1739904600@bj.org
SUMMARY:Arvit (Online)
DESCRIPTION:
URL:https://bj.org/event/arvit-online-2/2025-02-18/
LOCATION:Remote Access Only\, NY\, United States
CATEGORIES:Services,Featured in Next Service
ATTACH;FMTTYPE=image/jpeg:https://bj.org/wp-content/uploads/2024/03/1905-0258-2048x1536-1.jpg
ORGANIZER;CN="B'nai Jeshurun":MAILTO:info@bj.org
END:VEVENT
BEGIN:VEVENT
DTSTART;TZID=America/New_York:20250218T173000
DTEND;TZID=America/New_York:20250218T181500
DTSTAMP:20260421T220112
CREATED:20230302T235540Z
LAST-MODIFIED:20260313T190025Z
UID:10011456-1739899800-1739902500@bj.org
SUMMARY:Mindfulness Prayer Practice Group
DESCRIPTION:
URL:https://bj.org/event/mindful-prayer-havurah/2025-02-18/
LOCATION:Remote Access Only\, NY\, United States
CATEGORIES:Classes
ATTACH;FMTTYPE=image/jpeg:https://bj.org/wp-content/uploads/2023/01/1905-0272-2048x1152-1.jpeg
ORGANIZER;CN="B'nai Jeshurun":MAILTO:info@bj.org
END:VEVENT
BEGIN:VEVENT
DTSTART;TZID=America/New_York:20250218T080000
DTEND;TZID=America/New_York:20250218T090000
DTSTAMP:20260421T220112
CREATED:20250127T213804Z
LAST-MODIFIED:20250911T161424Z
UID:10013856-1739865600-1739869200@bj.org
SUMMARY:Shaharit (Online)
DESCRIPTION:
URL:https://bj.org/event/shaharit-online-10/2025-02-18/
LOCATION:Remote Access Only\, NY\, United States
CATEGORIES:Services,Featured in Next Service
ATTACH;FMTTYPE=image/jpeg:https://bj.org/wp-content/uploads/2019/10/1905-0275.jpg
ORGANIZER;CN="B'nai Jeshurun":MAILTO:info@bj.org
END:VEVENT
BEGIN:VEVENT
DTSTART;TZID=America/New_York:20250217T193000
DTEND;TZID=America/New_York:20250217T203000
DTSTAMP:20260421T220112
CREATED:20210311T194417Z
LAST-MODIFIED:20260330T193129Z
UID:10007489-1739820600-1739824200@bj.org
SUMMARY:Connections Cocktail Hour
DESCRIPTION:
URL:https://bj.org/event/connections-cocktail-hour-2/2025-02-17/
LOCATION:Remote Access Only\, NY\, United States
CATEGORIES:Events
ATTACH;FMTTYPE=image/jpeg:https://bj.org/wp-content/uploads/2022/04/best-italian-cocktails.jpg
ORGANIZER;CN="B'nai Jeshurun":MAILTO:info@bj.org
END:VEVENT
BEGIN:VEVENT
DTSTART;TZID=America/New_York:20250217T183000
DTEND;TZID=America/New_York:20250217T185000
DTSTAMP:20260421T220112
CREATED:20240923T201132Z
LAST-MODIFIED:20250321T183431Z
UID:10013400-1739817000-1739818200@bj.org
SUMMARY:Arvit (Online)
DESCRIPTION:
URL:https://bj.org/event/arvit-online-2/2025-02-17/
LOCATION:Remote Access Only\, NY\, United States
CATEGORIES:Services,Featured in Next Service
ATTACH;FMTTYPE=image/jpeg:https://bj.org/wp-content/uploads/2024/03/1905-0258-2048x1536-1.jpg
ORGANIZER;CN="B'nai Jeshurun":MAILTO:info@bj.org
END:VEVENT
BEGIN:VEVENT
DTSTART;TZID=America/New_York:20250216T183000
DTEND;TZID=America/New_York:20250216T185000
DTSTAMP:20260421T220112
CREATED:20240923T201132Z
LAST-MODIFIED:20250321T183431Z
UID:10013399-1739730600-1739731800@bj.org
SUMMARY:Arvit (Online)
DESCRIPTION:
URL:https://bj.org/event/arvit-online-2/2025-02-16/
LOCATION:Remote Access Only\, NY\, United States
CATEGORIES:Services,Featured in Next Service
ATTACH;FMTTYPE=image/jpeg:https://bj.org/wp-content/uploads/2024/03/1905-0258-2048x1536-1.jpg
ORGANIZER;CN="B'nai Jeshurun":MAILTO:info@bj.org
END:VEVENT
BEGIN:VEVENT
DTSTART;TZID=America/New_York:20250216T093000
DTEND;TZID=America/New_York:20250216T103000
DTSTAMP:20260421T220112
CREATED:20230926T191607Z
LAST-MODIFIED:20260226T185930Z
UID:10013797-1739698200-1739701800@bj.org
SUMMARY:Shaharit (Online)
DESCRIPTION:
URL:https://bj.org/event/shaharit-sunday/2025-02-16/
LOCATION:Remote Access Only\, NY\, United States
CATEGORIES:Services,Featured in Next Service
ATTACH;FMTTYPE=image/jpeg:https://bj.org/wp-content/uploads/2019/10/1905-0280.jpg
ORGANIZER;CN="B'nai Jeshurun":MAILTO:info@bj.org
END:VEVENT
BEGIN:VEVENT
DTSTART;TZID=America/New_York:20250215T182000
DTEND;TZID=America/New_York:20250215T184500
DTSTAMP:20260421T220112
CREATED:20240418T174505Z
LAST-MODIFIED:20250916T171029Z
UID:10013772-1739643600-1739645100@bj.org
SUMMARY:Arvit and Havdalah
DESCRIPTION:
URL:https://bj.org/event/arvit-and-havdalah/2025-02-15/
LOCATION:Remote Access Only\, NY\, United States
CATEGORIES:Services,Featured in Next Service
ATTACH;FMTTYPE=image/jpeg:https://bj.org/wp-content/uploads/2020/03/havdallah-shutterstock_1385831468.jpg
ORGANIZER;CN="B'nai Jeshurun":MAILTO:info@bj.org
END:VEVENT
BEGIN:VEVENT
DTSTART;TZID=America/New_York:20250214T080000
DTEND;TZID=America/New_York:20250214T090000
DTSTAMP:20260421T220112
CREATED:20250127T213804Z
LAST-MODIFIED:20250911T161424Z
UID:10013855-1739520000-1739523600@bj.org
SUMMARY:Shaharit (Online)
DESCRIPTION:
URL:https://bj.org/event/shaharit-online-10/2025-02-14/
LOCATION:Remote Access Only\, NY\, United States
CATEGORIES:Services,Featured in Next Service
ATTACH;FMTTYPE=image/jpeg:https://bj.org/wp-content/uploads/2019/10/1905-0275.jpg
ORGANIZER;CN="B'nai Jeshurun":MAILTO:info@bj.org
END:VEVENT
BEGIN:VEVENT
DTSTART;TZID=America/New_York:20250213T183000
DTEND;TZID=America/New_York:20250213T185000
DTSTAMP:20260421T220112
CREATED:20240923T201132Z
LAST-MODIFIED:20250321T183431Z
UID:10013398-1739471400-1739472600@bj.org
SUMMARY:Arvit (Online)
DESCRIPTION:
URL:https://bj.org/event/arvit-online-2/2025-02-13/
LOCATION:Remote Access Only\, NY\, United States
CATEGORIES:Services,Featured in Next Service
ATTACH;FMTTYPE=image/jpeg:https://bj.org/wp-content/uploads/2024/03/1905-0258-2048x1536-1.jpg
ORGANIZER;CN="B'nai Jeshurun":MAILTO:info@bj.org
END:VEVENT
BEGIN:VEVENT
DTSTART;TZID=America/New_York:20250212T200000
DTEND;TZID=America/New_York:20250212T210000
DTSTAMP:20260421T220112
CREATED:20240919T181401Z
LAST-MODIFIED:20240923T184010Z
UID:10012783-1739390400-1739394000@bj.org
SUMMARY:Israel Processing Space for Parents
DESCRIPTION:
URL:https://bj.org/event/israel-processing-space-for-parents/2025-02-12/
LOCATION:Remote Access Only\, NY\, United States
CATEGORIES:Events
ATTACH;FMTTYPE=image/jpeg:https://bj.org/wp-content/uploads/2023/01/1905-0120.jpg
ORGANIZER;CN="B'nai Jeshurun":MAILTO:info@bj.org
END:VEVENT
BEGIN:VEVENT
DTSTART;TZID=America/New_York:20250212T190000
DTEND;TZID=America/New_York:20250212T203000
DTSTAMP:20260421T220112
CREATED:20240404T185801Z
LAST-MODIFIED:20250107T184138Z
UID:10013476-1739386800-1739392200@bj.org
SUMMARY:M'kom Shalom: A Place of Peace
DESCRIPTION:
URL:https://bj.org/event/mkom-shalom-a-place-of-peace-3/2025-02-12/
LOCATION:Remote Access Only\, NY\, United States
CATEGORIES:Events
ATTACH;FMTTYPE=image/jpeg:https://bj.org/wp-content/uploads/2021/01/aniket-bhattacharya-CgyrwbE6Hm4-unsplash-scaled.jpg
ORGANIZER;CN="B'nai Jeshurun":MAILTO:info@bj.org
END:VEVENT
BEGIN:VEVENT
DTSTART;TZID=America/New_York:20250212T183000
DTEND;TZID=America/New_York:20250212T185000
DTSTAMP:20260421T220112
CREATED:20240923T201132Z
LAST-MODIFIED:20250321T183431Z
UID:10013397-1739385000-1739386200@bj.org
SUMMARY:Arvit (Online)
DESCRIPTION:
URL:https://bj.org/event/arvit-online-2/2025-02-12/
LOCATION:Remote Access Only\, NY\, United States
CATEGORIES:Services,Featured in Next Service
ATTACH;FMTTYPE=image/jpeg:https://bj.org/wp-content/uploads/2024/03/1905-0258-2048x1536-1.jpg
ORGANIZER;CN="B'nai Jeshurun":MAILTO:info@bj.org
END:VEVENT
BEGIN:VEVENT
DTSTART;TZID=America/New_York:20250212T080000
DTEND;TZID=America/New_York:20250212T090000
DTSTAMP:20260421T220112
CREATED:20250127T213804Z
LAST-MODIFIED:20250911T161424Z
UID:10013854-1739347200-1739350800@bj.org
SUMMARY:Shaharit (Online)
DESCRIPTION:
URL:https://bj.org/event/shaharit-online-10/2025-02-12/
LOCATION:Remote Access Only\, NY\, United States
CATEGORIES:Services,Featured in Next Service
ATTACH;FMTTYPE=image/jpeg:https://bj.org/wp-content/uploads/2019/10/1905-0275.jpg
ORGANIZER;CN="B'nai Jeshurun":MAILTO:info@bj.org
END:VEVENT
BEGIN:VEVENT
DTSTART;TZID=America/New_York:20250211T193000
DTEND;TZID=America/New_York:20250211T210000
DTSTAMP:20260421T220112
CREATED:20241022T151404Z
LAST-MODIFIED:20250508T145917Z
UID:10013238-1739302200-1739307600@bj.org
SUMMARY:Intro to Judaism
DESCRIPTION:
URL:https://bj.org/event/intro-to-judaism/2025-02-11/
LOCATION:Remote Access Only\, NY\, United States
CATEGORIES:Classes,Featured on Home Page
ATTACH;FMTTYPE=image/jpeg:https://bj.org/wp-content/uploads/2024/10/whi5A0o8.jpg
ORGANIZER;CN="B'nai Jeshurun":MAILTO:info@bj.org
END:VEVENT
BEGIN:VEVENT
DTSTART;TZID=America/New_York:20250211T183000
DTEND;TZID=America/New_York:20250211T185000
DTSTAMP:20260421T220112
CREATED:20240923T201132Z
LAST-MODIFIED:20250321T183431Z
UID:10013396-1739298600-1739299800@bj.org
SUMMARY:Arvit (Online)
DESCRIPTION:
URL:https://bj.org/event/arvit-online-2/2025-02-11/
LOCATION:Remote Access Only\, NY\, United States
CATEGORIES:Services,Featured in Next Service
ATTACH;FMTTYPE=image/jpeg:https://bj.org/wp-content/uploads/2024/03/1905-0258-2048x1536-1.jpg
ORGANIZER;CN="B'nai Jeshurun":MAILTO:info@bj.org
END:VEVENT
BEGIN:VEVENT
DTSTART;TZID=America/New_York:20250211T173000
DTEND;TZID=America/New_York:20250211T181500
DTSTAMP:20260421T220112
CREATED:20230302T235540Z
LAST-MODIFIED:20260313T190025Z
UID:10011455-1739295000-1739297700@bj.org
SUMMARY:Mindfulness Prayer Practice Group
DESCRIPTION:
URL:https://bj.org/event/mindful-prayer-havurah/2025-02-11/
LOCATION:Remote Access Only\, NY\, United States
CATEGORIES:Classes
ATTACH;FMTTYPE=image/jpeg:https://bj.org/wp-content/uploads/2023/01/1905-0272-2048x1152-1.jpeg
ORGANIZER;CN="B'nai Jeshurun":MAILTO:info@bj.org
END:VEVENT
BEGIN:VEVENT
DTSTART;TZID=America/New_York:20250211T080000
DTEND;TZID=America/New_York:20250211T090000
DTSTAMP:20260421T220112
CREATED:20250127T213804Z
LAST-MODIFIED:20250911T161424Z
UID:10013853-1739260800-1739264400@bj.org
SUMMARY:Shaharit (Online)
DESCRIPTION:
URL:https://bj.org/event/shaharit-online-10/2025-02-11/
LOCATION:Remote Access Only\, NY\, United States
CATEGORIES:Services,Featured in Next Service
ATTACH;FMTTYPE=image/jpeg:https://bj.org/wp-content/uploads/2019/10/1905-0275.jpg
ORGANIZER;CN="B'nai Jeshurun":MAILTO:info@bj.org
END:VEVENT
BEGIN:VEVENT
DTSTART;TZID=America/New_York:20250210T203000
DTEND;TZID=America/New_York:20250210T213000
DTSTAMP:20260421T220112
CREATED:20241016T155552Z
LAST-MODIFIED:20241204T203845Z
UID:10013536-1739219400-1739223000@bj.org
SUMMARY:Parenting as a Spiritual Practice with Rabbi Becca Weintraub
DESCRIPTION:
URL:https://bj.org/event/parenting-as-a-spiritual-practice/2025-02-10/
LOCATION:Remote Access Only\, NY\, United States
CATEGORIES:Events,Featured on Home Page
ATTACH;FMTTYPE=image/jpeg:https://bj.org/wp-content/uploads/2019/09/1905-0290.jpg
ORGANIZER;CN="B'nai Jeshurun":MAILTO:info@bj.org
END:VEVENT
BEGIN:VEVENT
DTSTART;TZID=America/New_York:20250210T193000
DTEND;TZID=America/New_York:20250210T203000
DTSTAMP:20260421T220112
CREATED:20210311T194417Z
LAST-MODIFIED:20260330T193129Z
UID:10007488-1739215800-1739219400@bj.org
SUMMARY:Connections Cocktail Hour
DESCRIPTION:
URL:https://bj.org/event/connections-cocktail-hour-2/2025-02-10/
LOCATION:Remote Access Only\, NY\, United States
CATEGORIES:Events
ATTACH;FMTTYPE=image/jpeg:https://bj.org/wp-content/uploads/2022/04/best-italian-cocktails.jpg
ORGANIZER;CN="B'nai Jeshurun":MAILTO:info@bj.org
END:VEVENT
BEGIN:VEVENT
DTSTART;TZID=America/New_York:20250210T183000
DTEND;TZID=America/New_York:20250210T185000
DTSTAMP:20260421T220112
CREATED:20240923T201132Z
LAST-MODIFIED:20250321T183431Z
UID:10013395-1739212200-1739213400@bj.org
SUMMARY:Arvit (Online)
DESCRIPTION:
URL:https://bj.org/event/arvit-online-2/2025-02-10/
LOCATION:Remote Access Only\, NY\, United States
CATEGORIES:Services,Featured in Next Service
ATTACH;FMTTYPE=image/jpeg:https://bj.org/wp-content/uploads/2024/03/1905-0258-2048x1536-1.jpg
ORGANIZER;CN="B'nai Jeshurun":MAILTO:info@bj.org
END:VEVENT
BEGIN:VEVENT
DTSTART;TZID=America/New_York:20250209T183000
DTEND;TZID=America/New_York:20250209T185000
DTSTAMP:20260421T220112
CREATED:20240923T201132Z
LAST-MODIFIED:20250321T183431Z
UID:10013394-1739125800-1739127000@bj.org
SUMMARY:Arvit (Online)
DESCRIPTION:
URL:https://bj.org/event/arvit-online-2/2025-02-09/
LOCATION:Remote Access Only\, NY\, United States
CATEGORIES:Services,Featured in Next Service
ATTACH;FMTTYPE=image/jpeg:https://bj.org/wp-content/uploads/2024/03/1905-0258-2048x1536-1.jpg
ORGANIZER;CN="B'nai Jeshurun":MAILTO:info@bj.org
END:VEVENT
BEGIN:VEVENT
DTSTART;TZID=America/New_York:20250208T181000
DTEND;TZID=America/New_York:20250208T183500
DTSTAMP:20260421T220112
CREATED:20240418T174505Z
LAST-MODIFIED:20250916T171029Z
UID:10013771-1739038200-1739039700@bj.org
SUMMARY:Arvit and Havdalah
DESCRIPTION:
URL:https://bj.org/event/arvit-and-havdalah/2025-02-08/
LOCATION:Remote Access Only\, NY\, United States
CATEGORIES:Services,Featured in Next Service
ATTACH;FMTTYPE=image/jpeg:https://bj.org/wp-content/uploads/2020/03/havdallah-shutterstock_1385831468.jpg
ORGANIZER;CN="B'nai Jeshurun":MAILTO:info@bj.org
END:VEVENT
BEGIN:VEVENT
DTSTART;TZID=America/New_York:20250207T080000
DTEND;TZID=America/New_York:20250207T090000
DTSTAMP:20260421T220112
CREATED:20250127T213804Z
LAST-MODIFIED:20250911T161424Z
UID:10013852-1738915200-1738918800@bj.org
SUMMARY:Shaharit (Online)
DESCRIPTION:
URL:https://bj.org/event/shaharit-online-10/2025-02-07/
LOCATION:Remote Access Only\, NY\, United States
CATEGORIES:Services,Featured in Next Service
ATTACH;FMTTYPE=image/jpeg:https://bj.org/wp-content/uploads/2019/10/1905-0275.jpg
ORGANIZER;CN="B'nai Jeshurun":MAILTO:info@bj.org
END:VEVENT
BEGIN:VEVENT
DTSTART;TZID=America/New_York:20250206T183000
DTEND;TZID=America/New_York:20250206T185000
DTSTAMP:20260421T220112
CREATED:20240923T201132Z
LAST-MODIFIED:20250321T183431Z
UID:10013393-1738866600-1738867800@bj.org
SUMMARY:Arvit (Online)
DESCRIPTION:
URL:https://bj.org/event/arvit-online-2/2025-02-06/
LOCATION:Remote Access Only\, NY\, United States
CATEGORIES:Services,Featured in Next Service
ATTACH;FMTTYPE=image/jpeg:https://bj.org/wp-content/uploads/2024/03/1905-0258-2048x1536-1.jpg
ORGANIZER;CN="B'nai Jeshurun":MAILTO:info@bj.org
END:VEVENT
BEGIN:VEVENT
DTSTART;TZID=America/New_York:20250206T154500
DTEND;TZID=America/New_York:20250206T164500
DTSTAMP:20260421T220112
CREATED:20221215T210758Z
LAST-MODIFIED:20260203T171538Z
UID:10013552-1738856700-1738860300@bj.org
SUMMARY:A Taste of Talmud: Daf Yomi with Rabbi Shuli Passow
DESCRIPTION:
URL:https://bj.org/event/a-taste-of-talmud-daf-yomi-with-rabbi-shuli-passow/2025-02-06/
LOCATION:Remote Access Only\, NY\, United States
CATEGORIES:Classes
ATTACH;FMTTYPE=image/png:https://bj.org/wp-content/uploads/2022/12/Daf-Yomi-Shuli-1.png
ORGANIZER;CN="B'nai Jeshurun":MAILTO:info@bj.org
END:VEVENT
BEGIN:VEVENT
DTSTART;TZID=America/New_York:20250205T183000
DTEND;TZID=America/New_York:20250205T185000
DTSTAMP:20260421T220112
CREATED:20240923T201132Z
LAST-MODIFIED:20250321T183431Z
UID:10013392-1738780200-1738781400@bj.org
SUMMARY:Arvit (Online)
DESCRIPTION:
URL:https://bj.org/event/arvit-online-2/2025-02-05/
LOCATION:Remote Access Only\, NY\, United States
CATEGORIES:Services,Featured in Next Service
ATTACH;FMTTYPE=image/jpeg:https://bj.org/wp-content/uploads/2024/03/1905-0258-2048x1536-1.jpg
ORGANIZER;CN="B'nai Jeshurun":MAILTO:info@bj.org
END:VEVENT
BEGIN:VEVENT
DTSTART;TZID=America/New_York:20250205T083000
DTEND;TZID=America/New_York:20250205T091500
DTSTAMP:20260421T220112
CREATED:20221215T212948Z
LAST-MODIFIED:20260415T133805Z
UID:10019671-1738744200-1738746900@bj.org
SUMMARY:Jewish Meditation with Rabbi Shuli Passow
DESCRIPTION:
URL:https://bj.org/event/jewish-meditation-with-rabbi-shuli-passow-3/2025-02-05/
LOCATION:Remote Access Only\, NY\, United States
CATEGORIES:Classes
ATTACH;FMTTYPE=image/jpeg:https://bj.org/wp-content/uploads/2022/12/Daily-Meditation-Shuli-Image.jpg
ORGANIZER;CN="B'nai Jeshurun":MAILTO:info@bj.org
END:VEVENT
END:VCALENDAR