BEGIN:VCALENDAR
VERSION:2.0
PRODID:-//B&#039;nai Jeshurun - ECPv6.15.20//NONSGML v1.0//EN
CALSCALE:GREGORIAN
METHOD:PUBLISH
X-WR-CALNAME:B&#039;nai Jeshurun
X-ORIGINAL-URL:https://bj.org
X-WR-CALDESC:Events for B&#039;nai Jeshurun
REFRESH-INTERVAL;VALUE=DURATION:PT1H
X-Robots-Tag:noindex
X-PUBLISHED-TTL:PT1H
BEGIN:VTIMEZONE
TZID:America/New_York
BEGIN:DAYLIGHT
TZOFFSETFROM:-0500
TZOFFSETTO:-0400
TZNAME:EDT
DTSTART:20240310T070000
END:DAYLIGHT
BEGIN:STANDARD
TZOFFSETFROM:-0400
TZOFFSETTO:-0500
TZNAME:EST
DTSTART:20241103T060000
END:STANDARD
BEGIN:DAYLIGHT
TZOFFSETFROM:-0500
TZOFFSETTO:-0400
TZNAME:EDT
DTSTART:20250309T070000
END:DAYLIGHT
BEGIN:STANDARD
TZOFFSETFROM:-0400
TZOFFSETTO:-0500
TZNAME:EST
DTSTART:20251102T060000
END:STANDARD
BEGIN:DAYLIGHT
TZOFFSETFROM:-0500
TZOFFSETTO:-0400
TZNAME:EDT
DTSTART:20260308T070000
END:DAYLIGHT
BEGIN:STANDARD
TZOFFSETFROM:-0400
TZOFFSETTO:-0500
TZNAME:EST
DTSTART:20261101T060000
END:STANDARD
END:VTIMEZONE
BEGIN:VEVENT
DTSTART;TZID=America/New_York:20250422T173000
DTEND;TZID=America/New_York:20250422T181500
DTSTAMP:20260422T092212
CREATED:20230302T235540Z
LAST-MODIFIED:20260313T190025Z
UID:10014200-1745343000-1745345700@bj.org
SUMMARY:Mindfulness Prayer Practice Group
DESCRIPTION:
URL:https://bj.org/event/mindful-prayer-havurah/2025-04-22/
LOCATION:Remote Access Only\, NY\, United States
CATEGORIES:Classes
ATTACH;FMTTYPE=image/jpeg:https://bj.org/wp-content/uploads/2023/01/1905-0272-2048x1152-1.jpeg
ORGANIZER;CN="B'nai Jeshurun":MAILTO:info@bj.org
END:VEVENT
BEGIN:VEVENT
DTSTART;TZID=America/New_York:20250422T080000
DTEND;TZID=America/New_York:20250422T090000
DTSTAMP:20260422T092212
CREATED:20250127T213804Z
LAST-MODIFIED:20250911T161424Z
UID:10013878-1745308800-1745312400@bj.org
SUMMARY:Shaharit (Online)
DESCRIPTION:
URL:https://bj.org/event/shaharit-online-10/2025-04-22/
LOCATION:Remote Access Only\, NY\, United States
CATEGORIES:Services,Featured in Next Service
ATTACH;FMTTYPE=image/jpeg:https://bj.org/wp-content/uploads/2019/10/1905-0275.jpg
ORGANIZER;CN="B'nai Jeshurun":MAILTO:info@bj.org
END:VEVENT
BEGIN:VEVENT
DTSTART;TZID=America/New_York:20250421T193000
DTEND;TZID=America/New_York:20250421T203000
DTSTAMP:20260422T092212
CREATED:20210311T194417Z
LAST-MODIFIED:20260330T193129Z
UID:10007498-1745263800-1745267400@bj.org
SUMMARY:Connections Cocktail Hour
DESCRIPTION:
URL:https://bj.org/event/connections-cocktail-hour-2/2025-04-21/
LOCATION:Remote Access Only\, NY\, United States
CATEGORIES:Events
ATTACH;FMTTYPE=image/jpeg:https://bj.org/wp-content/uploads/2022/04/best-italian-cocktails.jpg
ORGANIZER;CN="B'nai Jeshurun":MAILTO:info@bj.org
END:VEVENT
BEGIN:VEVENT
DTSTART;TZID=America/New_York:20250421T183000
DTEND;TZID=America/New_York:20250421T190000
DTSTAMP:20260422T092212
CREATED:20250409T175451Z
LAST-MODIFIED:20250508T184320Z
UID:10014684-1745260200-1745262000@bj.org
SUMMARY:Minha (Online)
DESCRIPTION:
URL:https://bj.org/event/minha-online-4-4/2025-04-21/
LOCATION:Remote Access Only\, NY\, United States
CATEGORIES:Services,Featured in Next Service
ATTACH;FMTTYPE=image/jpeg:https://bj.org/wp-content/uploads/2024/03/1905-0258-2048x1536-1.jpg
ORGANIZER;CN="B'nai Jeshurun":MAILTO:info@bj.org
END:VEVENT
BEGIN:VEVENT
DTSTART;TZID=America/New_York:20250417T190000
DTEND;TZID=America/New_York:20250417T203000
DTSTAMP:20260422T092212
CREATED:20250212T190902Z
LAST-MODIFIED:20250415T182947Z
UID:10013443-1744916400-1744921800@bj.org
SUMMARY:Israeli Authors Discussion Group: Lihi Lapid
DESCRIPTION:
URL:https://bj.org/event/israeli-authors-discussion-group-15-7/
LOCATION:Remote Access Only\, NY\, United States
CATEGORIES:Events,Featured on Home Page
ATTACH;FMTTYPE=image/png:https://bj.org/wp-content/uploads/2025/02/Israeli-Authors-Discussion-Group-Sayed-Kashua-October-24-2.png
ORGANIZER;CN="B'nai Jeshurun":MAILTO:info@bj.org
END:VEVENT
BEGIN:VEVENT
DTSTART;TZID=America/New_York:20250417T183000
DTEND;TZID=America/New_York:20250417T185000
DTSTAMP:20260422T092212
CREATED:20250409T173707Z
LAST-MODIFIED:20250415T182919Z
UID:10014804-1744914600-1744915800@bj.org
SUMMARY:Minha (Online)
DESCRIPTION:
URL:https://bj.org/event/minha-online-4-3/2025-04-17/
LOCATION:Remote Access Only\, NY\, United States
CATEGORIES:Services,Featured in Next Service
ATTACH;FMTTYPE=image/jpeg:https://bj.org/wp-content/uploads/2024/03/1905-0258-2048x1536-1.jpg
ORGANIZER;CN="B'nai Jeshurun":MAILTO:info@bj.org
END:VEVENT
BEGIN:VEVENT
DTSTART;TZID=America/New_York:20250416T183000
DTEND;TZID=America/New_York:20250416T185000
DTSTAMP:20260422T092212
CREATED:20250409T173707Z
LAST-MODIFIED:20250415T182919Z
UID:10014803-1744828200-1744829400@bj.org
SUMMARY:Minha (Online)
DESCRIPTION:
URL:https://bj.org/event/minha-online-4-3/2025-04-16/
LOCATION:Remote Access Only\, NY\, United States
CATEGORIES:Services,Featured in Next Service
ATTACH;FMTTYPE=image/jpeg:https://bj.org/wp-content/uploads/2024/03/1905-0258-2048x1536-1.jpg
ORGANIZER;CN="B'nai Jeshurun":MAILTO:info@bj.org
END:VEVENT
BEGIN:VEVENT
DTSTART;TZID=America/New_York:20250415T183000
DTEND;TZID=America/New_York:20250415T185000
DTSTAMP:20260422T092212
CREATED:20250409T173707Z
LAST-MODIFIED:20250415T182919Z
UID:10014365-1744741800-1744743000@bj.org
SUMMARY:Minha (Online)
DESCRIPTION:
URL:https://bj.org/event/minha-online-4-3/2025-04-15/
LOCATION:Remote Access Only\, NY\, United States
CATEGORIES:Services,Featured in Next Service
ATTACH;FMTTYPE=image/jpeg:https://bj.org/wp-content/uploads/2024/03/1905-0258-2048x1536-1.jpg
ORGANIZER;CN="B'nai Jeshurun":MAILTO:info@bj.org
END:VEVENT
BEGIN:VEVENT
DTSTART;TZID=America/New_York:20250415T173000
DTEND;TZID=America/New_York:20250415T181500
DTSTAMP:20260422T092212
CREATED:20230302T235540Z
LAST-MODIFIED:20260313T190025Z
UID:10014199-1744738200-1744740900@bj.org
SUMMARY:Mindfulness Prayer Practice Group
DESCRIPTION:
URL:https://bj.org/event/mindful-prayer-havurah/2025-04-15/
LOCATION:Remote Access Only\, NY\, United States
CATEGORIES:Classes
ATTACH;FMTTYPE=image/jpeg:https://bj.org/wp-content/uploads/2023/01/1905-0272-2048x1152-1.jpeg
ORGANIZER;CN="B'nai Jeshurun":MAILTO:info@bj.org
END:VEVENT
BEGIN:VEVENT
DTSTART;TZID=America/New_York:20250411T080000
DTEND;TZID=America/New_York:20250411T090000
DTSTAMP:20260422T092212
CREATED:20250127T213804Z
LAST-MODIFIED:20250911T161424Z
UID:10013877-1744358400-1744362000@bj.org
SUMMARY:Shaharit (Online)
DESCRIPTION:
URL:https://bj.org/event/shaharit-online-10/2025-04-11/
LOCATION:Remote Access Only\, NY\, United States
CATEGORIES:Services,Featured in Next Service
ATTACH;FMTTYPE=image/jpeg:https://bj.org/wp-content/uploads/2019/10/1905-0275.jpg
ORGANIZER;CN="B'nai Jeshurun":MAILTO:info@bj.org
END:VEVENT
BEGIN:VEVENT
DTSTART;TZID=America/New_York:20250410T183000
DTEND;TZID=America/New_York:20250410T190000
DTSTAMP:20260422T092212
CREATED:20250306T205143Z
LAST-MODIFIED:20250321T182734Z
UID:10014295-1744309800-1744311600@bj.org
SUMMARY:Minha-Arvit (Online)
DESCRIPTION:
URL:https://bj.org/event/minha-arvit-online-7/2025-04-10/
LOCATION:Remote Access Only\, NY\, United States
CATEGORIES:Services,Featured in Next Service
ATTACH;FMTTYPE=image/jpeg:https://bj.org/wp-content/uploads/2024/03/1905-0258-2048x1536-1.jpg
ORGANIZER;CN="B'nai Jeshurun":MAILTO:info@bj.org
END:VEVENT
BEGIN:VEVENT
DTSTART;TZID=America/New_York:20250410T154500
DTEND;TZID=America/New_York:20250410T164500
DTSTAMP:20260422T092212
CREATED:20221215T210758Z
LAST-MODIFIED:20260203T171538Z
UID:10013560-1744299900-1744303500@bj.org
SUMMARY:A Taste of Talmud: Daf Yomi with Rabbi Shuli Passow
DESCRIPTION:
URL:https://bj.org/event/a-taste-of-talmud-daf-yomi-with-rabbi-shuli-passow/2025-04-10/
LOCATION:Remote Access Only\, NY\, United States
CATEGORIES:Classes
ATTACH;FMTTYPE=image/png:https://bj.org/wp-content/uploads/2022/12/Daf-Yomi-Shuli-1.png
ORGANIZER;CN="B'nai Jeshurun":MAILTO:info@bj.org
END:VEVENT
BEGIN:VEVENT
DTSTART;TZID=America/New_York:20250409T200000
DTEND;TZID=America/New_York:20250409T210000
DTSTAMP:20260422T092212
CREATED:20240919T181401Z
LAST-MODIFIED:20240923T184010Z
UID:10012785-1744228800-1744232400@bj.org
SUMMARY:Israel Processing Space for Parents
DESCRIPTION:
URL:https://bj.org/event/israel-processing-space-for-parents/2025-04-09/
LOCATION:Remote Access Only\, NY\, United States
CATEGORIES:Events
ATTACH;FMTTYPE=image/jpeg:https://bj.org/wp-content/uploads/2023/01/1905-0120.jpg
ORGANIZER;CN="B'nai Jeshurun":MAILTO:info@bj.org
END:VEVENT
BEGIN:VEVENT
DTSTART;TZID=America/New_York:20250409T190000
DTEND;TZID=America/New_York:20250409T203000
DTSTAMP:20260422T092212
CREATED:20240404T185801Z
LAST-MODIFIED:20250107T184138Z
UID:10013478-1744225200-1744230600@bj.org
SUMMARY:M'kom Shalom: A Place of Peace
DESCRIPTION:
URL:https://bj.org/event/mkom-shalom-a-place-of-peace-3/2025-04-09/
LOCATION:Remote Access Only\, NY\, United States
CATEGORIES:Events
ATTACH;FMTTYPE=image/jpeg:https://bj.org/wp-content/uploads/2021/01/aniket-bhattacharya-CgyrwbE6Hm4-unsplash-scaled.jpg
ORGANIZER;CN="B'nai Jeshurun":MAILTO:info@bj.org
END:VEVENT
BEGIN:VEVENT
DTSTART;TZID=America/New_York:20250409T183000
DTEND;TZID=America/New_York:20250409T190000
DTSTAMP:20260422T092212
CREATED:20250306T205143Z
LAST-MODIFIED:20250321T182734Z
UID:10014294-1744223400-1744225200@bj.org
SUMMARY:Minha-Arvit (Online)
DESCRIPTION:
URL:https://bj.org/event/minha-arvit-online-7/2025-04-09/
LOCATION:Remote Access Only\, NY\, United States
CATEGORIES:Services,Featured in Next Service
ATTACH;FMTTYPE=image/jpeg:https://bj.org/wp-content/uploads/2024/03/1905-0258-2048x1536-1.jpg
ORGANIZER;CN="B'nai Jeshurun":MAILTO:info@bj.org
END:VEVENT
BEGIN:VEVENT
DTSTART;TZID=America/New_York:20250409T083000
DTEND;TZID=America/New_York:20250409T091500
DTSTAMP:20260422T092212
CREATED:20221215T212948Z
LAST-MODIFIED:20260415T133805Z
UID:10019679-1744187400-1744190100@bj.org
SUMMARY:Jewish Meditation with Rabbi Shuli Passow
DESCRIPTION:
URL:https://bj.org/event/jewish-meditation-with-rabbi-shuli-passow-3/2025-04-09/
LOCATION:Remote Access Only\, NY\, United States
CATEGORIES:Classes
ATTACH;FMTTYPE=image/jpeg:https://bj.org/wp-content/uploads/2022/12/Daily-Meditation-Shuli-Image.jpg
ORGANIZER;CN="B'nai Jeshurun":MAILTO:info@bj.org
END:VEVENT
BEGIN:VEVENT
DTSTART;TZID=America/New_York:20250409T080000
DTEND;TZID=America/New_York:20250409T090000
DTSTAMP:20260422T092212
CREATED:20250127T213804Z
LAST-MODIFIED:20250911T161424Z
UID:10013876-1744185600-1744189200@bj.org
SUMMARY:Shaharit (Online)
DESCRIPTION:
URL:https://bj.org/event/shaharit-online-10/2025-04-09/
LOCATION:Remote Access Only\, NY\, United States
CATEGORIES:Services,Featured in Next Service
ATTACH;FMTTYPE=image/jpeg:https://bj.org/wp-content/uploads/2019/10/1905-0275.jpg
ORGANIZER;CN="B'nai Jeshurun":MAILTO:info@bj.org
END:VEVENT
BEGIN:VEVENT
DTSTART;TZID=America/New_York:20250408T193000
DTEND;TZID=America/New_York:20250408T210000
DTSTAMP:20260422T092212
CREATED:20241022T151404Z
LAST-MODIFIED:20250508T145917Z
UID:10013246-1744140600-1744146000@bj.org
SUMMARY:Intro to Judaism
DESCRIPTION:
URL:https://bj.org/event/intro-to-judaism/2025-04-08/
LOCATION:Remote Access Only\, NY\, United States
CATEGORIES:Classes,Featured on Home Page
ATTACH;FMTTYPE=image/jpeg:https://bj.org/wp-content/uploads/2024/10/whi5A0o8.jpg
ORGANIZER;CN="B'nai Jeshurun":MAILTO:info@bj.org
END:VEVENT
BEGIN:VEVENT
DTSTART;TZID=America/New_York:20250408T183000
DTEND;TZID=America/New_York:20250408T190000
DTSTAMP:20260422T092212
CREATED:20250306T205143Z
LAST-MODIFIED:20250321T182734Z
UID:10014293-1744137000-1744138800@bj.org
SUMMARY:Minha-Arvit (Online)
DESCRIPTION:
URL:https://bj.org/event/minha-arvit-online-7/2025-04-08/
LOCATION:Remote Access Only\, NY\, United States
CATEGORIES:Services,Featured in Next Service
ATTACH;FMTTYPE=image/jpeg:https://bj.org/wp-content/uploads/2024/03/1905-0258-2048x1536-1.jpg
ORGANIZER;CN="B'nai Jeshurun":MAILTO:info@bj.org
END:VEVENT
BEGIN:VEVENT
DTSTART;TZID=America/New_York:20250408T173000
DTEND;TZID=America/New_York:20250408T181500
DTSTAMP:20260422T092212
CREATED:20230302T235540Z
LAST-MODIFIED:20260313T190025Z
UID:10014198-1744133400-1744136100@bj.org
SUMMARY:Mindfulness Prayer Practice Group
DESCRIPTION:
URL:https://bj.org/event/mindful-prayer-havurah/2025-04-08/
LOCATION:Remote Access Only\, NY\, United States
CATEGORIES:Classes
ATTACH;FMTTYPE=image/jpeg:https://bj.org/wp-content/uploads/2023/01/1905-0272-2048x1152-1.jpeg
ORGANIZER;CN="B'nai Jeshurun":MAILTO:info@bj.org
END:VEVENT
BEGIN:VEVENT
DTSTART;TZID=America/New_York:20250408T080000
DTEND;TZID=America/New_York:20250408T090000
DTSTAMP:20260422T092212
CREATED:20250127T213804Z
LAST-MODIFIED:20250911T161424Z
UID:10013875-1744099200-1744102800@bj.org
SUMMARY:Shaharit (Online)
DESCRIPTION:
URL:https://bj.org/event/shaharit-online-10/2025-04-08/
LOCATION:Remote Access Only\, NY\, United States
CATEGORIES:Services,Featured in Next Service
ATTACH;FMTTYPE=image/jpeg:https://bj.org/wp-content/uploads/2019/10/1905-0275.jpg
ORGANIZER;CN="B'nai Jeshurun":MAILTO:info@bj.org
END:VEVENT
BEGIN:VEVENT
DTSTART;TZID=America/New_York:20250407T183000
DTEND;TZID=America/New_York:20250407T190000
DTSTAMP:20260422T092212
CREATED:20250306T205143Z
LAST-MODIFIED:20250321T182734Z
UID:10014292-1744050600-1744052400@bj.org
SUMMARY:Minha-Arvit (Online)
DESCRIPTION:
URL:https://bj.org/event/minha-arvit-online-7/2025-04-07/
LOCATION:Remote Access Only\, NY\, United States
CATEGORIES:Services,Featured in Next Service
ATTACH;FMTTYPE=image/jpeg:https://bj.org/wp-content/uploads/2024/03/1905-0258-2048x1536-1.jpg
ORGANIZER;CN="B'nai Jeshurun":MAILTO:info@bj.org
END:VEVENT
BEGIN:VEVENT
DTSTART;TZID=America/New_York:20250406T183000
DTEND;TZID=America/New_York:20250406T190000
DTSTAMP:20260422T092212
CREATED:20250306T205143Z
LAST-MODIFIED:20250321T182734Z
UID:10014291-1743964200-1743966000@bj.org
SUMMARY:Minha-Arvit (Online)
DESCRIPTION:
URL:https://bj.org/event/minha-arvit-online-7/2025-04-06/
LOCATION:Remote Access Only\, NY\, United States
CATEGORIES:Services,Featured in Next Service
ATTACH;FMTTYPE=image/jpeg:https://bj.org/wp-content/uploads/2024/03/1905-0258-2048x1536-1.jpg
ORGANIZER;CN="B'nai Jeshurun":MAILTO:info@bj.org
END:VEVENT
BEGIN:VEVENT
DTSTART;TZID=America/New_York:20250406T093000
DTEND;TZID=America/New_York:20250406T103000
DTSTAMP:20260422T092212
CREATED:20230926T191607Z
LAST-MODIFIED:20260226T185930Z
UID:10013803-1743931800-1743935400@bj.org
SUMMARY:Shaharit (Online)
DESCRIPTION:
URL:https://bj.org/event/shaharit-sunday/2025-04-06/
LOCATION:Remote Access Only\, NY\, United States
CATEGORIES:Services,Featured in Next Service
ATTACH;FMTTYPE=image/jpeg:https://bj.org/wp-content/uploads/2019/10/1905-0280.jpg
ORGANIZER;CN="B'nai Jeshurun":MAILTO:info@bj.org
END:VEVENT
BEGIN:VEVENT
DTSTART;TZID=America/New_York:20250405T201500
DTEND;TZID=America/New_York:20250405T204000
DTSTAMP:20260422T092212
CREATED:20240418T174505Z
LAST-MODIFIED:20250916T171029Z
UID:10013779-1743884100-1743885600@bj.org
SUMMARY:Arvit and Havdalah
DESCRIPTION:
URL:https://bj.org/event/arvit-and-havdalah/2025-04-05/
LOCATION:Remote Access Only\, NY\, United States
CATEGORIES:Services,Featured in Next Service
ATTACH;FMTTYPE=image/jpeg:https://bj.org/wp-content/uploads/2020/03/havdallah-shutterstock_1385831468.jpg
ORGANIZER;CN="B'nai Jeshurun":MAILTO:info@bj.org
END:VEVENT
BEGIN:VEVENT
DTSTART;TZID=America/New_York:20250404T080000
DTEND;TZID=America/New_York:20250404T090000
DTSTAMP:20260422T092212
CREATED:20250127T213804Z
LAST-MODIFIED:20250911T161424Z
UID:10013874-1743753600-1743757200@bj.org
SUMMARY:Shaharit (Online)
DESCRIPTION:
URL:https://bj.org/event/shaharit-online-10/2025-04-04/
LOCATION:Remote Access Only\, NY\, United States
CATEGORIES:Services,Featured in Next Service
ATTACH;FMTTYPE=image/jpeg:https://bj.org/wp-content/uploads/2019/10/1905-0275.jpg
ORGANIZER;CN="B'nai Jeshurun":MAILTO:info@bj.org
END:VEVENT
BEGIN:VEVENT
DTSTART;TZID=America/New_York:20250403T191500
DTEND;TZID=America/New_York:20250403T203000
DTSTAMP:20260422T092212
CREATED:20250314T133842Z
LAST-MODIFIED:20250401T141649Z
UID:10014735-1743707700-1743712200@bj.org
SUMMARY:The Grand Symbols of the Pesah Seder and the Meaning of the Moment
DESCRIPTION:
URL:https://bj.org/event/the-grand-symbols-of-the-pesah-seder-and-the-meaning-of-the-moment/
LOCATION:Remote Access Only\, NY\, United States
CATEGORIES:Pesah Programs,Events,Holidays
ATTACH;FMTTYPE=image/jpeg:https://bj.org/wp-content/uploads/2021/03/1905-0347-e1615905023868.jpeg
ORGANIZER;CN="B'nai Jeshurun":MAILTO:info@bj.org
END:VEVENT
BEGIN:VEVENT
DTSTART;TZID=America/New_York:20250403T183000
DTEND;TZID=America/New_York:20250403T190000
DTSTAMP:20260422T092212
CREATED:20250306T205143Z
LAST-MODIFIED:20250321T182734Z
UID:10014290-1743705000-1743706800@bj.org
SUMMARY:Minha-Arvit (Online)
DESCRIPTION:
URL:https://bj.org/event/minha-arvit-online-7/2025-04-03/
LOCATION:Remote Access Only\, NY\, United States
CATEGORIES:Services,Featured in Next Service
ATTACH;FMTTYPE=image/jpeg:https://bj.org/wp-content/uploads/2024/03/1905-0258-2048x1536-1.jpg
ORGANIZER;CN="B'nai Jeshurun":MAILTO:info@bj.org
END:VEVENT
BEGIN:VEVENT
DTSTART;TZID=America/New_York:20250403T154500
DTEND;TZID=America/New_York:20250403T164500
DTSTAMP:20260422T092212
CREATED:20221215T210758Z
LAST-MODIFIED:20260203T171538Z
UID:10013559-1743695100-1743698700@bj.org
SUMMARY:A Taste of Talmud: Daf Yomi with Rabbi Shuli Passow
DESCRIPTION:
URL:https://bj.org/event/a-taste-of-talmud-daf-yomi-with-rabbi-shuli-passow/2025-04-03/
LOCATION:Remote Access Only\, NY\, United States
CATEGORIES:Classes
ATTACH;FMTTYPE=image/png:https://bj.org/wp-content/uploads/2022/12/Daf-Yomi-Shuli-1.png
ORGANIZER;CN="B'nai Jeshurun":MAILTO:info@bj.org
END:VEVENT
BEGIN:VEVENT
DTSTART;TZID=America/New_York:20250402T190000
DTEND;TZID=America/New_York:20250402T201500
DTSTAMP:20260422T092212
CREATED:20250312T211021Z
LAST-MODIFIED:20250314T143058Z
UID:10014728-1743620400-1743624900@bj.org
SUMMARY:Empty Chair at the Seder—A Pre-Pesah Bereavement Group
DESCRIPTION:
URL:https://bj.org/event/empty-chair-at-the-seder-a-pre-pesah-bereavement-group-4/
LOCATION:Remote Access Only\, NY\, United States
CATEGORIES:Pesah Programs,Events,Holidays
ATTACH;FMTTYPE=image/jpeg:https://bj.org/wp-content/uploads/2023/05/1905-0333-1-1-scaled.jpg
ORGANIZER;CN="B'nai Jeshurun":MAILTO:info@bj.org
END:VEVENT
END:VCALENDAR