BEGIN:VCALENDAR
VERSION:2.0
PRODID:-//B&#039;nai Jeshurun - ECPv6.15.20//NONSGML v1.0//EN
CALSCALE:GREGORIAN
METHOD:PUBLISH
X-WR-CALNAME:B&#039;nai Jeshurun
X-ORIGINAL-URL:https://bj.org
X-WR-CALDESC:Events for B&#039;nai Jeshurun
REFRESH-INTERVAL;VALUE=DURATION:PT1H
X-Robots-Tag:noindex
X-PUBLISHED-TTL:PT1H
BEGIN:VTIMEZONE
TZID:America/New_York
BEGIN:DAYLIGHT
TZOFFSETFROM:-0500
TZOFFSETTO:-0400
TZNAME:EDT
DTSTART:20240310T070000
END:DAYLIGHT
BEGIN:STANDARD
TZOFFSETFROM:-0400
TZOFFSETTO:-0500
TZNAME:EST
DTSTART:20241103T060000
END:STANDARD
BEGIN:DAYLIGHT
TZOFFSETFROM:-0500
TZOFFSETTO:-0400
TZNAME:EDT
DTSTART:20250309T070000
END:DAYLIGHT
BEGIN:STANDARD
TZOFFSETFROM:-0400
TZOFFSETTO:-0500
TZNAME:EST
DTSTART:20251102T060000
END:STANDARD
BEGIN:DAYLIGHT
TZOFFSETFROM:-0500
TZOFFSETTO:-0400
TZNAME:EDT
DTSTART:20260308T070000
END:DAYLIGHT
BEGIN:STANDARD
TZOFFSETFROM:-0400
TZOFFSETTO:-0500
TZNAME:EST
DTSTART:20261101T060000
END:STANDARD
END:VTIMEZONE
BEGIN:VEVENT
DTSTART;TZID=America/New_York:20250527T173000
DTEND;TZID=America/New_York:20250527T181500
DTSTAMP:20260421T103405
CREATED:20230302T235540Z
LAST-MODIFIED:20260313T190025Z
UID:10014205-1748367000-1748369700@bj.org
SUMMARY:Mindfulness Prayer Practice Group
DESCRIPTION:
URL:https://bj.org/event/mindful-prayer-havurah/2025-05-27/
LOCATION:Remote Access Only\, NY\, United States
CATEGORIES:Classes
ATTACH;FMTTYPE=image/jpeg:https://bj.org/wp-content/uploads/2023/01/1905-0272-2048x1152-1.jpeg
ORGANIZER;CN="B'nai Jeshurun":MAILTO:info@bj.org
END:VEVENT
BEGIN:VEVENT
DTSTART;TZID=America/New_York:20250527T080000
DTEND;TZID=America/New_York:20250527T090000
DTSTAMP:20260421T103405
CREATED:20250127T213804Z
LAST-MODIFIED:20250911T161424Z
UID:10013892-1748332800-1748336400@bj.org
SUMMARY:Shaharit (Online)
DESCRIPTION:
URL:https://bj.org/event/shaharit-online-10/2025-05-27/
LOCATION:Remote Access Only\, NY\, United States
CATEGORIES:Services,Featured in Next Service
ATTACH;FMTTYPE=image/jpeg:https://bj.org/wp-content/uploads/2019/10/1905-0275.jpg
ORGANIZER;CN="B'nai Jeshurun":MAILTO:info@bj.org
END:VEVENT
BEGIN:VEVENT
DTSTART;TZID=America/New_York:20250526T183000
DTEND;TZID=America/New_York:20250526T190000
DTSTAMP:20260421T103405
CREATED:20250409T175451Z
LAST-MODIFIED:20250508T184320Z
UID:10014700-1748284200-1748286000@bj.org
SUMMARY:Minha (Online)
DESCRIPTION:
URL:https://bj.org/event/minha-online-4-4/2025-05-26/
LOCATION:Remote Access Only\, NY\, United States
CATEGORIES:Services,Featured in Next Service
ATTACH;FMTTYPE=image/jpeg:https://bj.org/wp-content/uploads/2024/03/1905-0258-2048x1536-1.jpg
ORGANIZER;CN="B'nai Jeshurun":MAILTO:info@bj.org
END:VEVENT
BEGIN:VEVENT
DTSTART;TZID=America/New_York:20250525T183000
DTEND;TZID=America/New_York:20250525T190000
DTSTAMP:20260421T103405
CREATED:20250409T175451Z
LAST-MODIFIED:20250508T184320Z
UID:10014824-1748197800-1748199600@bj.org
SUMMARY:Minha (Online)
DESCRIPTION:
URL:https://bj.org/event/minha-online-4-4/2025-05-25/
LOCATION:Remote Access Only\, NY\, United States
CATEGORIES:Services,Featured in Next Service
ATTACH;FMTTYPE=image/jpeg:https://bj.org/wp-content/uploads/2024/03/1905-0258-2048x1536-1.jpg
ORGANIZER;CN="B'nai Jeshurun":MAILTO:info@bj.org
END:VEVENT
BEGIN:VEVENT
DTSTART;TZID=America/New_York:20250525T093000
DTEND;TZID=America/New_York:20250525T103000
DTSTAMP:20260421T103405
CREATED:20230926T191607Z
LAST-MODIFIED:20260226T185930Z
UID:10013808-1748165400-1748169000@bj.org
SUMMARY:Shaharit (Online)
DESCRIPTION:
URL:https://bj.org/event/shaharit-sunday/2025-05-25/
LOCATION:Remote Access Only\, NY\, United States
CATEGORIES:Services,Featured in Next Service
ATTACH;FMTTYPE=image/jpeg:https://bj.org/wp-content/uploads/2019/10/1905-0280.jpg
ORGANIZER;CN="B'nai Jeshurun":MAILTO:info@bj.org
END:VEVENT
BEGIN:VEVENT
DTSTART;TZID=America/New_York:20250524T210500
DTEND;TZID=America/New_York:20250524T213000
DTSTAMP:20260421T103405
CREATED:20240418T174505Z
LAST-MODIFIED:20250916T171029Z
UID:10013784-1748120700-1748122200@bj.org
SUMMARY:Arvit and Havdalah
DESCRIPTION:
URL:https://bj.org/event/arvit-and-havdalah/2025-05-24/
LOCATION:Remote Access Only\, NY\, United States
CATEGORIES:Services,Featured in Next Service
ATTACH;FMTTYPE=image/jpeg:https://bj.org/wp-content/uploads/2020/03/havdallah-shutterstock_1385831468.jpg
ORGANIZER;CN="B'nai Jeshurun":MAILTO:info@bj.org
END:VEVENT
BEGIN:VEVENT
DTSTART;TZID=America/New_York:20250523T080000
DTEND;TZID=America/New_York:20250523T090000
DTSTAMP:20260421T103405
CREATED:20250127T213804Z
LAST-MODIFIED:20250911T161424Z
UID:10013891-1747987200-1747990800@bj.org
SUMMARY:Shaharit (Online)
DESCRIPTION:
URL:https://bj.org/event/shaharit-online-10/2025-05-23/
LOCATION:Remote Access Only\, NY\, United States
CATEGORIES:Services,Featured in Next Service
ATTACH;FMTTYPE=image/jpeg:https://bj.org/wp-content/uploads/2019/10/1905-0275.jpg
ORGANIZER;CN="B'nai Jeshurun":MAILTO:info@bj.org
END:VEVENT
BEGIN:VEVENT
DTSTART;TZID=America/New_York:20250522T200000
DTEND;TZID=America/New_York:20250522T210000
DTSTAMP:20260421T103405
CREATED:20250512T161121Z
LAST-MODIFIED:20250512T161121Z
UID:10014953-1747944000-1747947600@bj.org
SUMMARY:Supportive Space for Therapists
DESCRIPTION:
URL:https://bj.org/event/supportive-space-for-therapists/
LOCATION:Remote Access Only\, NY\, United States
CATEGORIES:Events
ATTACH;FMTTYPE=image/png:https://bj.org/wp-content/uploads/2025/05/support-space-for-therapists-event.png
ORGANIZER;CN="B'nai Jeshurun":MAILTO:info@bj.org
END:VEVENT
BEGIN:VEVENT
DTSTART;TZID=America/New_York:20250522T183000
DTEND;TZID=America/New_York:20250522T190000
DTSTAMP:20260421T103405
CREATED:20250409T175451Z
LAST-MODIFIED:20250508T184320Z
UID:10014823-1747938600-1747940400@bj.org
SUMMARY:Minha (Online)
DESCRIPTION:
URL:https://bj.org/event/minha-online-4-4/2025-05-22/
LOCATION:Remote Access Only\, NY\, United States
CATEGORIES:Services,Featured in Next Service
ATTACH;FMTTYPE=image/jpeg:https://bj.org/wp-content/uploads/2024/03/1905-0258-2048x1536-1.jpg
ORGANIZER;CN="B'nai Jeshurun":MAILTO:info@bj.org
END:VEVENT
BEGIN:VEVENT
DTSTART;TZID=America/New_York:20250521T183000
DTEND;TZID=America/New_York:20250521T190000
DTSTAMP:20260421T103405
CREATED:20250409T175451Z
LAST-MODIFIED:20250508T184320Z
UID:10014822-1747852200-1747854000@bj.org
SUMMARY:Minha (Online)
DESCRIPTION:
URL:https://bj.org/event/minha-online-4-4/2025-05-21/
LOCATION:Remote Access Only\, NY\, United States
CATEGORIES:Services,Featured in Next Service
ATTACH;FMTTYPE=image/jpeg:https://bj.org/wp-content/uploads/2024/03/1905-0258-2048x1536-1.jpg
ORGANIZER;CN="B'nai Jeshurun":MAILTO:info@bj.org
END:VEVENT
BEGIN:VEVENT
DTSTART;TZID=America/New_York:20250521T080000
DTEND;TZID=America/New_York:20250521T090000
DTSTAMP:20260421T103405
CREATED:20250127T213804Z
LAST-MODIFIED:20250911T161424Z
UID:10013890-1747814400-1747818000@bj.org
SUMMARY:Shaharit (Online)
DESCRIPTION:
URL:https://bj.org/event/shaharit-online-10/2025-05-21/
LOCATION:Remote Access Only\, NY\, United States
CATEGORIES:Services,Featured in Next Service
ATTACH;FMTTYPE=image/jpeg:https://bj.org/wp-content/uploads/2019/10/1905-0275.jpg
ORGANIZER;CN="B'nai Jeshurun":MAILTO:info@bj.org
END:VEVENT
BEGIN:VEVENT
DTSTART;TZID=America/New_York:20250520T193000
DTEND;TZID=America/New_York:20250520T210000
DTSTAMP:20260421T103405
CREATED:20241022T151404Z
LAST-MODIFIED:20250508T145917Z
UID:10013252-1747769400-1747774800@bj.org
SUMMARY:Intro to Judaism
DESCRIPTION:
URL:https://bj.org/event/intro-to-judaism/2025-05-20/
LOCATION:Remote Access Only\, NY\, United States
CATEGORIES:Classes,Featured on Home Page
ATTACH;FMTTYPE=image/jpeg:https://bj.org/wp-content/uploads/2024/10/whi5A0o8.jpg
ORGANIZER;CN="B'nai Jeshurun":MAILTO:info@bj.org
END:VEVENT
BEGIN:VEVENT
DTSTART;TZID=America/New_York:20250520T183000
DTEND;TZID=America/New_York:20250520T190000
DTSTAMP:20260421T103405
CREATED:20250409T175451Z
LAST-MODIFIED:20250508T184320Z
UID:10014696-1747765800-1747767600@bj.org
SUMMARY:Minha (Online)
DESCRIPTION:
URL:https://bj.org/event/minha-online-4-4/2025-05-20/
LOCATION:Remote Access Only\, NY\, United States
CATEGORIES:Services,Featured in Next Service
ATTACH;FMTTYPE=image/jpeg:https://bj.org/wp-content/uploads/2024/03/1905-0258-2048x1536-1.jpg
ORGANIZER;CN="B'nai Jeshurun":MAILTO:info@bj.org
END:VEVENT
BEGIN:VEVENT
DTSTART;TZID=America/New_York:20250520T173000
DTEND;TZID=America/New_York:20250520T181500
DTSTAMP:20260421T103405
CREATED:20230302T235540Z
LAST-MODIFIED:20260313T190025Z
UID:10014204-1747762200-1747764900@bj.org
SUMMARY:Mindfulness Prayer Practice Group
DESCRIPTION:
URL:https://bj.org/event/mindful-prayer-havurah/2025-05-20/
LOCATION:Remote Access Only\, NY\, United States
CATEGORIES:Classes
ATTACH;FMTTYPE=image/jpeg:https://bj.org/wp-content/uploads/2023/01/1905-0272-2048x1152-1.jpeg
ORGANIZER;CN="B'nai Jeshurun":MAILTO:info@bj.org
END:VEVENT
BEGIN:VEVENT
DTSTART;TZID=America/New_York:20250520T080000
DTEND;TZID=America/New_York:20250520T090000
DTSTAMP:20260421T103405
CREATED:20250127T213804Z
LAST-MODIFIED:20250911T161424Z
UID:10013889-1747728000-1747731600@bj.org
SUMMARY:Shaharit (Online)
DESCRIPTION:
URL:https://bj.org/event/shaharit-online-10/2025-05-20/
LOCATION:Remote Access Only\, NY\, United States
CATEGORIES:Services,Featured in Next Service
ATTACH;FMTTYPE=image/jpeg:https://bj.org/wp-content/uploads/2019/10/1905-0275.jpg
ORGANIZER;CN="B'nai Jeshurun":MAILTO:info@bj.org
END:VEVENT
BEGIN:VEVENT
DTSTART;TZID=America/New_York:20250519T193000
DTEND;TZID=America/New_York:20250519T203000
DTSTAMP:20260421T103405
CREATED:20210311T194417Z
LAST-MODIFIED:20260330T193129Z
UID:10007502-1747683000-1747686600@bj.org
SUMMARY:Connections Cocktail Hour
DESCRIPTION:
URL:https://bj.org/event/connections-cocktail-hour-2/2025-05-19/
LOCATION:Remote Access Only\, NY\, United States
CATEGORIES:Events
ATTACH;FMTTYPE=image/jpeg:https://bj.org/wp-content/uploads/2022/04/best-italian-cocktails.jpg
ORGANIZER;CN="B'nai Jeshurun":MAILTO:info@bj.org
END:VEVENT
BEGIN:VEVENT
DTSTART;TZID=America/New_York:20250519T183000
DTEND;TZID=America/New_York:20250519T190000
DTSTAMP:20260421T103405
CREATED:20250409T175451Z
LAST-MODIFIED:20250508T184320Z
UID:10014695-1747679400-1747681200@bj.org
SUMMARY:Minha (Online)
DESCRIPTION:
URL:https://bj.org/event/minha-online-4-4/2025-05-19/
LOCATION:Remote Access Only\, NY\, United States
CATEGORIES:Services,Featured in Next Service
ATTACH;FMTTYPE=image/jpeg:https://bj.org/wp-content/uploads/2024/03/1905-0258-2048x1536-1.jpg
ORGANIZER;CN="B'nai Jeshurun":MAILTO:info@bj.org
END:VEVENT
BEGIN:VEVENT
DTSTART;TZID=America/New_York:20250518T183000
DTEND;TZID=America/New_York:20250518T190000
DTSTAMP:20260421T103405
CREATED:20250409T175451Z
LAST-MODIFIED:20250508T184320Z
UID:10014821-1747593000-1747594800@bj.org
SUMMARY:Minha (Online)
DESCRIPTION:
URL:https://bj.org/event/minha-online-4-4/2025-05-18/
LOCATION:Remote Access Only\, NY\, United States
CATEGORIES:Services,Featured in Next Service
ATTACH;FMTTYPE=image/jpeg:https://bj.org/wp-content/uploads/2024/03/1905-0258-2048x1536-1.jpg
ORGANIZER;CN="B'nai Jeshurun":MAILTO:info@bj.org
END:VEVENT
BEGIN:VEVENT
DTSTART;TZID=America/New_York:20250518T093000
DTEND;TZID=America/New_York:20250518T103000
DTSTAMP:20260421T103405
CREATED:20230926T191607Z
LAST-MODIFIED:20260226T185930Z
UID:10013807-1747560600-1747564200@bj.org
SUMMARY:Shaharit (Online)
DESCRIPTION:
URL:https://bj.org/event/shaharit-sunday/2025-05-18/
LOCATION:Remote Access Only\, NY\, United States
CATEGORIES:Services,Featured in Next Service
ATTACH;FMTTYPE=image/jpeg:https://bj.org/wp-content/uploads/2019/10/1905-0280.jpg
ORGANIZER;CN="B'nai Jeshurun":MAILTO:info@bj.org
END:VEVENT
BEGIN:VEVENT
DTSTART;TZID=America/New_York:20250517T205500
DTEND;TZID=America/New_York:20250517T212000
DTSTAMP:20260421T103405
CREATED:20240418T174505Z
LAST-MODIFIED:20250916T171029Z
UID:10013783-1747515300-1747516800@bj.org
SUMMARY:Arvit and Havdalah
DESCRIPTION:
URL:https://bj.org/event/arvit-and-havdalah/2025-05-17/
LOCATION:Remote Access Only\, NY\, United States
CATEGORIES:Services,Featured in Next Service
ATTACH;FMTTYPE=image/jpeg:https://bj.org/wp-content/uploads/2020/03/havdallah-shutterstock_1385831468.jpg
ORGANIZER;CN="B'nai Jeshurun":MAILTO:info@bj.org
END:VEVENT
BEGIN:VEVENT
DTSTART;TZID=America/New_York:20250516T080000
DTEND;TZID=America/New_York:20250516T090000
DTSTAMP:20260421T103405
CREATED:20250127T213804Z
LAST-MODIFIED:20250911T161424Z
UID:10013888-1747382400-1747386000@bj.org
SUMMARY:Shaharit (Online)
DESCRIPTION:
URL:https://bj.org/event/shaharit-online-10/2025-05-16/
LOCATION:Remote Access Only\, NY\, United States
CATEGORIES:Services,Featured in Next Service
ATTACH;FMTTYPE=image/jpeg:https://bj.org/wp-content/uploads/2019/10/1905-0275.jpg
ORGANIZER;CN="B'nai Jeshurun":MAILTO:info@bj.org
END:VEVENT
BEGIN:VEVENT
DTSTART;TZID=America/New_York:20250515T190000
DTEND;TZID=America/New_York:20250515T203000
DTSTAMP:20260421T103405
CREATED:20250424T170040Z
LAST-MODIFIED:20250424T170040Z
UID:10013444-1747335600-1747341000@bj.org
SUMMARY:Israeli Authors Discussion Group: Amal Elsana Alh'jooj
DESCRIPTION:
URL:https://bj.org/event/israeli-authors-discussion-group-15-8/
LOCATION:Remote Access Only\, NY\, United States
CATEGORIES:Events,Featured on Home Page
ATTACH;FMTTYPE=image/png:https://bj.org/wp-content/uploads/2025/04/Israeli-Authors-Discussion-Group-1.png
ORGANIZER;CN="B'nai Jeshurun":MAILTO:info@bj.org
END:VEVENT
BEGIN:VEVENT
DTSTART;TZID=America/New_York:20250515T183000
DTEND;TZID=America/New_York:20250515T190000
DTSTAMP:20260421T103405
CREATED:20250409T175451Z
LAST-MODIFIED:20250508T184320Z
UID:10014820-1747333800-1747335600@bj.org
SUMMARY:Minha (Online)
DESCRIPTION:
URL:https://bj.org/event/minha-online-4-4/2025-05-15/
LOCATION:Remote Access Only\, NY\, United States
CATEGORIES:Services,Featured in Next Service
ATTACH;FMTTYPE=image/jpeg:https://bj.org/wp-content/uploads/2024/03/1905-0258-2048x1536-1.jpg
ORGANIZER;CN="B'nai Jeshurun":MAILTO:info@bj.org
END:VEVENT
BEGIN:VEVENT
DTSTART;TZID=America/New_York:20250515T154500
DTEND;TZID=America/New_York:20250515T164500
DTSTAMP:20260421T103405
CREATED:20221215T210758Z
LAST-MODIFIED:20260203T171538Z
UID:10013565-1747323900-1747327500@bj.org
SUMMARY:A Taste of Talmud: Daf Yomi with Rabbi Shuli Passow
DESCRIPTION:
URL:https://bj.org/event/a-taste-of-talmud-daf-yomi-with-rabbi-shuli-passow/2025-05-15/
LOCATION:Remote Access Only\, NY\, United States
CATEGORIES:Classes
ATTACH;FMTTYPE=image/png:https://bj.org/wp-content/uploads/2022/12/Daf-Yomi-Shuli-1.png
ORGANIZER;CN="B'nai Jeshurun":MAILTO:info@bj.org
END:VEVENT
BEGIN:VEVENT
DTSTART;TZID=America/New_York:20250514T200000
DTEND;TZID=America/New_York:20250514T210000
DTSTAMP:20260421T103405
CREATED:20240919T181401Z
LAST-MODIFIED:20240923T184010Z
UID:10012786-1747252800-1747256400@bj.org
SUMMARY:Israel Processing Space for Parents
DESCRIPTION:
URL:https://bj.org/event/israel-processing-space-for-parents/2025-05-14/
LOCATION:Remote Access Only\, NY\, United States
CATEGORIES:Events
ATTACH;FMTTYPE=image/jpeg:https://bj.org/wp-content/uploads/2023/01/1905-0120.jpg
ORGANIZER;CN="B'nai Jeshurun":MAILTO:info@bj.org
END:VEVENT
BEGIN:VEVENT
DTSTART;TZID=America/New_York:20250514T190000
DTEND;TZID=America/New_York:20250514T203000
DTSTAMP:20260421T103405
CREATED:20240404T185801Z
LAST-MODIFIED:20250107T184138Z
UID:10013479-1747249200-1747254600@bj.org
SUMMARY:M'kom Shalom: A Place of Peace
DESCRIPTION:
URL:https://bj.org/event/mkom-shalom-a-place-of-peace-3/2025-05-14/
LOCATION:Remote Access Only\, NY\, United States
CATEGORIES:Events
ATTACH;FMTTYPE=image/jpeg:https://bj.org/wp-content/uploads/2021/01/aniket-bhattacharya-CgyrwbE6Hm4-unsplash-scaled.jpg
ORGANIZER;CN="B'nai Jeshurun":MAILTO:info@bj.org
END:VEVENT
BEGIN:VEVENT
DTSTART;TZID=America/New_York:20250514T183000
DTEND;TZID=America/New_York:20250514T190000
DTSTAMP:20260421T103405
CREATED:20250409T175451Z
LAST-MODIFIED:20250508T184320Z
UID:10014819-1747247400-1747249200@bj.org
SUMMARY:Minha (Online)
DESCRIPTION:
URL:https://bj.org/event/minha-online-4-4/2025-05-14/
LOCATION:Remote Access Only\, NY\, United States
CATEGORIES:Services,Featured in Next Service
ATTACH;FMTTYPE=image/jpeg:https://bj.org/wp-content/uploads/2024/03/1905-0258-2048x1536-1.jpg
ORGANIZER;CN="B'nai Jeshurun":MAILTO:info@bj.org
END:VEVENT
BEGIN:VEVENT
DTSTART;TZID=America/New_York:20250514T083000
DTEND;TZID=America/New_York:20250514T091500
DTSTAMP:20260421T103405
CREATED:20221215T212948Z
LAST-MODIFIED:20260415T133805Z
UID:10019683-1747211400-1747214100@bj.org
SUMMARY:Jewish Meditation with Rabbi Shuli Passow
DESCRIPTION:
URL:https://bj.org/event/jewish-meditation-with-rabbi-shuli-passow-3/2025-05-14/
LOCATION:Remote Access Only\, NY\, United States
CATEGORIES:Classes
ATTACH;FMTTYPE=image/jpeg:https://bj.org/wp-content/uploads/2022/12/Daily-Meditation-Shuli-Image.jpg
ORGANIZER;CN="B'nai Jeshurun":MAILTO:info@bj.org
END:VEVENT
BEGIN:VEVENT
DTSTART;TZID=America/New_York:20250514T080000
DTEND;TZID=America/New_York:20250514T090000
DTSTAMP:20260421T103405
CREATED:20250127T213804Z
LAST-MODIFIED:20250911T161424Z
UID:10013887-1747209600-1747213200@bj.org
SUMMARY:Shaharit (Online)
DESCRIPTION:
URL:https://bj.org/event/shaharit-online-10/2025-05-14/
LOCATION:Remote Access Only\, NY\, United States
CATEGORIES:Services,Featured in Next Service
ATTACH;FMTTYPE=image/jpeg:https://bj.org/wp-content/uploads/2019/10/1905-0275.jpg
ORGANIZER;CN="B'nai Jeshurun":MAILTO:info@bj.org
END:VEVENT
BEGIN:VEVENT
DTSTART;TZID=America/New_York:20250513T193000
DTEND;TZID=America/New_York:20250513T210000
DTSTAMP:20260421T103405
CREATED:20241022T151404Z
LAST-MODIFIED:20250508T145917Z
UID:10014940-1747164600-1747170000@bj.org
SUMMARY:Intro to Judaism
DESCRIPTION:
URL:https://bj.org/event/intro-to-judaism/2025-05-13/
LOCATION:Remote Access Only\, NY\, United States
CATEGORIES:Classes,Featured on Home Page
ATTACH;FMTTYPE=image/jpeg:https://bj.org/wp-content/uploads/2024/10/whi5A0o8.jpg
ORGANIZER;CN="B'nai Jeshurun":MAILTO:info@bj.org
END:VEVENT
END:VCALENDAR