BEGIN:VCALENDAR
VERSION:2.0
PRODID:-//B&#039;nai Jeshurun - ECPv6.15.20//NONSGML v1.0//EN
CALSCALE:GREGORIAN
METHOD:PUBLISH
X-ORIGINAL-URL:https://bj.org
X-WR-CALDESC:Events for B&#039;nai Jeshurun
REFRESH-INTERVAL;VALUE=DURATION:PT1H
X-Robots-Tag:noindex
X-PUBLISHED-TTL:PT1H
BEGIN:VTIMEZONE
TZID:America/New_York
BEGIN:DAYLIGHT
TZOFFSETFROM:-0500
TZOFFSETTO:-0400
TZNAME:EDT
DTSTART:20240310T070000
END:DAYLIGHT
BEGIN:STANDARD
TZOFFSETFROM:-0400
TZOFFSETTO:-0500
TZNAME:EST
DTSTART:20241103T060000
END:STANDARD
BEGIN:DAYLIGHT
TZOFFSETFROM:-0500
TZOFFSETTO:-0400
TZNAME:EDT
DTSTART:20250309T070000
END:DAYLIGHT
BEGIN:STANDARD
TZOFFSETFROM:-0400
TZOFFSETTO:-0500
TZNAME:EST
DTSTART:20251102T060000
END:STANDARD
BEGIN:DAYLIGHT
TZOFFSETFROM:-0500
TZOFFSETTO:-0400
TZNAME:EDT
DTSTART:20260308T070000
END:DAYLIGHT
BEGIN:STANDARD
TZOFFSETFROM:-0400
TZOFFSETTO:-0500
TZNAME:EST
DTSTART:20261101T060000
END:STANDARD
END:VTIMEZONE
BEGIN:VEVENT
DTSTART;TZID=America/New_York:20250819T173000
DTEND;TZID=America/New_York:20250819T181500
DTSTAMP:20260421T043708
CREATED:20230302T235540Z
LAST-MODIFIED:20260313T190025Z
UID:10014217-1755624600-1755627300@bj.org
SUMMARY:Mindfulness Prayer Practice Group
DESCRIPTION:
URL:https://bj.org/event/mindful-prayer-havurah/2025-08-19/
LOCATION:Remote Access Only\, NY\, United States
CATEGORIES:Classes
ATTACH;FMTTYPE=image/jpeg:https://bj.org/wp-content/uploads/2023/01/1905-0272-2048x1152-1.jpeg
ORGANIZER;CN="B'nai Jeshurun":MAILTO:info@bj.org
END:VEVENT
BEGIN:VEVENT
DTSTART;TZID=America/New_York:20250819T080000
DTEND;TZID=America/New_York:20250819T090000
DTSTAMP:20260421T043708
CREATED:20250127T213804Z
LAST-MODIFIED:20250911T161424Z
UID:10016921-1755590400-1755594000@bj.org
SUMMARY:Shaharit (Online)
DESCRIPTION:
URL:https://bj.org/event/shaharit-online-10/2025-08-19/
LOCATION:Remote Access Only\, NY\, United States
CATEGORIES:Services,Featured in Next Service
ATTACH;FMTTYPE=image/jpeg:https://bj.org/wp-content/uploads/2019/10/1905-0275.jpg
ORGANIZER;CN="B'nai Jeshurun":MAILTO:info@bj.org
END:VEVENT
BEGIN:VEVENT
DTSTART;TZID=America/New_York:20250818T193000
DTEND;TZID=America/New_York:20250818T203000
DTSTAMP:20260421T043708
CREATED:20210311T194417Z
LAST-MODIFIED:20260330T193129Z
UID:10017163-1755545400-1755549000@bj.org
SUMMARY:Connections Cocktail Hour
DESCRIPTION:
URL:https://bj.org/event/connections-cocktail-hour-2/2025-08-18/
LOCATION:Remote Access Only\, NY\, United States
CATEGORIES:Events
ATTACH;FMTTYPE=image/jpeg:https://bj.org/wp-content/uploads/2022/04/best-italian-cocktails.jpg
ORGANIZER;CN="B'nai Jeshurun":MAILTO:info@bj.org
END:VEVENT
BEGIN:VEVENT
DTSTART;TZID=America/New_York:20250817T093000
DTEND;TZID=America/New_York:20250817T103000
DTSTAMP:20260421T043708
CREATED:20230926T191607Z
LAST-MODIFIED:20260226T185930Z
UID:10016901-1755423000-1755426600@bj.org
SUMMARY:Shaharit (Online)
DESCRIPTION:
URL:https://bj.org/event/shaharit-sunday/2025-08-17/
LOCATION:Remote Access Only\, NY\, United States
CATEGORIES:Services,Featured in Next Service
ATTACH;FMTTYPE=image/jpeg:https://bj.org/wp-content/uploads/2019/10/1905-0280.jpg
ORGANIZER;CN="B'nai Jeshurun":MAILTO:info@bj.org
END:VEVENT
BEGIN:VEVENT
DTSTART;TZID=America/New_York:20250816T204500
DTEND;TZID=America/New_York:20250816T211000
DTSTAMP:20260421T043708
CREATED:20240418T174505Z
LAST-MODIFIED:20250916T171029Z
UID:10016802-1755377100-1755378600@bj.org
SUMMARY:Arvit and Havdalah
DESCRIPTION:
URL:https://bj.org/event/arvit-and-havdalah/2025-08-16/
LOCATION:Remote Access Only\, NY\, United States
CATEGORIES:Services,Featured in Next Service
ATTACH;FMTTYPE=image/jpeg:https://bj.org/wp-content/uploads/2020/03/havdallah-shutterstock_1385831468.jpg
ORGANIZER;CN="B'nai Jeshurun":MAILTO:info@bj.org
END:VEVENT
BEGIN:VEVENT
DTSTART;TZID=America/New_York:20250815T080000
DTEND;TZID=America/New_York:20250815T090000
DTSTAMP:20260421T043708
CREATED:20250127T213804Z
LAST-MODIFIED:20250911T161424Z
UID:10016920-1755244800-1755248400@bj.org
SUMMARY:Shaharit (Online)
DESCRIPTION:
URL:https://bj.org/event/shaharit-online-10/2025-08-15/
LOCATION:Remote Access Only\, NY\, United States
CATEGORIES:Services,Featured in Next Service
ATTACH;FMTTYPE=image/jpeg:https://bj.org/wp-content/uploads/2019/10/1905-0275.jpg
ORGANIZER;CN="B'nai Jeshurun":MAILTO:info@bj.org
END:VEVENT
BEGIN:VEVENT
DTSTART;TZID=America/New_York:20250814T154500
DTEND;TZID=America/New_York:20250814T164500
DTSTAMP:20260421T043708
CREATED:20221215T210758Z
LAST-MODIFIED:20260203T171538Z
UID:10014874-1755186300-1755189900@bj.org
SUMMARY:A Taste of Talmud: Daf Yomi with Rabbi Shuli Passow
DESCRIPTION:
URL:https://bj.org/event/a-taste-of-talmud-daf-yomi-with-rabbi-shuli-passow/2025-08-14/
LOCATION:Remote Access Only\, NY\, United States
CATEGORIES:Classes
ATTACH;FMTTYPE=image/png:https://bj.org/wp-content/uploads/2022/12/Daf-Yomi-Shuli-1.png
ORGANIZER;CN="B'nai Jeshurun":MAILTO:info@bj.org
END:VEVENT
BEGIN:VEVENT
DTSTART;TZID=America/New_York:20250813T190000
DTEND;TZID=America/New_York:20250813T203000
DTSTAMP:20260421T043708
CREATED:20240404T185801Z
LAST-MODIFIED:20250107T184138Z
UID:10013709-1755111600-1755117000@bj.org
SUMMARY:M'kom Shalom: A Place of Peace
DESCRIPTION:
URL:https://bj.org/event/mkom-shalom-a-place-of-peace-3/2025-08-13/
LOCATION:Remote Access Only\, NY\, United States
CATEGORIES:Events
ATTACH;FMTTYPE=image/jpeg:https://bj.org/wp-content/uploads/2021/01/aniket-bhattacharya-CgyrwbE6Hm4-unsplash-scaled.jpg
ORGANIZER;CN="B'nai Jeshurun":MAILTO:info@bj.org
END:VEVENT
BEGIN:VEVENT
DTSTART;TZID=America/New_York:20250813T083000
DTEND;TZID=America/New_York:20250813T091500
DTSTAMP:20260421T043708
CREATED:20221215T212948Z
LAST-MODIFIED:20260415T133805Z
UID:10019694-1755073800-1755076500@bj.org
SUMMARY:Jewish Meditation with Rabbi Shuli Passow
DESCRIPTION:
URL:https://bj.org/event/jewish-meditation-with-rabbi-shuli-passow-3/2025-08-13/
LOCATION:Remote Access Only\, NY\, United States
CATEGORIES:Classes
ATTACH;FMTTYPE=image/jpeg:https://bj.org/wp-content/uploads/2022/12/Daily-Meditation-Shuli-Image.jpg
ORGANIZER;CN="B'nai Jeshurun":MAILTO:info@bj.org
END:VEVENT
BEGIN:VEVENT
DTSTART;TZID=America/New_York:20250813T080000
DTEND;TZID=America/New_York:20250813T090000
DTSTAMP:20260421T043708
CREATED:20250127T213804Z
LAST-MODIFIED:20250911T161424Z
UID:10016919-1755072000-1755075600@bj.org
SUMMARY:Shaharit (Online)
DESCRIPTION:
URL:https://bj.org/event/shaharit-online-10/2025-08-13/
LOCATION:Remote Access Only\, NY\, United States
CATEGORIES:Services,Featured in Next Service
ATTACH;FMTTYPE=image/jpeg:https://bj.org/wp-content/uploads/2019/10/1905-0275.jpg
ORGANIZER;CN="B'nai Jeshurun":MAILTO:info@bj.org
END:VEVENT
BEGIN:VEVENT
DTSTART;TZID=America/New_York:20250812T173000
DTEND;TZID=America/New_York:20250812T181500
DTSTAMP:20260421T043708
CREATED:20230302T235540Z
LAST-MODIFIED:20260313T190025Z
UID:10014216-1755019800-1755022500@bj.org
SUMMARY:Mindfulness Prayer Practice Group
DESCRIPTION:
URL:https://bj.org/event/mindful-prayer-havurah/2025-08-12/
LOCATION:Remote Access Only\, NY\, United States
CATEGORIES:Classes
ATTACH;FMTTYPE=image/jpeg:https://bj.org/wp-content/uploads/2023/01/1905-0272-2048x1152-1.jpeg
ORGANIZER;CN="B'nai Jeshurun":MAILTO:info@bj.org
END:VEVENT
BEGIN:VEVENT
DTSTART;TZID=America/New_York:20250812T080000
DTEND;TZID=America/New_York:20250812T090000
DTSTAMP:20260421T043708
CREATED:20250127T213804Z
LAST-MODIFIED:20250911T161424Z
UID:10016918-1754985600-1754989200@bj.org
SUMMARY:Shaharit (Online)
DESCRIPTION:
URL:https://bj.org/event/shaharit-online-10/2025-08-12/
LOCATION:Remote Access Only\, NY\, United States
CATEGORIES:Services,Featured in Next Service
ATTACH;FMTTYPE=image/jpeg:https://bj.org/wp-content/uploads/2019/10/1905-0275.jpg
ORGANIZER;CN="B'nai Jeshurun":MAILTO:info@bj.org
END:VEVENT
BEGIN:VEVENT
DTSTART;TZID=America/New_York:20250811T193000
DTEND;TZID=America/New_York:20250811T203000
DTSTAMP:20260421T043708
CREATED:20210311T194417Z
LAST-MODIFIED:20260330T193129Z
UID:10017162-1754940600-1754944200@bj.org
SUMMARY:Connections Cocktail Hour
DESCRIPTION:
URL:https://bj.org/event/connections-cocktail-hour-2/2025-08-11/
LOCATION:Remote Access Only\, NY\, United States
CATEGORIES:Events
ATTACH;FMTTYPE=image/jpeg:https://bj.org/wp-content/uploads/2022/04/best-italian-cocktails.jpg
ORGANIZER;CN="B'nai Jeshurun":MAILTO:info@bj.org
END:VEVENT
BEGIN:VEVENT
DTSTART;TZID=America/New_York:20250810T093000
DTEND;TZID=America/New_York:20250810T103000
DTSTAMP:20260421T043708
CREATED:20230926T191607Z
LAST-MODIFIED:20260226T185930Z
UID:10016900-1754818200-1754821800@bj.org
SUMMARY:Shaharit (Online)
DESCRIPTION:
URL:https://bj.org/event/shaharit-sunday/2025-08-10/
LOCATION:Remote Access Only\, NY\, United States
CATEGORIES:Services,Featured in Next Service
ATTACH;FMTTYPE=image/jpeg:https://bj.org/wp-content/uploads/2019/10/1905-0280.jpg
ORGANIZER;CN="B'nai Jeshurun":MAILTO:info@bj.org
END:VEVENT
BEGIN:VEVENT
DTSTART;TZID=America/New_York:20250809T205000
DTEND;TZID=America/New_York:20250809T211500
DTSTAMP:20260421T043708
CREATED:20240418T174505Z
LAST-MODIFIED:20250916T171029Z
UID:10016801-1754772600-1754774100@bj.org
SUMMARY:Arvit and Havdalah
DESCRIPTION:
URL:https://bj.org/event/arvit-and-havdalah/2025-08-09/
LOCATION:Remote Access Only\, NY\, United States
CATEGORIES:Services,Featured in Next Service
ATTACH;FMTTYPE=image/jpeg:https://bj.org/wp-content/uploads/2020/03/havdallah-shutterstock_1385831468.jpg
ORGANIZER;CN="B'nai Jeshurun":MAILTO:info@bj.org
END:VEVENT
BEGIN:VEVENT
DTSTART;TZID=America/New_York:20250808T080000
DTEND;TZID=America/New_York:20250808T090000
DTSTAMP:20260421T043708
CREATED:20250127T213804Z
LAST-MODIFIED:20250911T161424Z
UID:10016917-1754640000-1754643600@bj.org
SUMMARY:Shaharit (Online)
DESCRIPTION:
URL:https://bj.org/event/shaharit-online-10/2025-08-08/
LOCATION:Remote Access Only\, NY\, United States
CATEGORIES:Services,Featured in Next Service
ATTACH;FMTTYPE=image/jpeg:https://bj.org/wp-content/uploads/2019/10/1905-0275.jpg
ORGANIZER;CN="B'nai Jeshurun":MAILTO:info@bj.org
END:VEVENT
BEGIN:VEVENT
DTSTART;TZID=America/New_York:20250807T154500
DTEND;TZID=America/New_York:20250807T164500
DTSTAMP:20260421T043708
CREATED:20221215T210758Z
LAST-MODIFIED:20260203T171538Z
UID:10014873-1754581500-1754585100@bj.org
SUMMARY:A Taste of Talmud: Daf Yomi with Rabbi Shuli Passow
DESCRIPTION:
URL:https://bj.org/event/a-taste-of-talmud-daf-yomi-with-rabbi-shuli-passow/2025-08-07/
LOCATION:Remote Access Only\, NY\, United States
CATEGORIES:Classes
ATTACH;FMTTYPE=image/png:https://bj.org/wp-content/uploads/2022/12/Daf-Yomi-Shuli-1.png
ORGANIZER;CN="B'nai Jeshurun":MAILTO:info@bj.org
END:VEVENT
BEGIN:VEVENT
DTSTART;TZID=America/New_York:20250806T083000
DTEND;TZID=America/New_York:20250806T091500
DTSTAMP:20260421T043708
CREATED:20221215T212948Z
LAST-MODIFIED:20260415T133805Z
UID:10019693-1754469000-1754471700@bj.org
SUMMARY:Jewish Meditation with Rabbi Shuli Passow
DESCRIPTION:
URL:https://bj.org/event/jewish-meditation-with-rabbi-shuli-passow-3/2025-08-06/
LOCATION:Remote Access Only\, NY\, United States
CATEGORIES:Classes
ATTACH;FMTTYPE=image/jpeg:https://bj.org/wp-content/uploads/2022/12/Daily-Meditation-Shuli-Image.jpg
ORGANIZER;CN="B'nai Jeshurun":MAILTO:info@bj.org
END:VEVENT
BEGIN:VEVENT
DTSTART;TZID=America/New_York:20250806T080000
DTEND;TZID=America/New_York:20250806T090000
DTSTAMP:20260421T043708
CREATED:20250127T213804Z
LAST-MODIFIED:20250911T161424Z
UID:10016916-1754467200-1754470800@bj.org
SUMMARY:Shaharit (Online)
DESCRIPTION:
URL:https://bj.org/event/shaharit-online-10/2025-08-06/
LOCATION:Remote Access Only\, NY\, United States
CATEGORIES:Services,Featured in Next Service
ATTACH;FMTTYPE=image/jpeg:https://bj.org/wp-content/uploads/2019/10/1905-0275.jpg
ORGANIZER;CN="B'nai Jeshurun":MAILTO:info@bj.org
END:VEVENT
BEGIN:VEVENT
DTSTART;TZID=America/New_York:20250805T173000
DTEND;TZID=America/New_York:20250805T181500
DTSTAMP:20260421T043708
CREATED:20230302T235540Z
LAST-MODIFIED:20260313T190025Z
UID:10014215-1754415000-1754417700@bj.org
SUMMARY:Mindfulness Prayer Practice Group
DESCRIPTION:
URL:https://bj.org/event/mindful-prayer-havurah/2025-08-05/
LOCATION:Remote Access Only\, NY\, United States
CATEGORIES:Classes
ATTACH;FMTTYPE=image/jpeg:https://bj.org/wp-content/uploads/2023/01/1905-0272-2048x1152-1.jpeg
ORGANIZER;CN="B'nai Jeshurun":MAILTO:info@bj.org
END:VEVENT
BEGIN:VEVENT
DTSTART;TZID=America/New_York:20250805T080000
DTEND;TZID=America/New_York:20250805T090000
DTSTAMP:20260421T043708
CREATED:20250127T213804Z
LAST-MODIFIED:20250911T161424Z
UID:10016915-1754380800-1754384400@bj.org
SUMMARY:Shaharit (Online)
DESCRIPTION:
URL:https://bj.org/event/shaharit-online-10/2025-08-05/
LOCATION:Remote Access Only\, NY\, United States
CATEGORIES:Services,Featured in Next Service
ATTACH;FMTTYPE=image/jpeg:https://bj.org/wp-content/uploads/2019/10/1905-0275.jpg
ORGANIZER;CN="B'nai Jeshurun":MAILTO:info@bj.org
END:VEVENT
BEGIN:VEVENT
DTSTART;TZID=America/New_York:20250804T193000
DTEND;TZID=America/New_York:20250804T203000
DTSTAMP:20260421T043708
CREATED:20210311T194417Z
LAST-MODIFIED:20260330T193129Z
UID:10007513-1754335800-1754339400@bj.org
SUMMARY:Connections Cocktail Hour
DESCRIPTION:
URL:https://bj.org/event/connections-cocktail-hour-2/2025-08-04/
LOCATION:Remote Access Only\, NY\, United States
CATEGORIES:Events
ATTACH;FMTTYPE=image/jpeg:https://bj.org/wp-content/uploads/2022/04/best-italian-cocktails.jpg
ORGANIZER;CN="B'nai Jeshurun":MAILTO:info@bj.org
END:VEVENT
BEGIN:VEVENT
DTSTART;TZID=America/New_York:20250801T080000
DTEND;TZID=America/New_York:20250801T090000
DTSTAMP:20260421T043708
CREATED:20250127T213804Z
LAST-MODIFIED:20250911T161424Z
UID:10016914-1754035200-1754038800@bj.org
SUMMARY:Shaharit (Online)
DESCRIPTION:
URL:https://bj.org/event/shaharit-online-10/2025-08-01/
LOCATION:Remote Access Only\, NY\, United States
CATEGORIES:Services,Featured in Next Service
ATTACH;FMTTYPE=image/jpeg:https://bj.org/wp-content/uploads/2019/10/1905-0275.jpg
ORGANIZER;CN="B'nai Jeshurun":MAILTO:info@bj.org
END:VEVENT
BEGIN:VEVENT
DTSTART;TZID=America/New_York:20250731T154500
DTEND;TZID=America/New_York:20250731T164500
DTSTAMP:20260421T043708
CREATED:20221215T210758Z
LAST-MODIFIED:20260203T171538Z
UID:10014872-1753976700-1753980300@bj.org
SUMMARY:A Taste of Talmud: Daf Yomi with Rabbi Shuli Passow
DESCRIPTION:
URL:https://bj.org/event/a-taste-of-talmud-daf-yomi-with-rabbi-shuli-passow/2025-07-31/
LOCATION:Remote Access Only\, NY\, United States
CATEGORIES:Classes
ATTACH;FMTTYPE=image/png:https://bj.org/wp-content/uploads/2022/12/Daf-Yomi-Shuli-1.png
ORGANIZER;CN="B'nai Jeshurun":MAILTO:info@bj.org
END:VEVENT
BEGIN:VEVENT
DTSTART;TZID=America/New_York:20250730T083000
DTEND;TZID=America/New_York:20250730T091500
DTSTAMP:20260421T043708
CREATED:20221215T212948Z
LAST-MODIFIED:20260415T133805Z
UID:10019692-1753864200-1753866900@bj.org
SUMMARY:Jewish Meditation with Rabbi Shuli Passow
DESCRIPTION:
URL:https://bj.org/event/jewish-meditation-with-rabbi-shuli-passow-3/2025-07-30/
LOCATION:Remote Access Only\, NY\, United States
CATEGORIES:Classes
ATTACH;FMTTYPE=image/jpeg:https://bj.org/wp-content/uploads/2022/12/Daily-Meditation-Shuli-Image.jpg
ORGANIZER;CN="B'nai Jeshurun":MAILTO:info@bj.org
END:VEVENT
BEGIN:VEVENT
DTSTART;TZID=America/New_York:20250730T080000
DTEND;TZID=America/New_York:20250730T090000
DTSTAMP:20260421T043708
CREATED:20250127T213804Z
LAST-MODIFIED:20250911T161424Z
UID:10016913-1753862400-1753866000@bj.org
SUMMARY:Shaharit (Online)
DESCRIPTION:
URL:https://bj.org/event/shaharit-online-10/2025-07-30/
LOCATION:Remote Access Only\, NY\, United States
CATEGORIES:Services,Featured in Next Service
ATTACH;FMTTYPE=image/jpeg:https://bj.org/wp-content/uploads/2019/10/1905-0275.jpg
ORGANIZER;CN="B'nai Jeshurun":MAILTO:info@bj.org
END:VEVENT
BEGIN:VEVENT
DTSTART;TZID=America/New_York:20250729T173000
DTEND;TZID=America/New_York:20250729T181500
DTSTAMP:20260421T043708
CREATED:20230302T235540Z
LAST-MODIFIED:20260313T190025Z
UID:10014214-1753810200-1753812900@bj.org
SUMMARY:Mindfulness Prayer Practice Group
DESCRIPTION:
URL:https://bj.org/event/mindful-prayer-havurah/2025-07-29/
LOCATION:Remote Access Only\, NY\, United States
CATEGORIES:Classes
ATTACH;FMTTYPE=image/jpeg:https://bj.org/wp-content/uploads/2023/01/1905-0272-2048x1152-1.jpeg
ORGANIZER;CN="B'nai Jeshurun":MAILTO:info@bj.org
END:VEVENT
BEGIN:VEVENT
DTSTART;TZID=America/New_York:20250729T080000
DTEND;TZID=America/New_York:20250729T090000
DTSTAMP:20260421T043708
CREATED:20250127T213804Z
LAST-MODIFIED:20250911T161424Z
UID:10016912-1753776000-1753779600@bj.org
SUMMARY:Shaharit (Online)
DESCRIPTION:
URL:https://bj.org/event/shaharit-online-10/2025-07-29/
LOCATION:Remote Access Only\, NY\, United States
CATEGORIES:Services,Featured in Next Service
ATTACH;FMTTYPE=image/jpeg:https://bj.org/wp-content/uploads/2019/10/1905-0275.jpg
ORGANIZER;CN="B'nai Jeshurun":MAILTO:info@bj.org
END:VEVENT
BEGIN:VEVENT
DTSTART;TZID=America/New_York:20250727T093000
DTEND;TZID=America/New_York:20250727T103000
DTSTAMP:20260421T043708
CREATED:20230926T191607Z
LAST-MODIFIED:20260226T185930Z
UID:10016898-1753608600-1753612200@bj.org
SUMMARY:Shaharit (Online)
DESCRIPTION:
URL:https://bj.org/event/shaharit-sunday/2025-07-27/
LOCATION:Remote Access Only\, NY\, United States
CATEGORIES:Services,Featured in Next Service
ATTACH;FMTTYPE=image/jpeg:https://bj.org/wp-content/uploads/2019/10/1905-0280.jpg
ORGANIZER;CN="B'nai Jeshurun":MAILTO:info@bj.org
END:VEVENT
BEGIN:VEVENT
DTSTART;TZID=America/New_York:20250726T211000
DTEND;TZID=America/New_York:20250726T213500
DTSTAMP:20260421T043708
CREATED:20240418T174505Z
LAST-MODIFIED:20250916T171029Z
UID:10016799-1753564200-1753565700@bj.org
SUMMARY:Arvit and Havdalah
DESCRIPTION:
URL:https://bj.org/event/arvit-and-havdalah/2025-07-26/
LOCATION:Remote Access Only\, NY\, United States
CATEGORIES:Services,Featured in Next Service
ATTACH;FMTTYPE=image/jpeg:https://bj.org/wp-content/uploads/2020/03/havdallah-shutterstock_1385831468.jpg
ORGANIZER;CN="B'nai Jeshurun":MAILTO:info@bj.org
END:VEVENT
END:VCALENDAR