BEGIN:VCALENDAR
VERSION:2.0
PRODID:-//B&#039;nai Jeshurun - ECPv6.15.20//NONSGML v1.0//EN
CALSCALE:GREGORIAN
METHOD:PUBLISH
X-WR-CALNAME:B&#039;nai Jeshurun
X-ORIGINAL-URL:https://bj.org
X-WR-CALDESC:Events for B&#039;nai Jeshurun
REFRESH-INTERVAL;VALUE=DURATION:PT1H
X-Robots-Tag:noindex
X-PUBLISHED-TTL:PT1H
BEGIN:VTIMEZONE
TZID:America/New_York
BEGIN:DAYLIGHT
TZOFFSETFROM:-0500
TZOFFSETTO:-0400
TZNAME:EDT
DTSTART:20220313T070000
END:DAYLIGHT
BEGIN:STANDARD
TZOFFSETFROM:-0400
TZOFFSETTO:-0500
TZNAME:EST
DTSTART:20221106T060000
END:STANDARD
BEGIN:DAYLIGHT
TZOFFSETFROM:-0500
TZOFFSETTO:-0400
TZNAME:EDT
DTSTART:20230312T070000
END:DAYLIGHT
BEGIN:STANDARD
TZOFFSETFROM:-0400
TZOFFSETTO:-0500
TZNAME:EST
DTSTART:20231105T060000
END:STANDARD
BEGIN:DAYLIGHT
TZOFFSETFROM:-0500
TZOFFSETTO:-0400
TZNAME:EDT
DTSTART:20240310T070000
END:DAYLIGHT
BEGIN:STANDARD
TZOFFSETFROM:-0400
TZOFFSETTO:-0500
TZNAME:EST
DTSTART:20241103T060000
END:STANDARD
END:VTIMEZONE
BEGIN:VEVENT
DTSTART;TZID=America/New_York:20230809T183000
DTEND;TZID=America/New_York:20230809T200000
DTSTAMP:20260421T165726
CREATED:20230804T192252Z
LAST-MODIFIED:20230804T192252Z
UID:10007886-1691605800-1691611200@bj.org
SUMMARY:Make Welcome Kits for New Safe Haven Shelter
DESCRIPTION:
URL:https://bj.org/event/make-welcome-kits-for-new-safe-haven-shelter/
LOCATION:Rabbi Rachel Cowan Chapel\, 270 West 89th Street\, New York\, NY\, 10024\, United States
CATEGORIES:Events,Featured on Home Page
ATTACH;FMTTYPE=image/png:https://bj.org/wp-content/uploads/2023/08/Copy-of-opening-the-gates-event.png
ORGANIZER;CN="B'nai Jeshurun":MAILTO:info@bj.org
END:VEVENT
BEGIN:VEVENT
DTSTART;TZID=America/New_York:20230807T080000
DTEND;TZID=America/New_York:20230807T090000
DTSTAMP:20260421T165726
CREATED:20230307T214036Z
LAST-MODIFIED:20230907T175449Z
UID:10007757-1691395200-1691398800@bj.org
SUMMARY:Shaharit (In Person and Online)
DESCRIPTION:
URL:https://bj.org/event/shaharit-in-person-and-online/2023-08-07/
LOCATION:Rabbi Rachel Cowan Chapel\, 270 West 89th Street\, New York\, NY\, 10024\, United States
CATEGORIES:Services,Featured in Next Service
ATTACH;FMTTYPE=image/jpeg:https://bj.org/wp-content/uploads/2019/10/1905-0272.jpg
ORGANIZER;CN="B'nai Jeshurun":MAILTO:info@bj.org
END:VEVENT
BEGIN:VEVENT
DTSTART;TZID=America/New_York:20230805T110000
DTEND;TZID=America/New_York:20230805T114500
DTSTAMP:20260421T165726
CREATED:20230621T182739Z
LAST-MODIFIED:20230821T161913Z
UID:10007675-1691233200-1691235900@bj.org
SUMMARY:Early Childhood Families: Birth-Age 7 Shabbat Services
DESCRIPTION:
URL:https://bj.org/event/early-childhood-families-birth-age-7-shabbat-services-2-2/2023-08-05/
LOCATION:Rabbi Rachel Cowan Chapel\, 270 West 89th Street\, New York\, NY\, 10024\, United States
CATEGORIES:Services
ATTACH;FMTTYPE=image/jpeg:https://bj.org/wp-content/uploads/2021/04/IMG_9480-scaled.jpg
ORGANIZER;CN="B'nai Jeshurun":MAILTO:info@bj.org
END:VEVENT
BEGIN:VEVENT
DTSTART;TZID=America/New_York:20230803T080000
DTEND;TZID=America/New_York:20230803T090000
DTSTAMP:20260421T165726
CREATED:20230307T214036Z
LAST-MODIFIED:20230907T175449Z
UID:10007756-1691049600-1691053200@bj.org
SUMMARY:Shaharit (In Person and Online)
DESCRIPTION:
URL:https://bj.org/event/shaharit-in-person-and-online/2023-08-03/
LOCATION:Rabbi Rachel Cowan Chapel\, 270 West 89th Street\, New York\, NY\, 10024\, United States
CATEGORIES:Services,Featured in Next Service
ATTACH;FMTTYPE=image/jpeg:https://bj.org/wp-content/uploads/2019/10/1905-0272.jpg
ORGANIZER;CN="B'nai Jeshurun":MAILTO:info@bj.org
END:VEVENT
BEGIN:VEVENT
DTSTART;TZID=America/New_York:20230731T080000
DTEND;TZID=America/New_York:20230731T090000
DTSTAMP:20260421T165726
CREATED:20230307T214036Z
LAST-MODIFIED:20230907T175449Z
UID:10007755-1690790400-1690794000@bj.org
SUMMARY:Shaharit (In Person and Online)
DESCRIPTION:
URL:https://bj.org/event/shaharit-in-person-and-online/2023-07-31/
LOCATION:Rabbi Rachel Cowan Chapel\, 270 West 89th Street\, New York\, NY\, 10024\, United States
CATEGORIES:Services,Featured in Next Service
ATTACH;FMTTYPE=image/jpeg:https://bj.org/wp-content/uploads/2019/10/1905-0272.jpg
ORGANIZER;CN="B'nai Jeshurun":MAILTO:info@bj.org
END:VEVENT
BEGIN:VEVENT
DTSTART;TZID=America/New_York:20230729T110000
DTEND;TZID=America/New_York:20230729T114500
DTSTAMP:20260421T165726
CREATED:20230621T182739Z
LAST-MODIFIED:20230821T161913Z
UID:10007674-1690628400-1690631100@bj.org
SUMMARY:Early Childhood Families: Birth-Age 7 Shabbat Services
DESCRIPTION:
URL:https://bj.org/event/early-childhood-families-birth-age-7-shabbat-services-2-2/2023-07-29/
LOCATION:Rabbi Rachel Cowan Chapel\, 270 West 89th Street\, New York\, NY\, 10024\, United States
CATEGORIES:Services
ATTACH;FMTTYPE=image/jpeg:https://bj.org/wp-content/uploads/2021/04/IMG_9480-scaled.jpg
ORGANIZER;CN="B'nai Jeshurun":MAILTO:info@bj.org
END:VEVENT
BEGIN:VEVENT
DTSTART;TZID=America/New_York:20230727T183000
DTEND;TZID=America/New_York:20230727T193000
DTSTAMP:20260421T165726
CREATED:20230711T140027Z
LAST-MODIFIED:20230720T160944Z
UID:10007217-1690482600-1690486200@bj.org
SUMMARY:Minha for Tisha Be'Av
DESCRIPTION:
URL:https://bj.org/event/minha-arvit-online-2-2/
LOCATION:Rabbi Rachel Cowan Chapel\, 270 West 89th Street\, New York\, NY\, 10024\, United States
CATEGORIES:Services,Featured in Next Service,Holidays,Tisha Be'Av
ATTACH;FMTTYPE=image/jpeg:https://bj.org/wp-content/uploads/2023/01/candle-2411876_1280.jpg
ORGANIZER;CN="B'nai Jeshurun":MAILTO:info@bj.org
END:VEVENT
BEGIN:VEVENT
DTSTART;TZID=America/New_York:20230727T171500
DTEND;TZID=America/New_York:20230727T181500
DTSTAMP:20260421T165726
CREATED:20230712T143557Z
LAST-MODIFIED:20230727T191620Z
UID:10007850-1690478100-1690481700@bj.org
SUMMARY:Context and Culture: Community Lessons from a Tisha Be'Av Tale
DESCRIPTION:
URL:https://bj.org/event/lessons-from-tisha-beav-turning-lamentations-into-moral-action/
LOCATION:Rabbi Rachel Cowan Chapel\, 270 West 89th Street\, New York\, NY\, 10024\, United States
CATEGORIES:Featured on Home Page,Holidays,Tisha Be'Av
ATTACH;FMTTYPE=image/jpeg:https://bj.org/wp-content/uploads/2023/07/istockphoto-1156845105-612x612-1.jpeg
ORGANIZER;CN="B'nai Jeshurun":MAILTO:info@bj.org
END:VEVENT
BEGIN:VEVENT
DTSTART;TZID=America/New_York:20230727T080000
DTEND;TZID=America/New_York:20230727T094500
DTSTAMP:20260421T165726
CREATED:20230711T135722Z
LAST-MODIFIED:20230717T200057Z
UID:10007754-1690444800-1690451100@bj.org
SUMMARY:Tisha Be’Av Shaharit and Learning
DESCRIPTION:
URL:https://bj.org/event/shaharit-in-person-and-online-2/
LOCATION:Rabbi Rachel Cowan Chapel\, 270 West 89th Street\, New York\, NY\, 10024\, United States
CATEGORIES:Services,Featured in Next Service,Holidays,Tisha Be'Av
ATTACH;FMTTYPE=image/jpeg:https://bj.org/wp-content/uploads/2023/01/candle-2411876_1280.jpg
ORGANIZER;CN="B'nai Jeshurun":MAILTO:info@bj.org
END:VEVENT
BEGIN:VEVENT
DTSTART;TZID=America/New_York:20230724T080000
DTEND;TZID=America/New_York:20230724T090000
DTSTAMP:20260421T165726
CREATED:20230307T214036Z
LAST-MODIFIED:20230907T175449Z
UID:10007753-1690185600-1690189200@bj.org
SUMMARY:Shaharit (In Person and Online)
DESCRIPTION:
URL:https://bj.org/event/shaharit-in-person-and-online/2023-07-24/
LOCATION:Rabbi Rachel Cowan Chapel\, 270 West 89th Street\, New York\, NY\, 10024\, United States
CATEGORIES:Services,Featured in Next Service
ATTACH;FMTTYPE=image/jpeg:https://bj.org/wp-content/uploads/2019/10/1905-0272.jpg
ORGANIZER;CN="B'nai Jeshurun":MAILTO:info@bj.org
END:VEVENT
BEGIN:VEVENT
DTSTART;TZID=America/New_York:20230722T110000
DTEND;TZID=America/New_York:20230722T114500
DTSTAMP:20260421T165726
CREATED:20230621T182739Z
LAST-MODIFIED:20230821T161913Z
UID:10007673-1690023600-1690026300@bj.org
SUMMARY:Early Childhood Families: Birth-Age 7 Shabbat Services
DESCRIPTION:
URL:https://bj.org/event/early-childhood-families-birth-age-7-shabbat-services-2-2/2023-07-22/
LOCATION:Rabbi Rachel Cowan Chapel\, 270 West 89th Street\, New York\, NY\, 10024\, United States
CATEGORIES:Services
ATTACH;FMTTYPE=image/jpeg:https://bj.org/wp-content/uploads/2021/04/IMG_9480-scaled.jpg
ORGANIZER;CN="B'nai Jeshurun":MAILTO:info@bj.org
END:VEVENT
BEGIN:VEVENT
DTSTART;TZID=America/New_York:20230720T080000
DTEND;TZID=America/New_York:20230720T090000
DTSTAMP:20260421T165726
CREATED:20230307T214036Z
LAST-MODIFIED:20230907T175449Z
UID:10007752-1689840000-1689843600@bj.org
SUMMARY:Shaharit (In Person and Online)
DESCRIPTION:
URL:https://bj.org/event/shaharit-in-person-and-online/2023-07-20/
LOCATION:Rabbi Rachel Cowan Chapel\, 270 West 89th Street\, New York\, NY\, 10024\, United States
CATEGORIES:Services,Featured in Next Service
ATTACH;FMTTYPE=image/jpeg:https://bj.org/wp-content/uploads/2019/10/1905-0272.jpg
ORGANIZER;CN="B'nai Jeshurun":MAILTO:info@bj.org
END:VEVENT
BEGIN:VEVENT
DTSTART;TZID=America/New_York:20230719T074500
DTEND;TZID=America/New_York:20230719T091500
DTSTAMP:20260421T165726
CREATED:20230310T181516Z
LAST-MODIFIED:20230626T194218Z
UID:10007804-1689752700-1689758100@bj.org
SUMMARY:Shaharit (Rosh Hodesh—In Person and Online)
DESCRIPTION:
URL:https://bj.org/event/shaharit-rosh-hodesh-in-person-and-online/2023-07-19/
LOCATION:Rabbi Rachel Cowan Chapel\, 270 West 89th Street\, New York\, NY\, 10024\, United States
CATEGORIES:Services,Featured in Next Service
ATTACH;FMTTYPE=image/jpeg:https://bj.org/wp-content/uploads/2019/10/1905-0278.jpg
ORGANIZER;CN="B'nai Jeshurun":MAILTO:info@bj.org
END:VEVENT
BEGIN:VEVENT
DTSTART;TZID=America/New_York:20230717T080000
DTEND;TZID=America/New_York:20230717T090000
DTSTAMP:20260421T165726
CREATED:20230307T214036Z
LAST-MODIFIED:20230907T175449Z
UID:10007751-1689580800-1689584400@bj.org
SUMMARY:Shaharit (In Person and Online)
DESCRIPTION:
URL:https://bj.org/event/shaharit-in-person-and-online/2023-07-17/
LOCATION:Rabbi Rachel Cowan Chapel\, 270 West 89th Street\, New York\, NY\, 10024\, United States
CATEGORIES:Services,Featured in Next Service
ATTACH;FMTTYPE=image/jpeg:https://bj.org/wp-content/uploads/2019/10/1905-0272.jpg
ORGANIZER;CN="B'nai Jeshurun":MAILTO:info@bj.org
END:VEVENT
BEGIN:VEVENT
DTSTART;TZID=America/New_York:20230715T110000
DTEND;TZID=America/New_York:20230715T114500
DTSTAMP:20260421T165726
CREATED:20230621T182739Z
LAST-MODIFIED:20230821T161913Z
UID:10007672-1689418800-1689421500@bj.org
SUMMARY:Early Childhood Families: Birth-Age 7 Shabbat Services
DESCRIPTION:
URL:https://bj.org/event/early-childhood-families-birth-age-7-shabbat-services-2-2/2023-07-15/
LOCATION:Rabbi Rachel Cowan Chapel\, 270 West 89th Street\, New York\, NY\, 10024\, United States
CATEGORIES:Services
ATTACH;FMTTYPE=image/jpeg:https://bj.org/wp-content/uploads/2021/04/IMG_9480-scaled.jpg
ORGANIZER;CN="B'nai Jeshurun":MAILTO:info@bj.org
END:VEVENT
BEGIN:VEVENT
DTSTART;TZID=America/New_York:20230713T080000
DTEND;TZID=America/New_York:20230713T090000
DTSTAMP:20260421T165726
CREATED:20230307T214036Z
LAST-MODIFIED:20230907T175449Z
UID:10007750-1689235200-1689238800@bj.org
SUMMARY:Shaharit (In Person and Online)
DESCRIPTION:
URL:https://bj.org/event/shaharit-in-person-and-online/2023-07-13/
LOCATION:Rabbi Rachel Cowan Chapel\, 270 West 89th Street\, New York\, NY\, 10024\, United States
CATEGORIES:Services,Featured in Next Service
ATTACH;FMTTYPE=image/jpeg:https://bj.org/wp-content/uploads/2019/10/1905-0272.jpg
ORGANIZER;CN="B'nai Jeshurun":MAILTO:info@bj.org
END:VEVENT
BEGIN:VEVENT
DTSTART;TZID=America/New_York:20230710T080000
DTEND;TZID=America/New_York:20230710T090000
DTSTAMP:20260421T165726
CREATED:20230307T214036Z
LAST-MODIFIED:20230907T175449Z
UID:10007749-1688976000-1688979600@bj.org
SUMMARY:Shaharit (In Person and Online)
DESCRIPTION:
URL:https://bj.org/event/shaharit-in-person-and-online/2023-07-10/
LOCATION:Rabbi Rachel Cowan Chapel\, 270 West 89th Street\, New York\, NY\, 10024\, United States
CATEGORIES:Services,Featured in Next Service
ATTACH;FMTTYPE=image/jpeg:https://bj.org/wp-content/uploads/2019/10/1905-0272.jpg
ORGANIZER;CN="B'nai Jeshurun":MAILTO:info@bj.org
END:VEVENT
BEGIN:VEVENT
DTSTART;TZID=America/New_York:20230708T110000
DTEND;TZID=America/New_York:20230708T114500
DTSTAMP:20260421T165726
CREATED:20230621T182739Z
LAST-MODIFIED:20230821T161913Z
UID:10007671-1688814000-1688816700@bj.org
SUMMARY:Early Childhood Families: Birth-Age 7 Shabbat Services
DESCRIPTION:
URL:https://bj.org/event/early-childhood-families-birth-age-7-shabbat-services-2-2/2023-07-08/
LOCATION:Rabbi Rachel Cowan Chapel\, 270 West 89th Street\, New York\, NY\, 10024\, United States
CATEGORIES:Services
ATTACH;FMTTYPE=image/jpeg:https://bj.org/wp-content/uploads/2021/04/IMG_9480-scaled.jpg
ORGANIZER;CN="B'nai Jeshurun":MAILTO:info@bj.org
END:VEVENT
BEGIN:VEVENT
DTSTART;TZID=America/New_York:20230706T080000
DTEND;TZID=America/New_York:20230706T090000
DTSTAMP:20260421T165726
CREATED:20230307T214036Z
LAST-MODIFIED:20230907T175449Z
UID:10007748-1688630400-1688634000@bj.org
SUMMARY:Shaharit (In Person and Online)
DESCRIPTION:
URL:https://bj.org/event/shaharit-in-person-and-online/2023-07-06/
LOCATION:Rabbi Rachel Cowan Chapel\, 270 West 89th Street\, New York\, NY\, 10024\, United States
CATEGORIES:Services,Featured in Next Service
ATTACH;FMTTYPE=image/jpeg:https://bj.org/wp-content/uploads/2019/10/1905-0272.jpg
ORGANIZER;CN="B'nai Jeshurun":MAILTO:info@bj.org
END:VEVENT
BEGIN:VEVENT
DTSTART;TZID=America/New_York:20230703T080000
DTEND;TZID=America/New_York:20230703T090000
DTSTAMP:20260421T165726
CREATED:20230307T214036Z
LAST-MODIFIED:20230907T175449Z
UID:10007747-1688371200-1688374800@bj.org
SUMMARY:Shaharit (In Person and Online)
DESCRIPTION:
URL:https://bj.org/event/shaharit-in-person-and-online/2023-07-03/
LOCATION:Rabbi Rachel Cowan Chapel\, 270 West 89th Street\, New York\, NY\, 10024\, United States
CATEGORIES:Services,Featured in Next Service
ATTACH;FMTTYPE=image/jpeg:https://bj.org/wp-content/uploads/2019/10/1905-0272.jpg
ORGANIZER;CN="B'nai Jeshurun":MAILTO:info@bj.org
END:VEVENT
BEGIN:VEVENT
DTSTART;TZID=America/New_York:20230701T110000
DTEND;TZID=America/New_York:20230701T114500
DTSTAMP:20260421T165726
CREATED:20230621T182739Z
LAST-MODIFIED:20230821T161913Z
UID:10007670-1688209200-1688211900@bj.org
SUMMARY:Early Childhood Families: Birth-Age 7 Shabbat Services
DESCRIPTION:
URL:https://bj.org/event/early-childhood-families-birth-age-7-shabbat-services-2-2/2023-07-01/
LOCATION:Rabbi Rachel Cowan Chapel\, 270 West 89th Street\, New York\, NY\, 10024\, United States
CATEGORIES:Services
ATTACH;FMTTYPE=image/jpeg:https://bj.org/wp-content/uploads/2021/04/IMG_9480-scaled.jpg
ORGANIZER;CN="B'nai Jeshurun":MAILTO:info@bj.org
END:VEVENT
BEGIN:VEVENT
DTSTART;TZID=America/New_York:20230629T080000
DTEND;TZID=America/New_York:20230629T090000
DTSTAMP:20260421T165726
CREATED:20230307T214036Z
LAST-MODIFIED:20230907T175449Z
UID:10007325-1688025600-1688029200@bj.org
SUMMARY:Shaharit (In Person and Online)
DESCRIPTION:
URL:https://bj.org/event/shaharit-in-person-and-online/2023-06-29/
LOCATION:Rabbi Rachel Cowan Chapel\, 270 West 89th Street\, New York\, NY\, 10024\, United States
CATEGORIES:Services,Featured in Next Service
ATTACH;FMTTYPE=image/jpeg:https://bj.org/wp-content/uploads/2019/10/1905-0272.jpg
ORGANIZER;CN="B'nai Jeshurun":MAILTO:info@bj.org
END:VEVENT
BEGIN:VEVENT
DTSTART;TZID=America/New_York:20230626T080000
DTEND;TZID=America/New_York:20230626T090000
DTSTAMP:20260421T165726
CREATED:20230307T214036Z
LAST-MODIFIED:20230907T175449Z
UID:10007324-1687766400-1687770000@bj.org
SUMMARY:Shaharit (In Person and Online)
DESCRIPTION:
URL:https://bj.org/event/shaharit-in-person-and-online/2023-06-26/
LOCATION:Rabbi Rachel Cowan Chapel\, 270 West 89th Street\, New York\, NY\, 10024\, United States
CATEGORIES:Services,Featured in Next Service
ATTACH;FMTTYPE=image/jpeg:https://bj.org/wp-content/uploads/2019/10/1905-0272.jpg
ORGANIZER;CN="B'nai Jeshurun":MAILTO:info@bj.org
END:VEVENT
BEGIN:VEVENT
DTSTART;TZID=America/New_York:20230622T080000
DTEND;TZID=America/New_York:20230622T090000
DTSTAMP:20260421T165726
CREATED:20230307T214036Z
LAST-MODIFIED:20230907T175449Z
UID:10007323-1687420800-1687424400@bj.org
SUMMARY:Shaharit (In Person and Online)
DESCRIPTION:
URL:https://bj.org/event/shaharit-in-person-and-online/2023-06-22/
LOCATION:Rabbi Rachel Cowan Chapel\, 270 West 89th Street\, New York\, NY\, 10024\, United States
CATEGORIES:Services,Featured in Next Service
ATTACH;FMTTYPE=image/jpeg:https://bj.org/wp-content/uploads/2019/10/1905-0272.jpg
ORGANIZER;CN="B'nai Jeshurun":MAILTO:info@bj.org
END:VEVENT
BEGIN:VEVENT
DTSTART;TZID=America/New_York:20230620T074500
DTEND;TZID=America/New_York:20230620T091500
DTSTAMP:20260421T165726
CREATED:20230310T181516Z
LAST-MODIFIED:20230626T194218Z
UID:10007744-1687247100-1687252500@bj.org
SUMMARY:Shaharit (Rosh Hodesh—In Person and Online)
DESCRIPTION:
URL:https://bj.org/event/shaharit-rosh-hodesh-in-person-and-online/2023-06-20/
LOCATION:Rabbi Rachel Cowan Chapel\, 270 West 89th Street\, New York\, NY\, 10024\, United States
CATEGORIES:Services,Featured in Next Service
ATTACH;FMTTYPE=image/jpeg:https://bj.org/wp-content/uploads/2019/10/1905-0278.jpg
ORGANIZER;CN="B'nai Jeshurun":MAILTO:info@bj.org
END:VEVENT
BEGIN:VEVENT
DTSTART;TZID=America/New_York:20230619T074500
DTEND;TZID=America/New_York:20230619T091500
DTSTAMP:20260421T165726
CREATED:20230310T181516Z
LAST-MODIFIED:20230626T194218Z
UID:10007743-1687160700-1687166100@bj.org
SUMMARY:Shaharit (Rosh Hodesh—In Person and Online)
DESCRIPTION:
URL:https://bj.org/event/shaharit-rosh-hodesh-in-person-and-online/2023-06-19/
LOCATION:Rabbi Rachel Cowan Chapel\, 270 West 89th Street\, New York\, NY\, 10024\, United States
CATEGORIES:Services,Featured in Next Service
ATTACH;FMTTYPE=image/jpeg:https://bj.org/wp-content/uploads/2019/10/1905-0278.jpg
ORGANIZER;CN="B'nai Jeshurun":MAILTO:info@bj.org
END:VEVENT
BEGIN:VEVENT
DTSTART;TZID=America/New_York:20230617T084500
DTEND;TZID=America/New_York:20230617T092500
DTSTAMP:20260421T165726
CREATED:20230404T175434Z
LAST-MODIFIED:20230404T175434Z
UID:10007363-1686991500-1686993900@bj.org
SUMMARY:Hakhanah LaTefillah
DESCRIPTION:
URL:https://bj.org/event/hakhanah-latefillah-2/2023-06-17/
LOCATION:Rabbi Rachel Cowan Chapel\, 270 West 89th Street\, New York\, NY\, 10024\, United States
CATEGORIES:Events
ATTACH;FMTTYPE=image/jpeg:https://bj.org/wp-content/uploads/2023/01/1905-0258.jpg
ORGANIZER;CN="B'nai Jeshurun":MAILTO:info@bj.org
END:VEVENT
BEGIN:VEVENT
DTSTART;TZID=America/New_York:20230615T080000
DTEND;TZID=America/New_York:20230615T090000
DTSTAMP:20260421T165726
CREATED:20230307T214036Z
LAST-MODIFIED:20230907T175449Z
UID:10007321-1686816000-1686819600@bj.org
SUMMARY:Shaharit (In Person and Online)
DESCRIPTION:
URL:https://bj.org/event/shaharit-in-person-and-online/2023-06-15/
LOCATION:Rabbi Rachel Cowan Chapel\, 270 West 89th Street\, New York\, NY\, 10024\, United States
CATEGORIES:Services,Featured in Next Service
ATTACH;FMTTYPE=image/jpeg:https://bj.org/wp-content/uploads/2019/10/1905-0272.jpg
ORGANIZER;CN="B'nai Jeshurun":MAILTO:info@bj.org
END:VEVENT
BEGIN:VEVENT
DTSTART;TZID=America/New_York:20230612T080000
DTEND;TZID=America/New_York:20230612T090000
DTSTAMP:20260421T165726
CREATED:20230307T214036Z
LAST-MODIFIED:20230907T175449Z
UID:10007320-1686556800-1686560400@bj.org
SUMMARY:Shaharit (In Person and Online)
DESCRIPTION:
URL:https://bj.org/event/shaharit-in-person-and-online/2023-06-12/
LOCATION:Rabbi Rachel Cowan Chapel\, 270 West 89th Street\, New York\, NY\, 10024\, United States
CATEGORIES:Services,Featured in Next Service
ATTACH;FMTTYPE=image/jpeg:https://bj.org/wp-content/uploads/2019/10/1905-0272.jpg
ORGANIZER;CN="B'nai Jeshurun":MAILTO:info@bj.org
END:VEVENT
BEGIN:VEVENT
DTSTART;TZID=America/New_York:20230608T080000
DTEND;TZID=America/New_York:20230608T090000
DTSTAMP:20260421T165726
CREATED:20230307T214036Z
LAST-MODIFIED:20230907T175449Z
UID:10007319-1686211200-1686214800@bj.org
SUMMARY:Shaharit (In Person and Online)
DESCRIPTION:
URL:https://bj.org/event/shaharit-in-person-and-online/2023-06-08/
LOCATION:Rabbi Rachel Cowan Chapel\, 270 West 89th Street\, New York\, NY\, 10024\, United States
CATEGORIES:Services,Featured in Next Service
ATTACH;FMTTYPE=image/jpeg:https://bj.org/wp-content/uploads/2019/10/1905-0272.jpg
ORGANIZER;CN="B'nai Jeshurun":MAILTO:info@bj.org
END:VEVENT
END:VCALENDAR