BEGIN:VCALENDAR
VERSION:2.0
PRODID:-//B&#039;nai Jeshurun - ECPv6.15.20//NONSGML v1.0//EN
CALSCALE:GREGORIAN
METHOD:PUBLISH
X-WR-CALNAME:B&#039;nai Jeshurun
X-ORIGINAL-URL:https://bj.org
X-WR-CALDESC:Events for B&#039;nai Jeshurun
REFRESH-INTERVAL;VALUE=DURATION:PT1H
X-Robots-Tag:noindex
X-PUBLISHED-TTL:PT1H
BEGIN:VTIMEZONE
TZID:America/New_York
BEGIN:DAYLIGHT
TZOFFSETFROM:-0500
TZOFFSETTO:-0400
TZNAME:EDT
DTSTART:20220313T070000
END:DAYLIGHT
BEGIN:STANDARD
TZOFFSETFROM:-0400
TZOFFSETTO:-0500
TZNAME:EST
DTSTART:20221106T060000
END:STANDARD
BEGIN:DAYLIGHT
TZOFFSETFROM:-0500
TZOFFSETTO:-0400
TZNAME:EDT
DTSTART:20230312T070000
END:DAYLIGHT
BEGIN:STANDARD
TZOFFSETFROM:-0400
TZOFFSETTO:-0500
TZNAME:EST
DTSTART:20231105T060000
END:STANDARD
BEGIN:DAYLIGHT
TZOFFSETFROM:-0500
TZOFFSETTO:-0400
TZNAME:EDT
DTSTART:20240310T070000
END:DAYLIGHT
BEGIN:STANDARD
TZOFFSETFROM:-0400
TZOFFSETTO:-0500
TZNAME:EST
DTSTART:20241103T060000
END:STANDARD
END:VTIMEZONE
BEGIN:VEVENT
DTSTART;TZID=America/New_York:20231001T110000
DTEND;TZID=America/New_York:20231001T120000
DTSTAMP:20260421T153126
CREATED:20230912T121327Z
LAST-MODIFIED:20230929T154234Z
UID:10008110-1696158000-1696161600@bj.org
SUMMARY:Sukkot Early Childhood Morning Service (Second Day)
DESCRIPTION:
URL:https://bj.org/event/sukkot-early-childhood-morning-service-second-day/
LOCATION:Rabbi Rachel Cowan Chapel\, 270 West 89th Street\, New York\, NY\, 10024\, United States
CATEGORIES:Services,Holidays,Sukkot Services
ATTACH;FMTTYPE=image/jpeg:https://bj.org/wp-content/uploads/2023/09/1905-0119-scaled.jpg
ORGANIZER;CN="B'nai Jeshurun":MAILTO:info@bj.org
END:VEVENT
BEGIN:VEVENT
DTSTART;TZID=America/New_York:20230930T133000
DTEND;TZID=America/New_York:20230930T143000
DTSTAMP:20260421T153126
CREATED:20230912T151347Z
LAST-MODIFIED:20230929T194422Z
UID:10008114-1696080600-1696084200@bj.org
SUMMARY:Exploring Food\, Sukkot\, and the Climate Crisis in NYC
DESCRIPTION:
URL:https://bj.org/event/exploring-food-sukkot-and-the-climate-crisis-in-nyc/
LOCATION:Rabbi Rachel Cowan Chapel\, 270 West 89th Street\, New York\, NY\, 10024\, United States
CATEGORIES:Events,Holidays
ATTACH;FMTTYPE=image/png:https://bj.org/wp-content/uploads/2023/09/another-sukkot-program.png
ORGANIZER;CN="B'nai Jeshurun":MAILTO:info@bj.org
END:VEVENT
BEGIN:VEVENT
DTSTART;TZID=America/New_York:20230930T110000
DTEND;TZID=America/New_York:20230930T120000
DTSTAMP:20260421T153126
CREATED:20230912T121155Z
LAST-MODIFIED:20230929T154147Z
UID:10008104-1696071600-1696075200@bj.org
SUMMARY:Sukkot Early Childhood Morning Service (First Day)
DESCRIPTION:
URL:https://bj.org/event/sukkot-early-childhood-morning-service-first-day/
LOCATION:Rabbi Rachel Cowan Chapel\, 270 West 89th Street\, New York\, NY\, 10024\, United States
CATEGORIES:Services,Holidays,Sukkot Services
ATTACH;FMTTYPE=image/jpeg:https://bj.org/wp-content/uploads/2023/09/1905-0119-scaled.jpg
ORGANIZER;CN="B'nai Jeshurun":MAILTO:info@bj.org
END:VEVENT
BEGIN:VEVENT
DTSTART;TZID=America/New_York:20230928T080000
DTEND;TZID=America/New_York:20230928T090000
DTSTAMP:20260421T153126
CREATED:20230920T153019Z
LAST-MODIFIED:20231219T214025Z
UID:10008434-1695888000-1695891600@bj.org
SUMMARY:Shaharit (In Person and Online)
DESCRIPTION:
URL:https://bj.org/event/shaharit-in-person-and-online-4/2023-09-28/
LOCATION:Rabbi Rachel Cowan Chapel\, 270 West 89th Street\, New York\, NY\, 10024\, United States
CATEGORIES:Services,Featured in Next Service
ATTACH;FMTTYPE=image/jpeg:https://bj.org/wp-content/uploads/2019/10/1905-0272.jpg
ORGANIZER;CN="B'nai Jeshurun":MAILTO:info@bj.org
END:VEVENT
BEGIN:VEVENT
DTSTART;TZID=America/New_York:20230923T110000
DTEND;TZID=America/New_York:20230923T120000
DTSTAMP:20260421T153126
CREATED:20230821T171158Z
LAST-MODIFIED:20240103T154921Z
UID:10007913-1695466800-1695470400@bj.org
SUMMARY:Early Childhood Families: Birth-Pre-K Shabbat Services
DESCRIPTION:
URL:https://bj.org/event/early-childhood-families-birth-pre-k-shabbat-services-2/2023-09-23/
LOCATION:Rabbi Rachel Cowan Chapel\, 270 West 89th Street\, New York\, NY\, 10024\, United States
CATEGORIES:Services
ATTACH;FMTTYPE=image/jpeg:https://bj.org/wp-content/uploads/2021/04/IMG_9480-scaled.jpg
ORGANIZER;CN="B'nai Jeshurun":MAILTO:info@bj.org
END:VEVENT
BEGIN:VEVENT
DTSTART;TZID=America/New_York:20230923T084500
DTEND;TZID=America/New_York:20230923T092500
DTSTAMP:20260421T153126
CREATED:20230822T153928Z
LAST-MODIFIED:20260313T190320Z
UID:10007990-1695458700-1695461100@bj.org
SUMMARY:Hakhanah LaTefillah
DESCRIPTION:
URL:https://bj.org/event/hakhanah-latefillah-4/2023-09-23/
LOCATION:Rabbi Rachel Cowan Chapel\, 270 West 89th Street\, New York\, NY\, 10024\, United States
CATEGORIES:Events,Services
ATTACH;FMTTYPE=image/jpeg:https://bj.org/wp-content/uploads/2020/11/1905-0258-scaled.jpg
ORGANIZER;CN="B'nai Jeshurun":MAILTO:info@bj.org
END:VEVENT
BEGIN:VEVENT
DTSTART;TZID=America/New_York:20230921T074500
DTEND;TZID=America/New_York:20230921T090000
DTSTAMP:20260421T153126
CREATED:20230907T174748Z
LAST-MODIFIED:20230907T175003Z
UID:10008054-1695282300-1695286800@bj.org
SUMMARY:Shaharit (In Person and Online)
DESCRIPTION:
URL:https://bj.org/event/shaharit-in-person-and-online-3/2023-09-21/
LOCATION:Rabbi Rachel Cowan Chapel\, 270 West 89th Street\, New York\, NY\, 10024\, United States
CATEGORIES:Services,Featured in Next Service,Elul
ATTACH;FMTTYPE=image/jpeg:https://bj.org/wp-content/uploads/2023/01/1905-0272-2048x1152-1.jpeg
ORGANIZER;CN="B'nai Jeshurun":MAILTO:info@bj.org
END:VEVENT
BEGIN:VEVENT
DTSTART;TZID=America/New_York:20230918T074500
DTEND;TZID=America/New_York:20230918T090000
DTSTAMP:20260421T153126
CREATED:20230907T174748Z
LAST-MODIFIED:20230907T175003Z
UID:10008053-1695023100-1695027600@bj.org
SUMMARY:Shaharit (In Person and Online)
DESCRIPTION:
URL:https://bj.org/event/shaharit-in-person-and-online-3/2023-09-18/
LOCATION:Rabbi Rachel Cowan Chapel\, 270 West 89th Street\, New York\, NY\, 10024\, United States
CATEGORIES:Services,Featured in Next Service,Elul
ATTACH;FMTTYPE=image/jpeg:https://bj.org/wp-content/uploads/2023/01/1905-0272-2048x1152-1.jpeg
ORGANIZER;CN="B'nai Jeshurun":MAILTO:info@bj.org
END:VEVENT
BEGIN:VEVENT
DTSTART;TZID=America/New_York:20230914T074500
DTEND;TZID=America/New_York:20230914T090000
DTSTAMP:20260421T153126
CREATED:20230907T174748Z
LAST-MODIFIED:20230907T175003Z
UID:10008052-1694677500-1694682000@bj.org
SUMMARY:Shaharit (In Person and Online)
DESCRIPTION:
URL:https://bj.org/event/shaharit-in-person-and-online-3/2023-09-14/
LOCATION:Rabbi Rachel Cowan Chapel\, 270 West 89th Street\, New York\, NY\, 10024\, United States
CATEGORIES:Services,Featured in Next Service,Elul
ATTACH;FMTTYPE=image/jpeg:https://bj.org/wp-content/uploads/2023/01/1905-0272-2048x1152-1.jpeg
ORGANIZER;CN="B'nai Jeshurun":MAILTO:info@bj.org
END:VEVENT
BEGIN:VEVENT
DTSTART;TZID=America/New_York:20230912T190000
DTEND;TZID=America/New_York:20230912T201500
DTSTAMP:20260421T153126
CREATED:20230803T143744Z
LAST-MODIFIED:20230911T183002Z
UID:10007876-1694545200-1694549700@bj.org
SUMMARY:Knocking on the Gates of Mercy: Spiritual Preparation to Hear the Shofar
DESCRIPTION:
URL:https://bj.org/event/knocking-on-the-gates-of-mercy-spiritual-preparation-to-hear-the-shofar/
LOCATION:Rabbi Rachel Cowan Chapel\, 270 West 89th Street\, New York\, NY\, 10024\, United States
CATEGORIES:Classes,Featured on Home Page,Holidays,High Holy Days,Elul
ATTACH;FMTTYPE=image/jpeg:https://bj.org/wp-content/uploads/2022/12/1905-0106-scaled-1.jpg
ORGANIZER;CN="B'nai Jeshurun":MAILTO:info@bj.org
END:VEVENT
BEGIN:VEVENT
DTSTART;TZID=America/New_York:20230911T074500
DTEND;TZID=America/New_York:20230911T090000
DTSTAMP:20260421T153126
CREATED:20230907T174748Z
LAST-MODIFIED:20230907T175003Z
UID:10008051-1694418300-1694422800@bj.org
SUMMARY:Shaharit (In Person and Online)
DESCRIPTION:
URL:https://bj.org/event/shaharit-in-person-and-online-3/2023-09-11/
LOCATION:Rabbi Rachel Cowan Chapel\, 270 West 89th Street\, New York\, NY\, 10024\, United States
CATEGORIES:Services,Featured in Next Service,Elul
ATTACH;FMTTYPE=image/jpeg:https://bj.org/wp-content/uploads/2023/01/1905-0272-2048x1152-1.jpeg
ORGANIZER;CN="B'nai Jeshurun":MAILTO:info@bj.org
END:VEVENT
BEGIN:VEVENT
DTSTART;TZID=America/New_York:20230909T084500
DTEND;TZID=America/New_York:20230909T092500
DTSTAMP:20260421T153126
CREATED:20230822T153928Z
LAST-MODIFIED:20260313T190320Z
UID:10007989-1694249100-1694251500@bj.org
SUMMARY:Hakhanah LaTefillah
DESCRIPTION:
URL:https://bj.org/event/hakhanah-latefillah-4/2023-09-09/
LOCATION:Rabbi Rachel Cowan Chapel\, 270 West 89th Street\, New York\, NY\, 10024\, United States
CATEGORIES:Events,Services
ATTACH;FMTTYPE=image/jpeg:https://bj.org/wp-content/uploads/2020/11/1905-0258-scaled.jpg
ORGANIZER;CN="B'nai Jeshurun":MAILTO:info@bj.org
END:VEVENT
BEGIN:VEVENT
DTSTART;TZID=America/New_York:20230907T080000
DTEND;TZID=America/New_York:20230907T090000
DTSTAMP:20260421T153126
CREATED:20230307T214036Z
LAST-MODIFIED:20230907T175449Z
UID:10007766-1694073600-1694077200@bj.org
SUMMARY:Shaharit (In Person and Online)
DESCRIPTION:
URL:https://bj.org/event/shaharit-in-person-and-online/2023-09-07/
LOCATION:Rabbi Rachel Cowan Chapel\, 270 West 89th Street\, New York\, NY\, 10024\, United States
CATEGORIES:Services,Featured in Next Service
ATTACH;FMTTYPE=image/jpeg:https://bj.org/wp-content/uploads/2019/10/1905-0272.jpg
ORGANIZER;CN="B'nai Jeshurun":MAILTO:info@bj.org
END:VEVENT
BEGIN:VEVENT
DTSTART;TZID=America/New_York:20230902T110000
DTEND;TZID=America/New_York:20230902T120000
DTSTAMP:20260421T153126
CREATED:20230821T162145Z
LAST-MODIFIED:20240823T141251Z
UID:10007908-1693652400-1693656000@bj.org
SUMMARY:Early Childhood Shabbat Service (Birth to Age 7)
DESCRIPTION:
URL:https://bj.org/event/early-childhood-families-birth-age-7-shabbat-services-3/2023-09-02/
LOCATION:Rabbi Rachel Cowan Chapel\, 270 West 89th Street\, New York\, NY\, 10024\, United States
CATEGORIES:Services
ATTACH;FMTTYPE=image/jpeg:https://bj.org/wp-content/uploads/2021/04/IMG_9480-scaled.jpg
ORGANIZER;CN="B'nai Jeshurun":MAILTO:info@bj.org
END:VEVENT
BEGIN:VEVENT
DTSTART;TZID=America/New_York:20230831T080000
DTEND;TZID=America/New_York:20230831T090000
DTSTAMP:20260421T153126
CREATED:20230307T214036Z
LAST-MODIFIED:20230907T175449Z
UID:10007764-1693468800-1693472400@bj.org
SUMMARY:Shaharit (In Person and Online)
DESCRIPTION:
URL:https://bj.org/event/shaharit-in-person-and-online/2023-08-31/
LOCATION:Rabbi Rachel Cowan Chapel\, 270 West 89th Street\, New York\, NY\, 10024\, United States
CATEGORIES:Services,Featured in Next Service
ATTACH;FMTTYPE=image/jpeg:https://bj.org/wp-content/uploads/2019/10/1905-0272.jpg
ORGANIZER;CN="B'nai Jeshurun":MAILTO:info@bj.org
END:VEVENT
BEGIN:VEVENT
DTSTART;TZID=America/New_York:20230828T080000
DTEND;TZID=America/New_York:20230828T090000
DTSTAMP:20260421T153126
CREATED:20230307T214036Z
LAST-MODIFIED:20230907T175449Z
UID:10007763-1693209600-1693213200@bj.org
SUMMARY:Shaharit (In Person and Online)
DESCRIPTION:
URL:https://bj.org/event/shaharit-in-person-and-online/2023-08-28/
LOCATION:Rabbi Rachel Cowan Chapel\, 270 West 89th Street\, New York\, NY\, 10024\, United States
CATEGORIES:Services,Featured in Next Service
ATTACH;FMTTYPE=image/jpeg:https://bj.org/wp-content/uploads/2019/10/1905-0272.jpg
ORGANIZER;CN="B'nai Jeshurun":MAILTO:info@bj.org
END:VEVENT
BEGIN:VEVENT
DTSTART;TZID=America/New_York:20230826T110000
DTEND;TZID=America/New_York:20230826T114500
DTSTAMP:20260421T153126
CREATED:20230621T182739Z
LAST-MODIFIED:20230821T161913Z
UID:10007678-1693047600-1693050300@bj.org
SUMMARY:Early Childhood Families: Birth-Age 7 Shabbat Services
DESCRIPTION:
URL:https://bj.org/event/early-childhood-families-birth-age-7-shabbat-services-2-2/2023-08-26/
LOCATION:Rabbi Rachel Cowan Chapel\, 270 West 89th Street\, New York\, NY\, 10024\, United States
CATEGORIES:Services
ATTACH;FMTTYPE=image/jpeg:https://bj.org/wp-content/uploads/2021/04/IMG_9480-scaled.jpg
ORGANIZER;CN="B'nai Jeshurun":MAILTO:info@bj.org
END:VEVENT
BEGIN:VEVENT
DTSTART;TZID=America/New_York:20230824T080000
DTEND;TZID=America/New_York:20230824T090000
DTSTAMP:20260421T153126
CREATED:20230307T214036Z
LAST-MODIFIED:20230907T175449Z
UID:10007762-1692864000-1692867600@bj.org
SUMMARY:Shaharit (In Person and Online)
DESCRIPTION:
URL:https://bj.org/event/shaharit-in-person-and-online/2023-08-24/
LOCATION:Rabbi Rachel Cowan Chapel\, 270 West 89th Street\, New York\, NY\, 10024\, United States
CATEGORIES:Services,Featured in Next Service
ATTACH;FMTTYPE=image/jpeg:https://bj.org/wp-content/uploads/2019/10/1905-0272.jpg
ORGANIZER;CN="B'nai Jeshurun":MAILTO:info@bj.org
END:VEVENT
BEGIN:VEVENT
DTSTART;TZID=America/New_York:20230821T080000
DTEND;TZID=America/New_York:20230821T090000
DTSTAMP:20260421T153126
CREATED:20230307T214036Z
LAST-MODIFIED:20230907T175449Z
UID:10007761-1692604800-1692608400@bj.org
SUMMARY:Shaharit (In Person and Online)
DESCRIPTION:
URL:https://bj.org/event/shaharit-in-person-and-online/2023-08-21/
LOCATION:Rabbi Rachel Cowan Chapel\, 270 West 89th Street\, New York\, NY\, 10024\, United States
CATEGORIES:Services,Featured in Next Service
ATTACH;FMTTYPE=image/jpeg:https://bj.org/wp-content/uploads/2019/10/1905-0272.jpg
ORGANIZER;CN="B'nai Jeshurun":MAILTO:info@bj.org
END:VEVENT
BEGIN:VEVENT
DTSTART;TZID=America/New_York:20230819T110000
DTEND;TZID=America/New_York:20230819T114500
DTSTAMP:20260421T153126
CREATED:20230621T182739Z
LAST-MODIFIED:20230821T161913Z
UID:10007677-1692442800-1692445500@bj.org
SUMMARY:Early Childhood Families: Birth-Age 7 Shabbat Services
DESCRIPTION:
URL:https://bj.org/event/early-childhood-families-birth-age-7-shabbat-services-2-2/2023-08-19/
LOCATION:Rabbi Rachel Cowan Chapel\, 270 West 89th Street\, New York\, NY\, 10024\, United States
CATEGORIES:Services
ATTACH;FMTTYPE=image/jpeg:https://bj.org/wp-content/uploads/2021/04/IMG_9480-scaled.jpg
ORGANIZER;CN="B'nai Jeshurun":MAILTO:info@bj.org
END:VEVENT
BEGIN:VEVENT
DTSTART;TZID=America/New_York:20230818T074500
DTEND;TZID=America/New_York:20230818T091500
DTSTAMP:20260421T153126
CREATED:20230310T181516Z
LAST-MODIFIED:20230626T194218Z
UID:10007806-1692344700-1692350100@bj.org
SUMMARY:Shaharit (Rosh Hodesh—In Person and Online)
DESCRIPTION:
URL:https://bj.org/event/shaharit-rosh-hodesh-in-person-and-online/2023-08-18/
LOCATION:Rabbi Rachel Cowan Chapel\, 270 West 89th Street\, New York\, NY\, 10024\, United States
CATEGORIES:Services,Featured in Next Service
ATTACH;FMTTYPE=image/jpeg:https://bj.org/wp-content/uploads/2019/10/1905-0278.jpg
ORGANIZER;CN="B'nai Jeshurun":MAILTO:info@bj.org
END:VEVENT
BEGIN:VEVENT
DTSTART;TZID=America/New_York:20230817T074500
DTEND;TZID=America/New_York:20230817T091500
DTSTAMP:20260421T153126
CREATED:20230310T181516Z
LAST-MODIFIED:20230626T194218Z
UID:10007805-1692258300-1692263700@bj.org
SUMMARY:Shaharit (Rosh Hodesh—In Person and Online)
DESCRIPTION:
URL:https://bj.org/event/shaharit-rosh-hodesh-in-person-and-online/2023-08-17/
LOCATION:Rabbi Rachel Cowan Chapel\, 270 West 89th Street\, New York\, NY\, 10024\, United States
CATEGORIES:Services,Featured in Next Service
ATTACH;FMTTYPE=image/jpeg:https://bj.org/wp-content/uploads/2019/10/1905-0278.jpg
ORGANIZER;CN="B'nai Jeshurun":MAILTO:info@bj.org
END:VEVENT
BEGIN:VEVENT
DTSTART;TZID=America/New_York:20230814T080000
DTEND;TZID=America/New_York:20230814T090000
DTSTAMP:20260421T153126
CREATED:20230307T214036Z
LAST-MODIFIED:20230907T175449Z
UID:10007759-1692000000-1692003600@bj.org
SUMMARY:Shaharit (In Person and Online)
DESCRIPTION:
URL:https://bj.org/event/shaharit-in-person-and-online/2023-08-14/
LOCATION:Rabbi Rachel Cowan Chapel\, 270 West 89th Street\, New York\, NY\, 10024\, United States
CATEGORIES:Services,Featured in Next Service
ATTACH;FMTTYPE=image/jpeg:https://bj.org/wp-content/uploads/2019/10/1905-0272.jpg
ORGANIZER;CN="B'nai Jeshurun":MAILTO:info@bj.org
END:VEVENT
BEGIN:VEVENT
DTSTART;TZID=America/New_York:20230812T110000
DTEND;TZID=America/New_York:20230812T114500
DTSTAMP:20260421T153126
CREATED:20230621T182739Z
LAST-MODIFIED:20230821T161913Z
UID:10007676-1691838000-1691840700@bj.org
SUMMARY:Early Childhood Families: Birth-Age 7 Shabbat Services
DESCRIPTION:
URL:https://bj.org/event/early-childhood-families-birth-age-7-shabbat-services-2-2/2023-08-12/
LOCATION:Rabbi Rachel Cowan Chapel\, 270 West 89th Street\, New York\, NY\, 10024\, United States
CATEGORIES:Services
ATTACH;FMTTYPE=image/jpeg:https://bj.org/wp-content/uploads/2021/04/IMG_9480-scaled.jpg
ORGANIZER;CN="B'nai Jeshurun":MAILTO:info@bj.org
END:VEVENT
BEGIN:VEVENT
DTSTART;TZID=America/New_York:20230810T080000
DTEND;TZID=America/New_York:20230810T090000
DTSTAMP:20260421T153126
CREATED:20230307T214036Z
LAST-MODIFIED:20230907T175449Z
UID:10007758-1691654400-1691658000@bj.org
SUMMARY:Shaharit (In Person and Online)
DESCRIPTION:
URL:https://bj.org/event/shaharit-in-person-and-online/2023-08-10/
LOCATION:Rabbi Rachel Cowan Chapel\, 270 West 89th Street\, New York\, NY\, 10024\, United States
CATEGORIES:Services,Featured in Next Service
ATTACH;FMTTYPE=image/jpeg:https://bj.org/wp-content/uploads/2019/10/1905-0272.jpg
ORGANIZER;CN="B'nai Jeshurun":MAILTO:info@bj.org
END:VEVENT
BEGIN:VEVENT
DTSTART;TZID=America/New_York:20230809T183000
DTEND;TZID=America/New_York:20230809T200000
DTSTAMP:20260421T153126
CREATED:20230804T192252Z
LAST-MODIFIED:20230804T192252Z
UID:10007886-1691605800-1691611200@bj.org
SUMMARY:Make Welcome Kits for New Safe Haven Shelter
DESCRIPTION:
URL:https://bj.org/event/make-welcome-kits-for-new-safe-haven-shelter/
LOCATION:Rabbi Rachel Cowan Chapel\, 270 West 89th Street\, New York\, NY\, 10024\, United States
CATEGORIES:Events,Featured on Home Page
ATTACH;FMTTYPE=image/png:https://bj.org/wp-content/uploads/2023/08/Copy-of-opening-the-gates-event.png
ORGANIZER;CN="B'nai Jeshurun":MAILTO:info@bj.org
END:VEVENT
BEGIN:VEVENT
DTSTART;TZID=America/New_York:20230807T080000
DTEND;TZID=America/New_York:20230807T090000
DTSTAMP:20260421T153126
CREATED:20230307T214036Z
LAST-MODIFIED:20230907T175449Z
UID:10007757-1691395200-1691398800@bj.org
SUMMARY:Shaharit (In Person and Online)
DESCRIPTION:
URL:https://bj.org/event/shaharit-in-person-and-online/2023-08-07/
LOCATION:Rabbi Rachel Cowan Chapel\, 270 West 89th Street\, New York\, NY\, 10024\, United States
CATEGORIES:Services,Featured in Next Service
ATTACH;FMTTYPE=image/jpeg:https://bj.org/wp-content/uploads/2019/10/1905-0272.jpg
ORGANIZER;CN="B'nai Jeshurun":MAILTO:info@bj.org
END:VEVENT
BEGIN:VEVENT
DTSTART;TZID=America/New_York:20230805T110000
DTEND;TZID=America/New_York:20230805T114500
DTSTAMP:20260421T153126
CREATED:20230621T182739Z
LAST-MODIFIED:20230821T161913Z
UID:10007675-1691233200-1691235900@bj.org
SUMMARY:Early Childhood Families: Birth-Age 7 Shabbat Services
DESCRIPTION:
URL:https://bj.org/event/early-childhood-families-birth-age-7-shabbat-services-2-2/2023-08-05/
LOCATION:Rabbi Rachel Cowan Chapel\, 270 West 89th Street\, New York\, NY\, 10024\, United States
CATEGORIES:Services
ATTACH;FMTTYPE=image/jpeg:https://bj.org/wp-content/uploads/2021/04/IMG_9480-scaled.jpg
ORGANIZER;CN="B'nai Jeshurun":MAILTO:info@bj.org
END:VEVENT
BEGIN:VEVENT
DTSTART;TZID=America/New_York:20230803T080000
DTEND;TZID=America/New_York:20230803T090000
DTSTAMP:20260421T153126
CREATED:20230307T214036Z
LAST-MODIFIED:20230907T175449Z
UID:10007756-1691049600-1691053200@bj.org
SUMMARY:Shaharit (In Person and Online)
DESCRIPTION:
URL:https://bj.org/event/shaharit-in-person-and-online/2023-08-03/
LOCATION:Rabbi Rachel Cowan Chapel\, 270 West 89th Street\, New York\, NY\, 10024\, United States
CATEGORIES:Services,Featured in Next Service
ATTACH;FMTTYPE=image/jpeg:https://bj.org/wp-content/uploads/2019/10/1905-0272.jpg
ORGANIZER;CN="B'nai Jeshurun":MAILTO:info@bj.org
END:VEVENT
BEGIN:VEVENT
DTSTART;TZID=America/New_York:20230731T080000
DTEND;TZID=America/New_York:20230731T090000
DTSTAMP:20260421T153126
CREATED:20230307T214036Z
LAST-MODIFIED:20230907T175449Z
UID:10007755-1690790400-1690794000@bj.org
SUMMARY:Shaharit (In Person and Online)
DESCRIPTION:
URL:https://bj.org/event/shaharit-in-person-and-online/2023-07-31/
LOCATION:Rabbi Rachel Cowan Chapel\, 270 West 89th Street\, New York\, NY\, 10024\, United States
CATEGORIES:Services,Featured in Next Service
ATTACH;FMTTYPE=image/jpeg:https://bj.org/wp-content/uploads/2019/10/1905-0272.jpg
ORGANIZER;CN="B'nai Jeshurun":MAILTO:info@bj.org
END:VEVENT
END:VCALENDAR