BEGIN:VCALENDAR
VERSION:2.0
PRODID:-//B&#039;nai Jeshurun - ECPv6.15.20//NONSGML v1.0//EN
CALSCALE:GREGORIAN
METHOD:PUBLISH
X-ORIGINAL-URL:https://bj.org
X-WR-CALDESC:Events for B&#039;nai Jeshurun
REFRESH-INTERVAL;VALUE=DURATION:PT1H
X-Robots-Tag:noindex
X-PUBLISHED-TTL:PT1H
BEGIN:VTIMEZONE
TZID:America/New_York
BEGIN:DAYLIGHT
TZOFFSETFROM:-0500
TZOFFSETTO:-0400
TZNAME:EDT
DTSTART:20220313T070000
END:DAYLIGHT
BEGIN:STANDARD
TZOFFSETFROM:-0400
TZOFFSETTO:-0500
TZNAME:EST
DTSTART:20221106T060000
END:STANDARD
BEGIN:DAYLIGHT
TZOFFSETFROM:-0500
TZOFFSETTO:-0400
TZNAME:EDT
DTSTART:20230312T070000
END:DAYLIGHT
BEGIN:STANDARD
TZOFFSETFROM:-0400
TZOFFSETTO:-0500
TZNAME:EST
DTSTART:20231105T060000
END:STANDARD
BEGIN:DAYLIGHT
TZOFFSETFROM:-0500
TZOFFSETTO:-0400
TZNAME:EDT
DTSTART:20240310T070000
END:DAYLIGHT
BEGIN:STANDARD
TZOFFSETFROM:-0400
TZOFFSETTO:-0500
TZNAME:EST
DTSTART:20241103T060000
END:STANDARD
BEGIN:DAYLIGHT
TZOFFSETFROM:-0500
TZOFFSETTO:-0400
TZNAME:EDT
DTSTART:20250309T070000
END:DAYLIGHT
BEGIN:STANDARD
TZOFFSETFROM:-0400
TZOFFSETTO:-0500
TZNAME:EST
DTSTART:20251102T060000
END:STANDARD
END:VTIMEZONE
BEGIN:VEVENT
DTSTART;TZID=America/New_York:20240120T123000
DTEND;TZID=America/New_York:20240120T131500
DTSTAMP:20260421T104924
CREATED:20240119T200919Z
LAST-MODIFIED:20240119T200932Z
UID:10009730-1705753800-1705756500@bj.org
SUMMARY:POSTPONED: It Takes a Village
DESCRIPTION:
URL:https://bj.org/event/it-takes-a-village-2/
LOCATION:Rabbi Rachel Cowan Chapel\, 270 West 89th Street\, New York\, NY\, 10024\, United States
CATEGORIES:Events,Featured on Home Page
ATTACH;FMTTYPE=image/jpeg:https://bj.org/wp-content/uploads/2024/01/Baby-parent-class_iStock-1629562557.jpg
ORGANIZER;CN="B'nai Jeshurun":MAILTO:info@bj.org
END:VEVENT
BEGIN:VEVENT
DTSTART;TZID=America/New_York:20240120T110000
DTEND;TZID=America/New_York:20240120T120000
DTSTAMP:20260421T104924
CREATED:20240104T042353Z
LAST-MODIFIED:20240401T170754Z
UID:10007927-1705748400-1705752000@bj.org
SUMMARY:Early Childhood Families: Birth-Pre-K Shabbat Services
DESCRIPTION:
URL:https://bj.org/event/early-childhood-families-birth-pre-k-shabbat-services-2-3/2024-01-20/
LOCATION:Rabbi Rachel Cowan Chapel\, 270 West 89th Street\, New York\, NY\, 10024\, United States
CATEGORIES:Services
ATTACH;FMTTYPE=image/jpeg:https://bj.org/wp-content/uploads/2021/04/IMG_9480-scaled.jpg
ORGANIZER;CN="B'nai Jeshurun":MAILTO:info@bj.org
END:VEVENT
BEGIN:VEVENT
DTSTART;TZID=America/New_York:20240118T080000
DTEND;TZID=America/New_York:20240118T090000
DTSTAMP:20260421T104924
CREATED:20231221T023526Z
LAST-MODIFIED:20250911T160728Z
UID:10009474-1705564800-1705568400@bj.org
SUMMARY:Shaharit (In Person and Online)
DESCRIPTION:
URL:https://bj.org/event/shaharit-in-person-and-online-4-2/2024-01-18/
LOCATION:Rabbi Rachel Cowan Chapel\, 270 West 89th Street\, New York\, NY\, 10024\, United States
CATEGORIES:Services,Featured in Next Service
ATTACH;FMTTYPE=image/jpeg:https://bj.org/wp-content/uploads/2019/10/1905-0272.jpg
ORGANIZER;CN="B'nai Jeshurun":MAILTO:info@bj.org
END:VEVENT
BEGIN:VEVENT
DTSTART;TZID=America/New_York:20240115T093000
DTEND;TZID=America/New_York:20240115T103000
DTSTAMP:20260421T104924
CREATED:20230926T182314Z
LAST-MODIFIED:20251219T195928Z
UID:10009536-1705311000-1705314600@bj.org
SUMMARY:Shaharit (National Holiday—In Person and Online)
DESCRIPTION:
URL:https://bj.org/event/shaharit-national-holiday-in-person-online/2024-01-15/
LOCATION:Rabbi Rachel Cowan Chapel\, 270 West 89th Street\, New York\, NY\, 10024\, United States
CATEGORIES:Services,Featured in Next Service
ATTACH;FMTTYPE=image/jpeg:https://bj.org/wp-content/uploads/2022/04/1905-0281-1.jpg
ORGANIZER;CN="B'nai Jeshurun":MAILTO:info@bj.org
END:VEVENT
BEGIN:VEVENT
DTSTART;TZID=America/New_York:20240113T110000
DTEND;TZID=America/New_York:20240113T120000
DTSTAMP:20260421T104924
CREATED:20240104T042353Z
LAST-MODIFIED:20240401T170754Z
UID:10007925-1705143600-1705147200@bj.org
SUMMARY:Early Childhood Families: Birth-Pre-K Shabbat Services
DESCRIPTION:
URL:https://bj.org/event/early-childhood-families-birth-pre-k-shabbat-services-2-3/2024-01-13/
LOCATION:Rabbi Rachel Cowan Chapel\, 270 West 89th Street\, New York\, NY\, 10024\, United States
CATEGORIES:Services
ATTACH;FMTTYPE=image/jpeg:https://bj.org/wp-content/uploads/2021/04/IMG_9480-scaled.jpg
ORGANIZER;CN="B'nai Jeshurun":MAILTO:info@bj.org
END:VEVENT
BEGIN:VEVENT
DTSTART;TZID=America/New_York:20240113T084500
DTEND;TZID=America/New_York:20240113T092500
DTSTAMP:20260421T104924
CREATED:20230822T153928Z
LAST-MODIFIED:20260313T190320Z
UID:10009740-1705135500-1705137900@bj.org
SUMMARY:Hakhanah LaTefillah
DESCRIPTION:
URL:https://bj.org/event/hakhanah-latefillah-4/2024-01-13/
LOCATION:Rabbi Rachel Cowan Chapel\, 270 West 89th Street\, New York\, NY\, 10024\, United States
CATEGORIES:Events,Services
ATTACH;FMTTYPE=image/jpeg:https://bj.org/wp-content/uploads/2020/11/1905-0258-scaled.jpg
ORGANIZER;CN="B'nai Jeshurun":MAILTO:info@bj.org
END:VEVENT
BEGIN:VEVENT
DTSTART;TZID=America/New_York:20240111T074500
DTEND;TZID=America/New_York:20240111T091500
DTSTAMP:20260421T104924
CREATED:20230926T181630Z
LAST-MODIFIED:20260330T154446Z
UID:10009532-1704959100-1704964500@bj.org
SUMMARY:Shaharit (Rosh Hodesh)
DESCRIPTION:
URL:https://bj.org/event/shaharit-rosh-hodesh-in-person-and-online-2/2024-01-11/
LOCATION:Rabbi Rachel Cowan Chapel\, 270 West 89th Street\, New York\, NY\, 10024\, United States
CATEGORIES:Services,Featured in Next Service
ATTACH;FMTTYPE=image/jpeg:https://bj.org/wp-content/uploads/2019/10/1905-0278.jpg
ORGANIZER;CN="B'nai Jeshurun":MAILTO:info@bj.org
END:VEVENT
BEGIN:VEVENT
DTSTART;TZID=America/New_York:20240108T080000
DTEND;TZID=America/New_York:20240108T090000
DTSTAMP:20260421T104924
CREATED:20231221T023526Z
LAST-MODIFIED:20250911T160728Z
UID:10009473-1704700800-1704704400@bj.org
SUMMARY:Shaharit (In Person and Online)
DESCRIPTION:
URL:https://bj.org/event/shaharit-in-person-and-online-4-2/2024-01-08/
LOCATION:Rabbi Rachel Cowan Chapel\, 270 West 89th Street\, New York\, NY\, 10024\, United States
CATEGORIES:Services,Featured in Next Service
ATTACH;FMTTYPE=image/jpeg:https://bj.org/wp-content/uploads/2019/10/1905-0272.jpg
ORGANIZER;CN="B'nai Jeshurun":MAILTO:info@bj.org
END:VEVENT
BEGIN:VEVENT
DTSTART;TZID=America/New_York:20240106T110000
DTEND;TZID=America/New_York:20240106T120000
DTSTAMP:20260421T104924
CREATED:20230821T162145Z
LAST-MODIFIED:20240823T141251Z
UID:10009672-1704538800-1704542400@bj.org
SUMMARY:Early Childhood Shabbat Service (Birth to Age 7)
DESCRIPTION:
URL:https://bj.org/event/early-childhood-families-birth-age-7-shabbat-services-3/2024-01-06/
LOCATION:Rabbi Rachel Cowan Chapel\, 270 West 89th Street\, New York\, NY\, 10024\, United States
CATEGORIES:Services
ATTACH;FMTTYPE=image/jpeg:https://bj.org/wp-content/uploads/2021/04/IMG_9480-scaled.jpg
ORGANIZER;CN="B'nai Jeshurun":MAILTO:info@bj.org
END:VEVENT
BEGIN:VEVENT
DTSTART;TZID=America/New_York:20240105T181500
DTEND;TZID=America/New_York:20240105T210000
DTSTAMP:20260421T104924
CREATED:20230818T183338Z
LAST-MODIFIED:20240105T173034Z
UID:10007900-1704478500-1704488400@bj.org
SUMMARY:Hitoreri
DESCRIPTION:
URL:https://bj.org/event/hitoreri-2/2024-01-05/
LOCATION:Rabbi Rachel Cowan Chapel\, 270 West 89th Street\, New York\, NY\, 10024\, United States
CATEGORIES:Services
ATTACH;FMTTYPE=image/jpeg:https://bj.org/wp-content/uploads/2023/08/IMG_2697-scaled.jpg
ORGANIZER;CN="B'nai Jeshurun":MAILTO:info@bj.org
END:VEVENT
BEGIN:VEVENT
DTSTART;TZID=America/New_York:20240104T080000
DTEND;TZID=America/New_York:20240104T090000
DTSTAMP:20260421T104924
CREATED:20231221T023526Z
LAST-MODIFIED:20250911T160728Z
UID:10009472-1704355200-1704358800@bj.org
SUMMARY:Shaharit (In Person and Online)
DESCRIPTION:
URL:https://bj.org/event/shaharit-in-person-and-online-4-2/2024-01-04/
LOCATION:Rabbi Rachel Cowan Chapel\, 270 West 89th Street\, New York\, NY\, 10024\, United States
CATEGORIES:Services,Featured in Next Service
ATTACH;FMTTYPE=image/jpeg:https://bj.org/wp-content/uploads/2019/10/1905-0272.jpg
ORGANIZER;CN="B'nai Jeshurun":MAILTO:info@bj.org
END:VEVENT
BEGIN:VEVENT
DTSTART;TZID=America/New_York:20240101T093000
DTEND;TZID=America/New_York:20240101T103000
DTSTAMP:20260421T104924
CREATED:20230926T182314Z
LAST-MODIFIED:20251219T195928Z
UID:10009531-1704101400-1704105000@bj.org
SUMMARY:Shaharit (National Holiday—In Person and Online)
DESCRIPTION:
URL:https://bj.org/event/shaharit-national-holiday-in-person-online/2024-01-01/
LOCATION:Rabbi Rachel Cowan Chapel\, 270 West 89th Street\, New York\, NY\, 10024\, United States
CATEGORIES:Services,Featured in Next Service
ATTACH;FMTTYPE=image/jpeg:https://bj.org/wp-content/uploads/2022/04/1905-0281-1.jpg
ORGANIZER;CN="B'nai Jeshurun":MAILTO:info@bj.org
END:VEVENT
BEGIN:VEVENT
DTSTART;TZID=America/New_York:20231230T110000
DTEND;TZID=America/New_York:20231230T120000
DTSTAMP:20260421T104924
CREATED:20230821T162145Z
LAST-MODIFIED:20240823T141251Z
UID:10007912-1703934000-1703937600@bj.org
SUMMARY:Early Childhood Shabbat Service (Birth to Age 7)
DESCRIPTION:
URL:https://bj.org/event/early-childhood-families-birth-age-7-shabbat-services-3/2023-12-30/
LOCATION:Rabbi Rachel Cowan Chapel\, 270 West 89th Street\, New York\, NY\, 10024\, United States
CATEGORIES:Services
ATTACH;FMTTYPE=image/jpeg:https://bj.org/wp-content/uploads/2021/04/IMG_9480-scaled.jpg
ORGANIZER;CN="B'nai Jeshurun":MAILTO:info@bj.org
END:VEVENT
BEGIN:VEVENT
DTSTART;TZID=America/New_York:20231228T080000
DTEND;TZID=America/New_York:20231228T090000
DTSTAMP:20260421T104924
CREATED:20231221T023526Z
LAST-MODIFIED:20250911T160728Z
UID:10008453-1703750400-1703754000@bj.org
SUMMARY:Shaharit (In Person and Online)
DESCRIPTION:
URL:https://bj.org/event/shaharit-in-person-and-online-4-2/2023-12-28/
LOCATION:Rabbi Rachel Cowan Chapel\, 270 West 89th Street\, New York\, NY\, 10024\, United States
CATEGORIES:Services,Featured in Next Service
ATTACH;FMTTYPE=image/jpeg:https://bj.org/wp-content/uploads/2019/10/1905-0272.jpg
ORGANIZER;CN="B'nai Jeshurun":MAILTO:info@bj.org
END:VEVENT
BEGIN:VEVENT
DTSTART;TZID=America/New_York:20231225T093000
DTEND;TZID=America/New_York:20231225T103000
DTSTAMP:20260421T104924
CREATED:20230926T182314Z
LAST-MODIFIED:20251219T195928Z
UID:10008768-1703496600-1703500200@bj.org
SUMMARY:Shaharit (National Holiday—In Person and Online)
DESCRIPTION:
URL:https://bj.org/event/shaharit-national-holiday-in-person-online/2023-12-25/
LOCATION:Rabbi Rachel Cowan Chapel\, 270 West 89th Street\, New York\, NY\, 10024\, United States
CATEGORIES:Services,Featured in Next Service
ATTACH;FMTTYPE=image/jpeg:https://bj.org/wp-content/uploads/2022/04/1905-0281-1.jpg
ORGANIZER;CN="B'nai Jeshurun":MAILTO:info@bj.org
END:VEVENT
BEGIN:VEVENT
DTSTART;TZID=America/New_York:20231223T110000
DTEND;TZID=America/New_York:20231223T120000
DTSTAMP:20260421T104924
CREATED:20230821T162145Z
LAST-MODIFIED:20240823T141251Z
UID:10007911-1703329200-1703332800@bj.org
SUMMARY:Early Childhood Shabbat Service (Birth to Age 7)
DESCRIPTION:
URL:https://bj.org/event/early-childhood-families-birth-age-7-shabbat-services-3/2023-12-23/
LOCATION:Rabbi Rachel Cowan Chapel\, 270 West 89th Street\, New York\, NY\, 10024\, United States
CATEGORIES:Services
ATTACH;FMTTYPE=image/jpeg:https://bj.org/wp-content/uploads/2021/04/IMG_9480-scaled.jpg
ORGANIZER;CN="B'nai Jeshurun":MAILTO:info@bj.org
END:VEVENT
BEGIN:VEVENT
DTSTART;TZID=America/New_York:20231223T084500
DTEND;TZID=America/New_York:20231223T092500
DTSTAMP:20260421T104924
CREATED:20230822T153928Z
LAST-MODIFIED:20260313T190320Z
UID:10007997-1703321100-1703323500@bj.org
SUMMARY:Hakhanah LaTefillah
DESCRIPTION:
URL:https://bj.org/event/hakhanah-latefillah-4/2023-12-23/
LOCATION:Rabbi Rachel Cowan Chapel\, 270 West 89th Street\, New York\, NY\, 10024\, United States
CATEGORIES:Events,Services
ATTACH;FMTTYPE=image/jpeg:https://bj.org/wp-content/uploads/2020/11/1905-0258-scaled.jpg
ORGANIZER;CN="B'nai Jeshurun":MAILTO:info@bj.org
END:VEVENT
BEGIN:VEVENT
DTSTART;TZID=America/New_York:20231221T080000
DTEND;TZID=America/New_York:20231221T090000
DTSTAMP:20260421T104924
CREATED:20231221T023526Z
LAST-MODIFIED:20250911T160728Z
UID:10008452-1703145600-1703149200@bj.org
SUMMARY:Shaharit (In Person and Online)
DESCRIPTION:
URL:https://bj.org/event/shaharit-in-person-and-online-4-2/2023-12-21/
LOCATION:Rabbi Rachel Cowan Chapel\, 270 West 89th Street\, New York\, NY\, 10024\, United States
CATEGORIES:Services,Featured in Next Service
ATTACH;FMTTYPE=image/jpeg:https://bj.org/wp-content/uploads/2019/10/1905-0272.jpg
ORGANIZER;CN="B'nai Jeshurun":MAILTO:info@bj.org
END:VEVENT
BEGIN:VEVENT
DTSTART;TZID=America/New_York:20231218T080000
DTEND;TZID=America/New_York:20231218T090000
DTSTAMP:20260421T104924
CREATED:20230920T153019Z
LAST-MODIFIED:20231219T214025Z
UID:10008451-1702886400-1702890000@bj.org
SUMMARY:Shaharit (In Person and Online)
DESCRIPTION:
URL:https://bj.org/event/shaharit-in-person-and-online-4/2023-12-18/
LOCATION:Rabbi Rachel Cowan Chapel\, 270 West 89th Street\, New York\, NY\, 10024\, United States
CATEGORIES:Services,Featured in Next Service
ATTACH;FMTTYPE=image/jpeg:https://bj.org/wp-content/uploads/2019/10/1905-0272.jpg
ORGANIZER;CN="B'nai Jeshurun":MAILTO:info@bj.org
END:VEVENT
BEGIN:VEVENT
DTSTART;TZID=America/New_York:20231215T074500
DTEND;TZID=America/New_York:20231215T091500
DTSTAMP:20260421T104924
CREATED:20230926T183222Z
LAST-MODIFIED:20231207T153215Z
UID:10008796-1702626300-1702631700@bj.org
SUMMARY:Shaharit (Hanukkah—In Person and Online)
DESCRIPTION:
URL:https://bj.org/event/shaharit-hanukkah-in-person-and-online/2023-12-15/
LOCATION:Rabbi Rachel Cowan Chapel\, 270 West 89th Street\, New York\, NY\, 10024\, United States
CATEGORIES:Services,Featured in Next Service,Holidays,Hanukkah
ATTACH;FMTTYPE=image/jpeg:https://bj.org/wp-content/uploads/2019/10/1905-0272.jpg
ORGANIZER;CN="B'nai Jeshurun":MAILTO:info@bj.org
END:VEVENT
BEGIN:VEVENT
DTSTART;TZID=America/New_York:20231214T074500
DTEND;TZID=America/New_York:20231214T091500
DTSTAMP:20260421T104924
CREATED:20230926T183222Z
LAST-MODIFIED:20231207T153215Z
UID:10008795-1702539900-1702545300@bj.org
SUMMARY:Shaharit (Hanukkah—In Person and Online)
DESCRIPTION:
URL:https://bj.org/event/shaharit-hanukkah-in-person-and-online/2023-12-14/
LOCATION:Rabbi Rachel Cowan Chapel\, 270 West 89th Street\, New York\, NY\, 10024\, United States
CATEGORIES:Services,Featured in Next Service,Holidays,Hanukkah
ATTACH;FMTTYPE=image/jpeg:https://bj.org/wp-content/uploads/2019/10/1905-0272.jpg
ORGANIZER;CN="B'nai Jeshurun":MAILTO:info@bj.org
END:VEVENT
BEGIN:VEVENT
DTSTART;TZID=America/New_York:20231213T074500
DTEND;TZID=America/New_York:20231213T091500
DTSTAMP:20260421T104924
CREATED:20230926T183222Z
LAST-MODIFIED:20231207T153215Z
UID:10008794-1702453500-1702458900@bj.org
SUMMARY:Shaharit (Hanukkah—In Person and Online)
DESCRIPTION:
URL:https://bj.org/event/shaharit-hanukkah-in-person-and-online/2023-12-13/
LOCATION:Rabbi Rachel Cowan Chapel\, 270 West 89th Street\, New York\, NY\, 10024\, United States
CATEGORIES:Services,Featured in Next Service,Holidays,Hanukkah
ATTACH;FMTTYPE=image/jpeg:https://bj.org/wp-content/uploads/2019/10/1905-0272.jpg
ORGANIZER;CN="B'nai Jeshurun":MAILTO:info@bj.org
END:VEVENT
BEGIN:VEVENT
DTSTART;TZID=America/New_York:20231212T074500
DTEND;TZID=America/New_York:20231212T091500
DTSTAMP:20260421T104924
CREATED:20230926T183222Z
LAST-MODIFIED:20231207T153215Z
UID:10008793-1702367100-1702372500@bj.org
SUMMARY:Shaharit (Hanukkah—In Person and Online)
DESCRIPTION:
URL:https://bj.org/event/shaharit-hanukkah-in-person-and-online/2023-12-12/
LOCATION:Rabbi Rachel Cowan Chapel\, 270 West 89th Street\, New York\, NY\, 10024\, United States
CATEGORIES:Services,Featured in Next Service,Holidays,Hanukkah
ATTACH;FMTTYPE=image/jpeg:https://bj.org/wp-content/uploads/2019/10/1905-0272.jpg
ORGANIZER;CN="B'nai Jeshurun":MAILTO:info@bj.org
END:VEVENT
BEGIN:VEVENT
DTSTART;TZID=America/New_York:20231211T074500
DTEND;TZID=America/New_York:20231211T091500
DTSTAMP:20260421T104924
CREATED:20230926T183222Z
LAST-MODIFIED:20231207T153215Z
UID:10008792-1702280700-1702286100@bj.org
SUMMARY:Shaharit (Hanukkah—In Person and Online)
DESCRIPTION:
URL:https://bj.org/event/shaharit-hanukkah-in-person-and-online/2023-12-11/
LOCATION:Rabbi Rachel Cowan Chapel\, 270 West 89th Street\, New York\, NY\, 10024\, United States
CATEGORIES:Services,Featured in Next Service,Holidays,Hanukkah
ATTACH;FMTTYPE=image/jpeg:https://bj.org/wp-content/uploads/2019/10/1905-0272.jpg
ORGANIZER;CN="B'nai Jeshurun":MAILTO:info@bj.org
END:VEVENT
BEGIN:VEVENT
DTSTART;TZID=America/New_York:20231210T091500
DTEND;TZID=America/New_York:20231210T104500
DTSTAMP:20260421T104924
CREATED:20230926T183222Z
LAST-MODIFIED:20231207T153215Z
UID:10008791-1702199700-1702205100@bj.org
SUMMARY:Shaharit (Hanukkah—In Person and Online)
DESCRIPTION:
URL:https://bj.org/event/shaharit-hanukkah-in-person-and-online/2023-12-10/
LOCATION:Rabbi Rachel Cowan Chapel\, 270 West 89th Street\, New York\, NY\, 10024\, United States
CATEGORIES:Services,Featured in Next Service,Holidays,Hanukkah
ATTACH;FMTTYPE=image/jpeg:https://bj.org/wp-content/uploads/2019/10/1905-0272.jpg
ORGANIZER;CN="B'nai Jeshurun":MAILTO:info@bj.org
END:VEVENT
BEGIN:VEVENT
DTSTART;TZID=America/New_York:20231209T110000
DTEND;TZID=America/New_York:20231209T120000
DTSTAMP:20260421T104924
CREATED:20230821T171158Z
LAST-MODIFIED:20240103T154921Z
UID:10007923-1702119600-1702123200@bj.org
SUMMARY:Early Childhood Families: Birth-Pre-K Shabbat Services
DESCRIPTION:
URL:https://bj.org/event/early-childhood-families-birth-pre-k-shabbat-services-2/2023-12-09/
LOCATION:Rabbi Rachel Cowan Chapel\, 270 West 89th Street\, New York\, NY\, 10024\, United States
CATEGORIES:Services
ATTACH;FMTTYPE=image/jpeg:https://bj.org/wp-content/uploads/2021/04/IMG_9480-scaled.jpg
ORGANIZER;CN="B'nai Jeshurun":MAILTO:info@bj.org
END:VEVENT
BEGIN:VEVENT
DTSTART;TZID=America/New_York:20231209T084500
DTEND;TZID=America/New_York:20231209T092500
DTSTAMP:20260421T104924
CREATED:20230822T153928Z
LAST-MODIFIED:20260313T190320Z
UID:10007996-1702111500-1702113900@bj.org
SUMMARY:Hakhanah LaTefillah
DESCRIPTION:
URL:https://bj.org/event/hakhanah-latefillah-4/2023-12-09/
LOCATION:Rabbi Rachel Cowan Chapel\, 270 West 89th Street\, New York\, NY\, 10024\, United States
CATEGORIES:Events,Services
ATTACH;FMTTYPE=image/jpeg:https://bj.org/wp-content/uploads/2020/11/1905-0258-scaled.jpg
ORGANIZER;CN="B'nai Jeshurun":MAILTO:info@bj.org
END:VEVENT
BEGIN:VEVENT
DTSTART;TZID=America/New_York:20231208T074500
DTEND;TZID=America/New_York:20231208T091500
DTSTAMP:20260421T104924
CREATED:20230926T183222Z
LAST-MODIFIED:20231207T153215Z
UID:10008790-1702021500-1702026900@bj.org
SUMMARY:Shaharit (Hanukkah—In Person and Online)
DESCRIPTION:
URL:https://bj.org/event/shaharit-hanukkah-in-person-and-online/2023-12-08/
LOCATION:Rabbi Rachel Cowan Chapel\, 270 West 89th Street\, New York\, NY\, 10024\, United States
CATEGORIES:Services,Featured in Next Service,Holidays,Hanukkah
ATTACH;FMTTYPE=image/jpeg:https://bj.org/wp-content/uploads/2019/10/1905-0272.jpg
ORGANIZER;CN="B'nai Jeshurun":MAILTO:info@bj.org
END:VEVENT
BEGIN:VEVENT
DTSTART;TZID=America/New_York:20231207T080000
DTEND;TZID=America/New_York:20231207T090000
DTSTAMP:20260421T104924
CREATED:20230920T153019Z
LAST-MODIFIED:20231219T214025Z
UID:10008450-1701936000-1701939600@bj.org
SUMMARY:Shaharit (In Person and Online)
DESCRIPTION:
URL:https://bj.org/event/shaharit-in-person-and-online-4/2023-12-07/
LOCATION:Rabbi Rachel Cowan Chapel\, 270 West 89th Street\, New York\, NY\, 10024\, United States
CATEGORIES:Services,Featured in Next Service
ATTACH;FMTTYPE=image/jpeg:https://bj.org/wp-content/uploads/2019/10/1905-0272.jpg
ORGANIZER;CN="B'nai Jeshurun":MAILTO:info@bj.org
END:VEVENT
BEGIN:VEVENT
DTSTART;TZID=America/New_York:20231204T080000
DTEND;TZID=America/New_York:20231204T090000
DTSTAMP:20260421T104924
CREATED:20230920T153019Z
LAST-MODIFIED:20231219T214025Z
UID:10008449-1701676800-1701680400@bj.org
SUMMARY:Shaharit (In Person and Online)
DESCRIPTION:
URL:https://bj.org/event/shaharit-in-person-and-online-4/2023-12-04/
LOCATION:Rabbi Rachel Cowan Chapel\, 270 West 89th Street\, New York\, NY\, 10024\, United States
CATEGORIES:Services,Featured in Next Service
ATTACH;FMTTYPE=image/jpeg:https://bj.org/wp-content/uploads/2019/10/1905-0272.jpg
ORGANIZER;CN="B'nai Jeshurun":MAILTO:info@bj.org
END:VEVENT
END:VCALENDAR