BEGIN:VCALENDAR
VERSION:2.0
PRODID:-//B&#039;nai Jeshurun - ECPv6.15.20//NONSGML v1.0//EN
CALSCALE:GREGORIAN
METHOD:PUBLISH
X-WR-CALNAME:B&#039;nai Jeshurun
X-ORIGINAL-URL:https://bj.org
X-WR-CALDESC:Events for B&#039;nai Jeshurun
REFRESH-INTERVAL;VALUE=DURATION:PT1H
X-Robots-Tag:noindex
X-PUBLISHED-TTL:PT1H
BEGIN:VTIMEZONE
TZID:America/New_York
BEGIN:DAYLIGHT
TZOFFSETFROM:-0500
TZOFFSETTO:-0400
TZNAME:EDT
DTSTART:20230312T070000
END:DAYLIGHT
BEGIN:STANDARD
TZOFFSETFROM:-0400
TZOFFSETTO:-0500
TZNAME:EST
DTSTART:20231105T060000
END:STANDARD
BEGIN:DAYLIGHT
TZOFFSETFROM:-0500
TZOFFSETTO:-0400
TZNAME:EDT
DTSTART:20240310T070000
END:DAYLIGHT
BEGIN:STANDARD
TZOFFSETFROM:-0400
TZOFFSETTO:-0500
TZNAME:EST
DTSTART:20241103T060000
END:STANDARD
BEGIN:DAYLIGHT
TZOFFSETFROM:-0500
TZOFFSETTO:-0400
TZNAME:EDT
DTSTART:20250309T070000
END:DAYLIGHT
BEGIN:STANDARD
TZOFFSETFROM:-0400
TZOFFSETTO:-0500
TZNAME:EST
DTSTART:20251102T060000
END:STANDARD
END:VTIMEZONE
BEGIN:VEVENT
DTSTART;TZID=America/New_York:20240229T080000
DTEND;TZID=America/New_York:20240229T090000
DTSTAMP:20260421T091520
CREATED:20231221T023526Z
LAST-MODIFIED:20250911T160728Z
UID:10009485-1709193600-1709197200@bj.org
SUMMARY:Shaharit (In Person and Online)
DESCRIPTION:
URL:https://bj.org/event/shaharit-in-person-and-online-4-2/2024-02-29/
LOCATION:Rabbi Rachel Cowan Chapel\, 270 West 89th Street\, New York\, NY\, 10024\, United States
CATEGORIES:Services,Featured in Next Service
ATTACH;FMTTYPE=image/jpeg:https://bj.org/wp-content/uploads/2019/10/1905-0272.jpg
ORGANIZER;CN="B'nai Jeshurun":MAILTO:info@bj.org
END:VEVENT
BEGIN:VEVENT
DTSTART;TZID=America/New_York:20240226T080000
DTEND;TZID=America/New_York:20240226T090000
DTSTAMP:20260421T091520
CREATED:20231221T023526Z
LAST-MODIFIED:20250911T160728Z
UID:10009484-1708934400-1708938000@bj.org
SUMMARY:Shaharit (In Person and Online)
DESCRIPTION:
URL:https://bj.org/event/shaharit-in-person-and-online-4-2/2024-02-26/
LOCATION:Rabbi Rachel Cowan Chapel\, 270 West 89th Street\, New York\, NY\, 10024\, United States
CATEGORIES:Services,Featured in Next Service
ATTACH;FMTTYPE=image/jpeg:https://bj.org/wp-content/uploads/2019/10/1905-0272.jpg
ORGANIZER;CN="B'nai Jeshurun":MAILTO:info@bj.org
END:VEVENT
BEGIN:VEVENT
DTSTART;TZID=America/New_York:20240224T110000
DTEND;TZID=America/New_York:20240224T120000
DTSTAMP:20260421T091520
CREATED:20240104T042353Z
LAST-MODIFIED:20240401T170754Z
UID:10007932-1708772400-1708776000@bj.org
SUMMARY:Early Childhood Families: Birth-Pre-K Shabbat Services
DESCRIPTION:
URL:https://bj.org/event/early-childhood-families-birth-pre-k-shabbat-services-2-3/2024-02-24/
LOCATION:Rabbi Rachel Cowan Chapel\, 270 West 89th Street\, New York\, NY\, 10024\, United States
CATEGORIES:Services
ATTACH;FMTTYPE=image/jpeg:https://bj.org/wp-content/uploads/2021/04/IMG_9480-scaled.jpg
ORGANIZER;CN="B'nai Jeshurun":MAILTO:info@bj.org
END:VEVENT
BEGIN:VEVENT
DTSTART;TZID=America/New_York:20240224T084500
DTEND;TZID=America/New_York:20240224T092500
DTSTAMP:20260421T091520
CREATED:20230822T153928Z
LAST-MODIFIED:20260313T190320Z
UID:10009743-1708764300-1708766700@bj.org
SUMMARY:Hakhanah LaTefillah
DESCRIPTION:
URL:https://bj.org/event/hakhanah-latefillah-4/2024-02-24/
LOCATION:Rabbi Rachel Cowan Chapel\, 270 West 89th Street\, New York\, NY\, 10024\, United States
CATEGORIES:Events,Services
ATTACH;FMTTYPE=image/jpeg:https://bj.org/wp-content/uploads/2020/11/1905-0258-scaled.jpg
ORGANIZER;CN="B'nai Jeshurun":MAILTO:info@bj.org
END:VEVENT
BEGIN:VEVENT
DTSTART;TZID=America/New_York:20240222T080000
DTEND;TZID=America/New_York:20240222T090000
DTSTAMP:20260421T091520
CREATED:20231221T023526Z
LAST-MODIFIED:20250911T160728Z
UID:10009483-1708588800-1708592400@bj.org
SUMMARY:Shaharit (In Person and Online)
DESCRIPTION:
URL:https://bj.org/event/shaharit-in-person-and-online-4-2/2024-02-22/
LOCATION:Rabbi Rachel Cowan Chapel\, 270 West 89th Street\, New York\, NY\, 10024\, United States
CATEGORIES:Services,Featured in Next Service
ATTACH;FMTTYPE=image/jpeg:https://bj.org/wp-content/uploads/2019/10/1905-0272.jpg
ORGANIZER;CN="B'nai Jeshurun":MAILTO:info@bj.org
END:VEVENT
BEGIN:VEVENT
DTSTART;TZID=America/New_York:20240219T093000
DTEND;TZID=America/New_York:20240219T103000
DTSTAMP:20260421T091520
CREATED:20230926T182314Z
LAST-MODIFIED:20251219T195928Z
UID:10009537-1708335000-1708338600@bj.org
SUMMARY:Shaharit (National Holiday—In Person and Online)
DESCRIPTION:
URL:https://bj.org/event/shaharit-national-holiday-in-person-online/2024-02-19/
LOCATION:Rabbi Rachel Cowan Chapel\, 270 West 89th Street\, New York\, NY\, 10024\, United States
CATEGORIES:Services,Featured in Next Service
ATTACH;FMTTYPE=image/jpeg:https://bj.org/wp-content/uploads/2022/04/1905-0281-1.jpg
ORGANIZER;CN="B'nai Jeshurun":MAILTO:info@bj.org
END:VEVENT
BEGIN:VEVENT
DTSTART;TZID=America/New_York:20240217T110000
DTEND;TZID=America/New_York:20240217T120000
DTSTAMP:20260421T091520
CREATED:20240104T042353Z
LAST-MODIFIED:20240401T170754Z
UID:10007931-1708167600-1708171200@bj.org
SUMMARY:Early Childhood Families: Birth-Pre-K Shabbat Services
DESCRIPTION:
URL:https://bj.org/event/early-childhood-families-birth-pre-k-shabbat-services-2-3/2024-02-17/
LOCATION:Rabbi Rachel Cowan Chapel\, 270 West 89th Street\, New York\, NY\, 10024\, United States
CATEGORIES:Services
ATTACH;FMTTYPE=image/jpeg:https://bj.org/wp-content/uploads/2021/04/IMG_9480-scaled.jpg
ORGANIZER;CN="B'nai Jeshurun":MAILTO:info@bj.org
END:VEVENT
BEGIN:VEVENT
DTSTART;TZID=America/New_York:20240215T080000
DTEND;TZID=America/New_York:20240215T090000
DTSTAMP:20260421T091520
CREATED:20231221T023526Z
LAST-MODIFIED:20250911T160728Z
UID:10009482-1707984000-1707987600@bj.org
SUMMARY:Shaharit (In Person and Online)
DESCRIPTION:
URL:https://bj.org/event/shaharit-in-person-and-online-4-2/2024-02-15/
LOCATION:Rabbi Rachel Cowan Chapel\, 270 West 89th Street\, New York\, NY\, 10024\, United States
CATEGORIES:Services,Featured in Next Service
ATTACH;FMTTYPE=image/jpeg:https://bj.org/wp-content/uploads/2019/10/1905-0272.jpg
ORGANIZER;CN="B'nai Jeshurun":MAILTO:info@bj.org
END:VEVENT
BEGIN:VEVENT
DTSTART;TZID=America/New_York:20240214T190000
DTEND;TZID=America/New_York:20240214T203000
DTSTAMP:20260421T091520
CREATED:20240108T182341Z
LAST-MODIFIED:20240131T161239Z
UID:10009739-1707937200-1707942600@bj.org
SUMMARY:Helen Radin Memorial Teaching for Zayin Adar - Death Duties: Loss\, Mourning\, and the Hevra Kadisha
DESCRIPTION:
URL:https://bj.org/event/helen-radin-memorial-teaching-for-zayin-adar-death-duties-loss-mourning-and-the-hevra-kadisha/
LOCATION:Rabbi Rachel Cowan Chapel\, 270 West 89th Street\, New York\, NY\, 10024\, United States
CATEGORIES:Events,Featured on Home Page
ATTACH;FMTTYPE=image/jpeg:https://bj.org/wp-content/uploads/2023/01/1905-0258.jpg
ORGANIZER;CN="B'nai Jeshurun":MAILTO:info@bj.org
END:VEVENT
BEGIN:VEVENT
DTSTART;TZID=America/New_York:20240212T080000
DTEND;TZID=America/New_York:20240212T090000
DTSTAMP:20260421T091520
CREATED:20231221T023526Z
LAST-MODIFIED:20250911T160728Z
UID:10009481-1707724800-1707728400@bj.org
SUMMARY:Shaharit (In Person and Online)
DESCRIPTION:
URL:https://bj.org/event/shaharit-in-person-and-online-4-2/2024-02-12/
LOCATION:Rabbi Rachel Cowan Chapel\, 270 West 89th Street\, New York\, NY\, 10024\, United States
CATEGORIES:Services,Featured in Next Service
ATTACH;FMTTYPE=image/jpeg:https://bj.org/wp-content/uploads/2019/10/1905-0272.jpg
ORGANIZER;CN="B'nai Jeshurun":MAILTO:info@bj.org
END:VEVENT
BEGIN:VEVENT
DTSTART;TZID=America/New_York:20240210T174500
DTEND;TZID=America/New_York:20240210T200000
DTSTAMP:20260421T091520
CREATED:20240118T213659Z
LAST-MODIFIED:20240118T213728Z
UID:10009815-1707587100-1707595200@bj.org
SUMMARY:Camp Shabbat: Kids & Parents Night Out
DESCRIPTION:
URL:https://bj.org/event/camp-shabbat-kids-parents-night-out/
LOCATION:Rabbi Rachel Cowan Chapel\, 270 West 89th Street\, New York\, NY\, 10024\, United States
CATEGORIES:Events,Featured on Home Page
ATTACH;FMTTYPE=image/png:https://bj.org/wp-content/uploads/2024/01/camp-havdalah.png
ORGANIZER;CN="B'nai Jeshurun":MAILTO:info@bj.org
END:VEVENT
BEGIN:VEVENT
DTSTART;TZID=America/New_York:20240210T110000
DTEND;TZID=America/New_York:20240210T120000
DTSTAMP:20260421T091520
CREATED:20240104T042353Z
LAST-MODIFIED:20240401T170754Z
UID:10007930-1707562800-1707566400@bj.org
SUMMARY:Early Childhood Families: Birth-Pre-K Shabbat Services
DESCRIPTION:
URL:https://bj.org/event/early-childhood-families-birth-pre-k-shabbat-services-2-3/2024-02-10/
LOCATION:Rabbi Rachel Cowan Chapel\, 270 West 89th Street\, New York\, NY\, 10024\, United States
CATEGORIES:Services
ATTACH;FMTTYPE=image/jpeg:https://bj.org/wp-content/uploads/2021/04/IMG_9480-scaled.jpg
ORGANIZER;CN="B'nai Jeshurun":MAILTO:info@bj.org
END:VEVENT
BEGIN:VEVENT
DTSTART;TZID=America/New_York:20240210T084500
DTEND;TZID=America/New_York:20240210T092500
DTSTAMP:20260421T091520
CREATED:20230822T153928Z
LAST-MODIFIED:20260313T190320Z
UID:10009742-1707554700-1707557100@bj.org
SUMMARY:Hakhanah LaTefillah
DESCRIPTION:
URL:https://bj.org/event/hakhanah-latefillah-4/2024-02-10/
LOCATION:Rabbi Rachel Cowan Chapel\, 270 West 89th Street\, New York\, NY\, 10024\, United States
CATEGORIES:Events,Services
ATTACH;FMTTYPE=image/jpeg:https://bj.org/wp-content/uploads/2020/11/1905-0258-scaled.jpg
ORGANIZER;CN="B'nai Jeshurun":MAILTO:info@bj.org
END:VEVENT
BEGIN:VEVENT
DTSTART;TZID=America/New_York:20240209T074500
DTEND;TZID=America/New_York:20240209T091500
DTSTAMP:20260421T091520
CREATED:20230926T181630Z
LAST-MODIFIED:20260330T154446Z
UID:10009533-1707464700-1707470100@bj.org
SUMMARY:Shaharit (Rosh Hodesh)
DESCRIPTION:
URL:https://bj.org/event/shaharit-rosh-hodesh-in-person-and-online-2/2024-02-09/
LOCATION:Rabbi Rachel Cowan Chapel\, 270 West 89th Street\, New York\, NY\, 10024\, United States
CATEGORIES:Services,Featured in Next Service
ATTACH;FMTTYPE=image/jpeg:https://bj.org/wp-content/uploads/2019/10/1905-0278.jpg
ORGANIZER;CN="B'nai Jeshurun":MAILTO:info@bj.org
END:VEVENT
BEGIN:VEVENT
DTSTART;TZID=America/New_York:20240208T080000
DTEND;TZID=America/New_York:20240208T090000
DTSTAMP:20260421T091520
CREATED:20231221T023526Z
LAST-MODIFIED:20250911T160728Z
UID:10009480-1707379200-1707382800@bj.org
SUMMARY:Shaharit (In Person and Online)
DESCRIPTION:
URL:https://bj.org/event/shaharit-in-person-and-online-4-2/2024-02-08/
LOCATION:Rabbi Rachel Cowan Chapel\, 270 West 89th Street\, New York\, NY\, 10024\, United States
CATEGORIES:Services,Featured in Next Service
ATTACH;FMTTYPE=image/jpeg:https://bj.org/wp-content/uploads/2019/10/1905-0272.jpg
ORGANIZER;CN="B'nai Jeshurun":MAILTO:info@bj.org
END:VEVENT
BEGIN:VEVENT
DTSTART;TZID=America/New_York:20240205T080000
DTEND;TZID=America/New_York:20240205T090000
DTSTAMP:20260421T091520
CREATED:20231221T023526Z
LAST-MODIFIED:20250911T160728Z
UID:10009479-1707120000-1707123600@bj.org
SUMMARY:Shaharit (In Person and Online)
DESCRIPTION:
URL:https://bj.org/event/shaharit-in-person-and-online-4-2/2024-02-05/
LOCATION:Rabbi Rachel Cowan Chapel\, 270 West 89th Street\, New York\, NY\, 10024\, United States
CATEGORIES:Services,Featured in Next Service
ATTACH;FMTTYPE=image/jpeg:https://bj.org/wp-content/uploads/2019/10/1905-0272.jpg
ORGANIZER;CN="B'nai Jeshurun":MAILTO:info@bj.org
END:VEVENT
BEGIN:VEVENT
DTSTART;TZID=America/New_York:20240203T110000
DTEND;TZID=America/New_York:20240203T120000
DTSTAMP:20260421T091520
CREATED:20240104T042353Z
LAST-MODIFIED:20240401T170754Z
UID:10007929-1706958000-1706961600@bj.org
SUMMARY:Early Childhood Families: Birth-Pre-K Shabbat Services
DESCRIPTION:
URL:https://bj.org/event/early-childhood-families-birth-pre-k-shabbat-services-2-3/2024-02-03/
LOCATION:Rabbi Rachel Cowan Chapel\, 270 West 89th Street\, New York\, NY\, 10024\, United States
CATEGORIES:Services
ATTACH;FMTTYPE=image/jpeg:https://bj.org/wp-content/uploads/2021/04/IMG_9480-scaled.jpg
ORGANIZER;CN="B'nai Jeshurun":MAILTO:info@bj.org
END:VEVENT
BEGIN:VEVENT
DTSTART;TZID=America/New_York:20240202T181500
DTEND;TZID=America/New_York:20240202T210000
DTSTAMP:20260421T091520
CREATED:20240125T155810Z
LAST-MODIFIED:20240125T155810Z
UID:10007901-1706897700-1706907600@bj.org
SUMMARY:Hitoreri
DESCRIPTION:
URL:https://bj.org/event/hitoreri-2-2/
LOCATION:Rabbi Rachel Cowan Chapel\, 270 West 89th Street\, New York\, NY\, 10024\, United States
CATEGORIES:Services
ATTACH;FMTTYPE=image/jpeg:https://bj.org/wp-content/uploads/2023/08/IMG_2697-scaled.jpg
ORGANIZER;CN="B'nai Jeshurun":MAILTO:info@bj.org
END:VEVENT
BEGIN:VEVENT
DTSTART;TZID=America/New_York:20240201T080000
DTEND;TZID=America/New_York:20240201T090000
DTSTAMP:20260421T091520
CREATED:20231221T023526Z
LAST-MODIFIED:20250911T160728Z
UID:10009478-1706774400-1706778000@bj.org
SUMMARY:Shaharit (In Person and Online)
DESCRIPTION:
URL:https://bj.org/event/shaharit-in-person-and-online-4-2/2024-02-01/
LOCATION:Rabbi Rachel Cowan Chapel\, 270 West 89th Street\, New York\, NY\, 10024\, United States
CATEGORIES:Services,Featured in Next Service
ATTACH;FMTTYPE=image/jpeg:https://bj.org/wp-content/uploads/2019/10/1905-0272.jpg
ORGANIZER;CN="B'nai Jeshurun":MAILTO:info@bj.org
END:VEVENT
BEGIN:VEVENT
DTSTART;TZID=America/New_York:20240129T080000
DTEND;TZID=America/New_York:20240129T090000
DTSTAMP:20260421T091520
CREATED:20231221T023526Z
LAST-MODIFIED:20250911T160728Z
UID:10009477-1706515200-1706518800@bj.org
SUMMARY:Shaharit (In Person and Online)
DESCRIPTION:
URL:https://bj.org/event/shaharit-in-person-and-online-4-2/2024-01-29/
LOCATION:Rabbi Rachel Cowan Chapel\, 270 West 89th Street\, New York\, NY\, 10024\, United States
CATEGORIES:Services,Featured in Next Service
ATTACH;FMTTYPE=image/jpeg:https://bj.org/wp-content/uploads/2019/10/1905-0272.jpg
ORGANIZER;CN="B'nai Jeshurun":MAILTO:info@bj.org
END:VEVENT
BEGIN:VEVENT
DTSTART;TZID=America/New_York:20240127T123000
DTEND;TZID=America/New_York:20240127T131500
DTSTAMP:20260421T091520
CREATED:20240105T161738Z
LAST-MODIFIED:20240125T155652Z
UID:10009731-1706358600-1706361300@bj.org
SUMMARY:CANCELLED It Takes a Village
DESCRIPTION:
URL:https://bj.org/event/it-takes-a-village/
LOCATION:Rabbi Rachel Cowan Chapel\, 270 West 89th Street\, New York\, NY\, 10024\, United States
CATEGORIES:Events,Featured on Home Page
ATTACH;FMTTYPE=image/jpeg:https://bj.org/wp-content/uploads/2024/01/Baby-parent-class_iStock-1629562557.jpg
ORGANIZER;CN="B'nai Jeshurun":MAILTO:info@bj.org
END:VEVENT
BEGIN:VEVENT
DTSTART;TZID=America/New_York:20240127T110000
DTEND;TZID=America/New_York:20240127T120000
DTSTAMP:20260421T091520
CREATED:20240104T042353Z
LAST-MODIFIED:20240401T170754Z
UID:10007928-1706353200-1706356800@bj.org
SUMMARY:Early Childhood Families: Birth-Pre-K Shabbat Services
DESCRIPTION:
URL:https://bj.org/event/early-childhood-families-birth-pre-k-shabbat-services-2-3/2024-01-27/
LOCATION:Rabbi Rachel Cowan Chapel\, 270 West 89th Street\, New York\, NY\, 10024\, United States
CATEGORIES:Services
ATTACH;FMTTYPE=image/jpeg:https://bj.org/wp-content/uploads/2021/04/IMG_9480-scaled.jpg
ORGANIZER;CN="B'nai Jeshurun":MAILTO:info@bj.org
END:VEVENT
BEGIN:VEVENT
DTSTART;TZID=America/New_York:20240127T084500
DTEND;TZID=America/New_York:20240127T092500
DTSTAMP:20260421T091520
CREATED:20240126T152441Z
LAST-MODIFIED:20240126T152441Z
UID:10009741-1706345100-1706347500@bj.org
SUMMARY:Hakhanah LaTefillah
DESCRIPTION:
URL:https://bj.org/event/hakhanah-latefillah-4-3/
LOCATION:Rabbi Rachel Cowan Chapel\, 270 West 89th Street\, New York\, NY\, 10024\, United States
CATEGORIES:Events,Services
ATTACH;FMTTYPE=image/jpeg:https://bj.org/wp-content/uploads/2020/11/1905-0258-scaled.jpg
ORGANIZER;CN="B'nai Jeshurun":MAILTO:info@bj.org
END:VEVENT
BEGIN:VEVENT
DTSTART;TZID=America/New_York:20240125T080000
DTEND;TZID=America/New_York:20240125T090000
DTSTAMP:20260421T091520
CREATED:20231221T023526Z
LAST-MODIFIED:20250911T160728Z
UID:10009476-1706169600-1706173200@bj.org
SUMMARY:Shaharit (In Person and Online)
DESCRIPTION:
URL:https://bj.org/event/shaharit-in-person-and-online-4-2/2024-01-25/
LOCATION:Rabbi Rachel Cowan Chapel\, 270 West 89th Street\, New York\, NY\, 10024\, United States
CATEGORIES:Services,Featured in Next Service
ATTACH;FMTTYPE=image/jpeg:https://bj.org/wp-content/uploads/2019/10/1905-0272.jpg
ORGANIZER;CN="B'nai Jeshurun":MAILTO:info@bj.org
END:VEVENT
BEGIN:VEVENT
DTSTART;TZID=America/New_York:20240122T080000
DTEND;TZID=America/New_York:20240122T090000
DTSTAMP:20260421T091520
CREATED:20231221T023526Z
LAST-MODIFIED:20250911T160728Z
UID:10009475-1705910400-1705914000@bj.org
SUMMARY:Shaharit (In Person and Online)
DESCRIPTION:
URL:https://bj.org/event/shaharit-in-person-and-online-4-2/2024-01-22/
LOCATION:Rabbi Rachel Cowan Chapel\, 270 West 89th Street\, New York\, NY\, 10024\, United States
CATEGORIES:Services,Featured in Next Service
ATTACH;FMTTYPE=image/jpeg:https://bj.org/wp-content/uploads/2019/10/1905-0272.jpg
ORGANIZER;CN="B'nai Jeshurun":MAILTO:info@bj.org
END:VEVENT
BEGIN:VEVENT
DTSTART;TZID=America/New_York:20240120T123000
DTEND;TZID=America/New_York:20240120T131500
DTSTAMP:20260421T091520
CREATED:20240119T200919Z
LAST-MODIFIED:20240119T200932Z
UID:10009730-1705753800-1705756500@bj.org
SUMMARY:POSTPONED: It Takes a Village
DESCRIPTION:
URL:https://bj.org/event/it-takes-a-village-2/
LOCATION:Rabbi Rachel Cowan Chapel\, 270 West 89th Street\, New York\, NY\, 10024\, United States
CATEGORIES:Events,Featured on Home Page
ATTACH;FMTTYPE=image/jpeg:https://bj.org/wp-content/uploads/2024/01/Baby-parent-class_iStock-1629562557.jpg
ORGANIZER;CN="B'nai Jeshurun":MAILTO:info@bj.org
END:VEVENT
BEGIN:VEVENT
DTSTART;TZID=America/New_York:20240120T110000
DTEND;TZID=America/New_York:20240120T120000
DTSTAMP:20260421T091520
CREATED:20240104T042353Z
LAST-MODIFIED:20240401T170754Z
UID:10007927-1705748400-1705752000@bj.org
SUMMARY:Early Childhood Families: Birth-Pre-K Shabbat Services
DESCRIPTION:
URL:https://bj.org/event/early-childhood-families-birth-pre-k-shabbat-services-2-3/2024-01-20/
LOCATION:Rabbi Rachel Cowan Chapel\, 270 West 89th Street\, New York\, NY\, 10024\, United States
CATEGORIES:Services
ATTACH;FMTTYPE=image/jpeg:https://bj.org/wp-content/uploads/2021/04/IMG_9480-scaled.jpg
ORGANIZER;CN="B'nai Jeshurun":MAILTO:info@bj.org
END:VEVENT
BEGIN:VEVENT
DTSTART;TZID=America/New_York:20240118T080000
DTEND;TZID=America/New_York:20240118T090000
DTSTAMP:20260421T091520
CREATED:20231221T023526Z
LAST-MODIFIED:20250911T160728Z
UID:10009474-1705564800-1705568400@bj.org
SUMMARY:Shaharit (In Person and Online)
DESCRIPTION:
URL:https://bj.org/event/shaharit-in-person-and-online-4-2/2024-01-18/
LOCATION:Rabbi Rachel Cowan Chapel\, 270 West 89th Street\, New York\, NY\, 10024\, United States
CATEGORIES:Services,Featured in Next Service
ATTACH;FMTTYPE=image/jpeg:https://bj.org/wp-content/uploads/2019/10/1905-0272.jpg
ORGANIZER;CN="B'nai Jeshurun":MAILTO:info@bj.org
END:VEVENT
BEGIN:VEVENT
DTSTART;TZID=America/New_York:20240115T093000
DTEND;TZID=America/New_York:20240115T103000
DTSTAMP:20260421T091520
CREATED:20230926T182314Z
LAST-MODIFIED:20251219T195928Z
UID:10009536-1705311000-1705314600@bj.org
SUMMARY:Shaharit (National Holiday—In Person and Online)
DESCRIPTION:
URL:https://bj.org/event/shaharit-national-holiday-in-person-online/2024-01-15/
LOCATION:Rabbi Rachel Cowan Chapel\, 270 West 89th Street\, New York\, NY\, 10024\, United States
CATEGORIES:Services,Featured in Next Service
ATTACH;FMTTYPE=image/jpeg:https://bj.org/wp-content/uploads/2022/04/1905-0281-1.jpg
ORGANIZER;CN="B'nai Jeshurun":MAILTO:info@bj.org
END:VEVENT
BEGIN:VEVENT
DTSTART;TZID=America/New_York:20240113T110000
DTEND;TZID=America/New_York:20240113T120000
DTSTAMP:20260421T091520
CREATED:20240104T042353Z
LAST-MODIFIED:20240401T170754Z
UID:10007925-1705143600-1705147200@bj.org
SUMMARY:Early Childhood Families: Birth-Pre-K Shabbat Services
DESCRIPTION:
URL:https://bj.org/event/early-childhood-families-birth-pre-k-shabbat-services-2-3/2024-01-13/
LOCATION:Rabbi Rachel Cowan Chapel\, 270 West 89th Street\, New York\, NY\, 10024\, United States
CATEGORIES:Services
ATTACH;FMTTYPE=image/jpeg:https://bj.org/wp-content/uploads/2021/04/IMG_9480-scaled.jpg
ORGANIZER;CN="B'nai Jeshurun":MAILTO:info@bj.org
END:VEVENT
END:VCALENDAR