BEGIN:VCALENDAR
VERSION:2.0
PRODID:-//B&#039;nai Jeshurun - ECPv6.15.20//NONSGML v1.0//EN
CALSCALE:GREGORIAN
METHOD:PUBLISH
X-WR-CALNAME:B&#039;nai Jeshurun
X-ORIGINAL-URL:https://bj.org
X-WR-CALDESC:Events for B&#039;nai Jeshurun
REFRESH-INTERVAL;VALUE=DURATION:PT1H
X-Robots-Tag:noindex
X-PUBLISHED-TTL:PT1H
BEGIN:VTIMEZONE
TZID:America/New_York
BEGIN:DAYLIGHT
TZOFFSETFROM:-0500
TZOFFSETTO:-0400
TZNAME:EDT
DTSTART:20230312T070000
END:DAYLIGHT
BEGIN:STANDARD
TZOFFSETFROM:-0400
TZOFFSETTO:-0500
TZNAME:EST
DTSTART:20231105T060000
END:STANDARD
BEGIN:DAYLIGHT
TZOFFSETFROM:-0500
TZOFFSETTO:-0400
TZNAME:EDT
DTSTART:20240310T070000
END:DAYLIGHT
BEGIN:STANDARD
TZOFFSETFROM:-0400
TZOFFSETTO:-0500
TZNAME:EST
DTSTART:20241103T060000
END:STANDARD
BEGIN:DAYLIGHT
TZOFFSETFROM:-0500
TZOFFSETTO:-0400
TZNAME:EDT
DTSTART:20250309T070000
END:DAYLIGHT
BEGIN:STANDARD
TZOFFSETFROM:-0400
TZOFFSETTO:-0500
TZNAME:EST
DTSTART:20251102T060000
END:STANDARD
END:VTIMEZONE
BEGIN:VEVENT
DTSTART;TZID=America/New_York:20240406T110000
DTEND;TZID=America/New_York:20240406T120000
DTSTAMP:20260421T074901
CREATED:20240104T042353Z
LAST-MODIFIED:20240401T170754Z
UID:10009864-1712401200-1712404800@bj.org
SUMMARY:Early Childhood Families: Birth-Pre-K Shabbat Services
DESCRIPTION:
URL:https://bj.org/event/early-childhood-families-birth-pre-k-shabbat-services-2-3/2024-04-06/
LOCATION:Rabbi Rachel Cowan Chapel\, 270 West 89th Street\, New York\, NY\, 10024\, United States
CATEGORIES:Services
ATTACH;FMTTYPE=image/jpeg:https://bj.org/wp-content/uploads/2021/04/IMG_9480-scaled.jpg
ORGANIZER;CN="B'nai Jeshurun":MAILTO:info@bj.org
END:VEVENT
BEGIN:VEVENT
DTSTART;TZID=America/New_York:20240406T084500
DTEND;TZID=America/New_York:20240406T092500
DTSTAMP:20260421T074901
CREATED:20230822T153928Z
LAST-MODIFIED:20260313T190320Z
UID:10011474-1712393100-1712395500@bj.org
SUMMARY:Hakhanah LaTefillah
DESCRIPTION:
URL:https://bj.org/event/hakhanah-latefillah-4/2024-04-06/
LOCATION:Rabbi Rachel Cowan Chapel\, 270 West 89th Street\, New York\, NY\, 10024\, United States
CATEGORIES:Events,Services
ATTACH;FMTTYPE=image/jpeg:https://bj.org/wp-content/uploads/2020/11/1905-0258-scaled.jpg
ORGANIZER;CN="B'nai Jeshurun":MAILTO:info@bj.org
END:VEVENT
BEGIN:VEVENT
DTSTART;TZID=America/New_York:20240405T181500
DTEND;TZID=America/New_York:20240405T210000
DTSTAMP:20260421T074901
CREATED:20240313T150557Z
LAST-MODIFIED:20240313T150558Z
UID:10007903-1712340900-1712350800@bj.org
SUMMARY:Hitoreri
DESCRIPTION:
URL:https://bj.org/event/hitoreri-2-3/
LOCATION:Rabbi Rachel Cowan Chapel\, 270 West 89th Street\, New York\, NY\, 10024\, United States
CATEGORIES:Services
ATTACH;FMTTYPE=image/jpeg:https://bj.org/wp-content/uploads/2023/08/IMG_2697-scaled.jpg
ORGANIZER;CN="B'nai Jeshurun":MAILTO:info@bj.org
END:VEVENT
BEGIN:VEVENT
DTSTART;TZID=America/New_York:20240404T080000
DTEND;TZID=America/New_York:20240404T090000
DTSTAMP:20260421T074901
CREATED:20231221T023526Z
LAST-MODIFIED:20250911T160728Z
UID:10010005-1712217600-1712221200@bj.org
SUMMARY:Shaharit (In Person and Online)
DESCRIPTION:
URL:https://bj.org/event/shaharit-in-person-and-online-4-2/2024-04-04/
LOCATION:Rabbi Rachel Cowan Chapel\, 270 West 89th Street\, New York\, NY\, 10024\, United States
CATEGORIES:Services,Featured in Next Service
ATTACH;FMTTYPE=image/jpeg:https://bj.org/wp-content/uploads/2019/10/1905-0272.jpg
ORGANIZER;CN="B'nai Jeshurun":MAILTO:info@bj.org
END:VEVENT
BEGIN:VEVENT
DTSTART;TZID=America/New_York:20240401T080000
DTEND;TZID=America/New_York:20240401T090000
DTSTAMP:20260421T074901
CREATED:20231221T023526Z
LAST-MODIFIED:20250911T160728Z
UID:10010004-1711958400-1711962000@bj.org
SUMMARY:Shaharit (In Person and Online)
DESCRIPTION:
URL:https://bj.org/event/shaharit-in-person-and-online-4-2/2024-04-01/
LOCATION:Rabbi Rachel Cowan Chapel\, 270 West 89th Street\, New York\, NY\, 10024\, United States
CATEGORIES:Services,Featured in Next Service
ATTACH;FMTTYPE=image/jpeg:https://bj.org/wp-content/uploads/2019/10/1905-0272.jpg
ORGANIZER;CN="B'nai Jeshurun":MAILTO:info@bj.org
END:VEVENT
BEGIN:VEVENT
DTSTART;TZID=America/New_York:20240330T110000
DTEND;TZID=America/New_York:20240330T120000
DTSTAMP:20260421T074901
CREATED:20240104T042353Z
LAST-MODIFIED:20240401T170754Z
UID:10009863-1711796400-1711800000@bj.org
SUMMARY:Early Childhood Families: Birth-Pre-K Shabbat Services
DESCRIPTION:
URL:https://bj.org/event/early-childhood-families-birth-pre-k-shabbat-services-2-3/2024-03-30/
LOCATION:Rabbi Rachel Cowan Chapel\, 270 West 89th Street\, New York\, NY\, 10024\, United States
CATEGORIES:Services
ATTACH;FMTTYPE=image/jpeg:https://bj.org/wp-content/uploads/2021/04/IMG_9480-scaled.jpg
ORGANIZER;CN="B'nai Jeshurun":MAILTO:info@bj.org
END:VEVENT
BEGIN:VEVENT
DTSTART;TZID=America/New_York:20240328T080000
DTEND;TZID=America/New_York:20240328T090000
DTSTAMP:20260421T074901
CREATED:20231221T023526Z
LAST-MODIFIED:20250911T160728Z
UID:10009492-1711612800-1711616400@bj.org
SUMMARY:Shaharit (In Person and Online)
DESCRIPTION:
URL:https://bj.org/event/shaharit-in-person-and-online-4-2/2024-03-28/
LOCATION:Rabbi Rachel Cowan Chapel\, 270 West 89th Street\, New York\, NY\, 10024\, United States
CATEGORIES:Services,Featured in Next Service
ATTACH;FMTTYPE=image/jpeg:https://bj.org/wp-content/uploads/2019/10/1905-0272.jpg
ORGANIZER;CN="B'nai Jeshurun":MAILTO:info@bj.org
END:VEVENT
BEGIN:VEVENT
DTSTART;TZID=America/New_York:20240325T080000
DTEND;TZID=America/New_York:20240325T090000
DTSTAMP:20260421T074901
CREATED:20231221T023526Z
LAST-MODIFIED:20250911T160728Z
UID:10009491-1711353600-1711357200@bj.org
SUMMARY:Shaharit (In Person and Online)
DESCRIPTION:
URL:https://bj.org/event/shaharit-in-person-and-online-4-2/2024-03-25/
LOCATION:Rabbi Rachel Cowan Chapel\, 270 West 89th Street\, New York\, NY\, 10024\, United States
CATEGORIES:Services,Featured in Next Service
ATTACH;FMTTYPE=image/jpeg:https://bj.org/wp-content/uploads/2019/10/1905-0272.jpg
ORGANIZER;CN="B'nai Jeshurun":MAILTO:info@bj.org
END:VEVENT
BEGIN:VEVENT
DTSTART;TZID=America/New_York:20240324T091500
DTEND;TZID=America/New_York:20240324T111500
DTSTAMP:20260421T074901
CREATED:20240221T213112Z
LAST-MODIFIED:20240301T195036Z
UID:10009548-1711271700-1711278900@bj.org
SUMMARY:Shaharit Megillah Reading (In Person and Online)
DESCRIPTION:
URL:https://bj.org/event/shaharit-online-6-2/
LOCATION:Rabbi Rachel Cowan Chapel\, 270 West 89th Street\, New York\, NY\, 10024\, United States
CATEGORIES:Services,Featured in Next Service,Holidays,Purim
ATTACH;FMTTYPE=image/jpeg:https://bj.org/wp-content/uploads/2019/10/1905-0280.jpg
ORGANIZER;CN="B'nai Jeshurun":MAILTO:info@bj.org
END:VEVENT
BEGIN:VEVENT
DTSTART;TZID=America/New_York:20240323T110000
DTEND;TZID=America/New_York:20240323T120000
DTSTAMP:20260421T074901
CREATED:20240104T042353Z
LAST-MODIFIED:20240401T170754Z
UID:10009862-1711191600-1711195200@bj.org
SUMMARY:Early Childhood Families: Birth-Pre-K Shabbat Services
DESCRIPTION:
URL:https://bj.org/event/early-childhood-families-birth-pre-k-shabbat-services-2-3/2024-03-23/
LOCATION:Rabbi Rachel Cowan Chapel\, 270 West 89th Street\, New York\, NY\, 10024\, United States
CATEGORIES:Services
ATTACH;FMTTYPE=image/jpeg:https://bj.org/wp-content/uploads/2021/04/IMG_9480-scaled.jpg
ORGANIZER;CN="B'nai Jeshurun":MAILTO:info@bj.org
END:VEVENT
BEGIN:VEVENT
DTSTART;TZID=America/New_York:20240323T084500
DTEND;TZID=America/New_York:20240323T092500
DTSTAMP:20260421T074901
CREATED:20230822T153928Z
LAST-MODIFIED:20260313T190320Z
UID:10009745-1711183500-1711185900@bj.org
SUMMARY:Hakhanah LaTefillah
DESCRIPTION:
URL:https://bj.org/event/hakhanah-latefillah-4/2024-03-23/
LOCATION:Rabbi Rachel Cowan Chapel\, 270 West 89th Street\, New York\, NY\, 10024\, United States
CATEGORIES:Events,Services
ATTACH;FMTTYPE=image/jpeg:https://bj.org/wp-content/uploads/2020/11/1905-0258-scaled.jpg
ORGANIZER;CN="B'nai Jeshurun":MAILTO:info@bj.org
END:VEVENT
BEGIN:VEVENT
DTSTART;TZID=America/New_York:20240321T080000
DTEND;TZID=America/New_York:20240321T090000
DTSTAMP:20260421T074901
CREATED:20231221T023526Z
LAST-MODIFIED:20250911T160728Z
UID:10009490-1711008000-1711011600@bj.org
SUMMARY:Shaharit (In Person and Online)
DESCRIPTION:
URL:https://bj.org/event/shaharit-in-person-and-online-4-2/2024-03-21/
LOCATION:Rabbi Rachel Cowan Chapel\, 270 West 89th Street\, New York\, NY\, 10024\, United States
CATEGORIES:Services,Featured in Next Service
ATTACH;FMTTYPE=image/jpeg:https://bj.org/wp-content/uploads/2019/10/1905-0272.jpg
ORGANIZER;CN="B'nai Jeshurun":MAILTO:info@bj.org
END:VEVENT
BEGIN:VEVENT
DTSTART;TZID=America/New_York:20240318T080000
DTEND;TZID=America/New_York:20240318T090000
DTSTAMP:20260421T074901
CREATED:20231221T023526Z
LAST-MODIFIED:20250911T160728Z
UID:10009489-1710748800-1710752400@bj.org
SUMMARY:Shaharit (In Person and Online)
DESCRIPTION:
URL:https://bj.org/event/shaharit-in-person-and-online-4-2/2024-03-18/
LOCATION:Rabbi Rachel Cowan Chapel\, 270 West 89th Street\, New York\, NY\, 10024\, United States
CATEGORIES:Services,Featured in Next Service
ATTACH;FMTTYPE=image/jpeg:https://bj.org/wp-content/uploads/2019/10/1905-0272.jpg
ORGANIZER;CN="B'nai Jeshurun":MAILTO:info@bj.org
END:VEVENT
BEGIN:VEVENT
DTSTART;TZID=America/New_York:20240316T110000
DTEND;TZID=America/New_York:20240316T120000
DTSTAMP:20260421T074901
CREATED:20240104T042353Z
LAST-MODIFIED:20240401T170754Z
UID:10009861-1710586800-1710590400@bj.org
SUMMARY:Early Childhood Families: Birth-Pre-K Shabbat Services
DESCRIPTION:
URL:https://bj.org/event/early-childhood-families-birth-pre-k-shabbat-services-2-3/2024-03-16/
LOCATION:Rabbi Rachel Cowan Chapel\, 270 West 89th Street\, New York\, NY\, 10024\, United States
CATEGORIES:Services
ATTACH;FMTTYPE=image/jpeg:https://bj.org/wp-content/uploads/2021/04/IMG_9480-scaled.jpg
ORGANIZER;CN="B'nai Jeshurun":MAILTO:info@bj.org
END:VEVENT
BEGIN:VEVENT
DTSTART;TZID=America/New_York:20240316T091500
DTEND;TZID=America/New_York:20240316T101500
DTSTAMP:20260421T074901
CREATED:20240226T203207Z
LAST-MODIFIED:20240502T162045Z
UID:10009894-1710580500-1710584100@bj.org
SUMMARY:Mindfulness Shabbat Morning Service
DESCRIPTION:
URL:https://bj.org/event/mindfulness-shabbat-morning-service-2/
LOCATION:Rabbi Rachel Cowan Chapel\, 270 West 89th Street\, New York\, NY\, 10024\, United States
CATEGORIES:Services
ATTACH;FMTTYPE=image/jpeg:https://bj.org/wp-content/uploads/2020/04/1905-0452_blog-e1586309310341.jpg
ORGANIZER;CN="B'nai Jeshurun":MAILTO:info@bj.org
END:VEVENT
BEGIN:VEVENT
DTSTART;TZID=America/New_York:20240314T080000
DTEND;TZID=America/New_York:20240314T090000
DTSTAMP:20260421T074901
CREATED:20231221T023526Z
LAST-MODIFIED:20250911T160728Z
UID:10009488-1710403200-1710406800@bj.org
SUMMARY:Shaharit (In Person and Online)
DESCRIPTION:
URL:https://bj.org/event/shaharit-in-person-and-online-4-2/2024-03-14/
LOCATION:Rabbi Rachel Cowan Chapel\, 270 West 89th Street\, New York\, NY\, 10024\, United States
CATEGORIES:Services,Featured in Next Service
ATTACH;FMTTYPE=image/jpeg:https://bj.org/wp-content/uploads/2019/10/1905-0272.jpg
ORGANIZER;CN="B'nai Jeshurun":MAILTO:info@bj.org
END:VEVENT
BEGIN:VEVENT
DTSTART;TZID=America/New_York:20240311T074500
DTEND;TZID=America/New_York:20240311T091500
DTSTAMP:20260421T074901
CREATED:20230926T181630Z
LAST-MODIFIED:20260330T154446Z
UID:10009535-1710143100-1710148500@bj.org
SUMMARY:Shaharit (Rosh Hodesh)
DESCRIPTION:
URL:https://bj.org/event/shaharit-rosh-hodesh-in-person-and-online-2/2024-03-11/
LOCATION:Rabbi Rachel Cowan Chapel\, 270 West 89th Street\, New York\, NY\, 10024\, United States
CATEGORIES:Services,Featured in Next Service
ATTACH;FMTTYPE=image/jpeg:https://bj.org/wp-content/uploads/2019/10/1905-0278.jpg
ORGANIZER;CN="B'nai Jeshurun":MAILTO:info@bj.org
END:VEVENT
BEGIN:VEVENT
DTSTART;TZID=America/New_York:20240310T091500
DTEND;TZID=America/New_York:20240310T104500
DTSTAMP:20260421T074901
CREATED:20230926T181630Z
LAST-MODIFIED:20260330T154446Z
UID:10009534-1710062100-1710067500@bj.org
SUMMARY:Shaharit (Rosh Hodesh)
DESCRIPTION:
URL:https://bj.org/event/shaharit-rosh-hodesh-in-person-and-online-2/2024-03-10/
LOCATION:Rabbi Rachel Cowan Chapel\, 270 West 89th Street\, New York\, NY\, 10024\, United States
CATEGORIES:Services,Featured in Next Service
ATTACH;FMTTYPE=image/jpeg:https://bj.org/wp-content/uploads/2019/10/1905-0278.jpg
ORGANIZER;CN="B'nai Jeshurun":MAILTO:info@bj.org
END:VEVENT
BEGIN:VEVENT
DTSTART;TZID=America/New_York:20240309T110000
DTEND;TZID=America/New_York:20240309T120000
DTSTAMP:20260421T074901
CREATED:20240104T042353Z
LAST-MODIFIED:20240401T170754Z
UID:10009860-1709982000-1709985600@bj.org
SUMMARY:Early Childhood Families: Birth-Pre-K Shabbat Services
DESCRIPTION:
URL:https://bj.org/event/early-childhood-families-birth-pre-k-shabbat-services-2-3/2024-03-09/
LOCATION:Rabbi Rachel Cowan Chapel\, 270 West 89th Street\, New York\, NY\, 10024\, United States
CATEGORIES:Services
ATTACH;FMTTYPE=image/jpeg:https://bj.org/wp-content/uploads/2021/04/IMG_9480-scaled.jpg
ORGANIZER;CN="B'nai Jeshurun":MAILTO:info@bj.org
END:VEVENT
BEGIN:VEVENT
DTSTART;TZID=America/New_York:20240309T084500
DTEND;TZID=America/New_York:20240309T092500
DTSTAMP:20260421T074901
CREATED:20230822T153928Z
LAST-MODIFIED:20260313T190320Z
UID:10009744-1709973900-1709976300@bj.org
SUMMARY:Hakhanah LaTefillah
DESCRIPTION:
URL:https://bj.org/event/hakhanah-latefillah-4/2024-03-09/
LOCATION:Rabbi Rachel Cowan Chapel\, 270 West 89th Street\, New York\, NY\, 10024\, United States
CATEGORIES:Events,Services
ATTACH;FMTTYPE=image/jpeg:https://bj.org/wp-content/uploads/2020/11/1905-0258-scaled.jpg
ORGANIZER;CN="B'nai Jeshurun":MAILTO:info@bj.org
END:VEVENT
BEGIN:VEVENT
DTSTART;TZID=America/New_York:20240307T080000
DTEND;TZID=America/New_York:20240307T090000
DTSTAMP:20260421T074901
CREATED:20231221T023526Z
LAST-MODIFIED:20250911T160728Z
UID:10009487-1709798400-1709802000@bj.org
SUMMARY:Shaharit (In Person and Online)
DESCRIPTION:
URL:https://bj.org/event/shaharit-in-person-and-online-4-2/2024-03-07/
LOCATION:Rabbi Rachel Cowan Chapel\, 270 West 89th Street\, New York\, NY\, 10024\, United States
CATEGORIES:Services,Featured in Next Service
ATTACH;FMTTYPE=image/jpeg:https://bj.org/wp-content/uploads/2019/10/1905-0272.jpg
ORGANIZER;CN="B'nai Jeshurun":MAILTO:info@bj.org
END:VEVENT
BEGIN:VEVENT
DTSTART;TZID=America/New_York:20240304T080000
DTEND;TZID=America/New_York:20240304T090000
DTSTAMP:20260421T074901
CREATED:20231221T023526Z
LAST-MODIFIED:20250911T160728Z
UID:10009486-1709539200-1709542800@bj.org
SUMMARY:Shaharit (In Person and Online)
DESCRIPTION:
URL:https://bj.org/event/shaharit-in-person-and-online-4-2/2024-03-04/
LOCATION:Rabbi Rachel Cowan Chapel\, 270 West 89th Street\, New York\, NY\, 10024\, United States
CATEGORIES:Services,Featured in Next Service
ATTACH;FMTTYPE=image/jpeg:https://bj.org/wp-content/uploads/2019/10/1905-0272.jpg
ORGANIZER;CN="B'nai Jeshurun":MAILTO:info@bj.org
END:VEVENT
BEGIN:VEVENT
DTSTART;TZID=America/New_York:20240302T110000
DTEND;TZID=America/New_York:20240302T120000
DTSTAMP:20260421T074901
CREATED:20240104T042353Z
LAST-MODIFIED:20240401T170754Z
UID:10009859-1709377200-1709380800@bj.org
SUMMARY:Early Childhood Families: Birth-Pre-K Shabbat Services
DESCRIPTION:
URL:https://bj.org/event/early-childhood-families-birth-pre-k-shabbat-services-2-3/2024-03-02/
LOCATION:Rabbi Rachel Cowan Chapel\, 270 West 89th Street\, New York\, NY\, 10024\, United States
CATEGORIES:Services
ATTACH;FMTTYPE=image/jpeg:https://bj.org/wp-content/uploads/2021/04/IMG_9480-scaled.jpg
ORGANIZER;CN="B'nai Jeshurun":MAILTO:info@bj.org
END:VEVENT
BEGIN:VEVENT
DTSTART;TZID=America/New_York:20240301T181500
DTEND;TZID=America/New_York:20240301T210000
DTSTAMP:20260421T074901
CREATED:20230818T183338Z
LAST-MODIFIED:20240105T173034Z
UID:10007902-1709316900-1709326800@bj.org
SUMMARY:Hitoreri
DESCRIPTION:
URL:https://bj.org/event/hitoreri-2/2024-03-01/
LOCATION:Rabbi Rachel Cowan Chapel\, 270 West 89th Street\, New York\, NY\, 10024\, United States
CATEGORIES:Services
ATTACH;FMTTYPE=image/jpeg:https://bj.org/wp-content/uploads/2023/08/IMG_2697-scaled.jpg
ORGANIZER;CN="B'nai Jeshurun":MAILTO:info@bj.org
END:VEVENT
BEGIN:VEVENT
DTSTART;TZID=America/New_York:20240229T080000
DTEND;TZID=America/New_York:20240229T090000
DTSTAMP:20260421T074901
CREATED:20231221T023526Z
LAST-MODIFIED:20250911T160728Z
UID:10009485-1709193600-1709197200@bj.org
SUMMARY:Shaharit (In Person and Online)
DESCRIPTION:
URL:https://bj.org/event/shaharit-in-person-and-online-4-2/2024-02-29/
LOCATION:Rabbi Rachel Cowan Chapel\, 270 West 89th Street\, New York\, NY\, 10024\, United States
CATEGORIES:Services,Featured in Next Service
ATTACH;FMTTYPE=image/jpeg:https://bj.org/wp-content/uploads/2019/10/1905-0272.jpg
ORGANIZER;CN="B'nai Jeshurun":MAILTO:info@bj.org
END:VEVENT
BEGIN:VEVENT
DTSTART;TZID=America/New_York:20240226T080000
DTEND;TZID=America/New_York:20240226T090000
DTSTAMP:20260421T074901
CREATED:20231221T023526Z
LAST-MODIFIED:20250911T160728Z
UID:10009484-1708934400-1708938000@bj.org
SUMMARY:Shaharit (In Person and Online)
DESCRIPTION:
URL:https://bj.org/event/shaharit-in-person-and-online-4-2/2024-02-26/
LOCATION:Rabbi Rachel Cowan Chapel\, 270 West 89th Street\, New York\, NY\, 10024\, United States
CATEGORIES:Services,Featured in Next Service
ATTACH;FMTTYPE=image/jpeg:https://bj.org/wp-content/uploads/2019/10/1905-0272.jpg
ORGANIZER;CN="B'nai Jeshurun":MAILTO:info@bj.org
END:VEVENT
BEGIN:VEVENT
DTSTART;TZID=America/New_York:20240224T110000
DTEND;TZID=America/New_York:20240224T120000
DTSTAMP:20260421T074901
CREATED:20240104T042353Z
LAST-MODIFIED:20240401T170754Z
UID:10007932-1708772400-1708776000@bj.org
SUMMARY:Early Childhood Families: Birth-Pre-K Shabbat Services
DESCRIPTION:
URL:https://bj.org/event/early-childhood-families-birth-pre-k-shabbat-services-2-3/2024-02-24/
LOCATION:Rabbi Rachel Cowan Chapel\, 270 West 89th Street\, New York\, NY\, 10024\, United States
CATEGORIES:Services
ATTACH;FMTTYPE=image/jpeg:https://bj.org/wp-content/uploads/2021/04/IMG_9480-scaled.jpg
ORGANIZER;CN="B'nai Jeshurun":MAILTO:info@bj.org
END:VEVENT
BEGIN:VEVENT
DTSTART;TZID=America/New_York:20240224T084500
DTEND;TZID=America/New_York:20240224T092500
DTSTAMP:20260421T074901
CREATED:20230822T153928Z
LAST-MODIFIED:20260313T190320Z
UID:10009743-1708764300-1708766700@bj.org
SUMMARY:Hakhanah LaTefillah
DESCRIPTION:
URL:https://bj.org/event/hakhanah-latefillah-4/2024-02-24/
LOCATION:Rabbi Rachel Cowan Chapel\, 270 West 89th Street\, New York\, NY\, 10024\, United States
CATEGORIES:Events,Services
ATTACH;FMTTYPE=image/jpeg:https://bj.org/wp-content/uploads/2020/11/1905-0258-scaled.jpg
ORGANIZER;CN="B'nai Jeshurun":MAILTO:info@bj.org
END:VEVENT
BEGIN:VEVENT
DTSTART;TZID=America/New_York:20240222T080000
DTEND;TZID=America/New_York:20240222T090000
DTSTAMP:20260421T074901
CREATED:20231221T023526Z
LAST-MODIFIED:20250911T160728Z
UID:10009483-1708588800-1708592400@bj.org
SUMMARY:Shaharit (In Person and Online)
DESCRIPTION:
URL:https://bj.org/event/shaharit-in-person-and-online-4-2/2024-02-22/
LOCATION:Rabbi Rachel Cowan Chapel\, 270 West 89th Street\, New York\, NY\, 10024\, United States
CATEGORIES:Services,Featured in Next Service
ATTACH;FMTTYPE=image/jpeg:https://bj.org/wp-content/uploads/2019/10/1905-0272.jpg
ORGANIZER;CN="B'nai Jeshurun":MAILTO:info@bj.org
END:VEVENT
BEGIN:VEVENT
DTSTART;TZID=America/New_York:20240219T093000
DTEND;TZID=America/New_York:20240219T103000
DTSTAMP:20260421T074901
CREATED:20230926T182314Z
LAST-MODIFIED:20251219T195928Z
UID:10009537-1708335000-1708338600@bj.org
SUMMARY:Shaharit (National Holiday—In Person and Online)
DESCRIPTION:
URL:https://bj.org/event/shaharit-national-holiday-in-person-online/2024-02-19/
LOCATION:Rabbi Rachel Cowan Chapel\, 270 West 89th Street\, New York\, NY\, 10024\, United States
CATEGORIES:Services,Featured in Next Service
ATTACH;FMTTYPE=image/jpeg:https://bj.org/wp-content/uploads/2022/04/1905-0281-1.jpg
ORGANIZER;CN="B'nai Jeshurun":MAILTO:info@bj.org
END:VEVENT
END:VCALENDAR