BEGIN:VCALENDAR
VERSION:2.0
PRODID:-//B&#039;nai Jeshurun - ECPv6.15.20//NONSGML v1.0//EN
CALSCALE:GREGORIAN
METHOD:PUBLISH
X-ORIGINAL-URL:https://bj.org
X-WR-CALDESC:Events for B&#039;nai Jeshurun
REFRESH-INTERVAL;VALUE=DURATION:PT1H
X-Robots-Tag:noindex
X-PUBLISHED-TTL:PT1H
BEGIN:VTIMEZONE
TZID:America/New_York
BEGIN:DAYLIGHT
TZOFFSETFROM:-0500
TZOFFSETTO:-0400
TZNAME:EDT
DTSTART:20250309T070000
END:DAYLIGHT
BEGIN:STANDARD
TZOFFSETFROM:-0400
TZOFFSETTO:-0500
TZNAME:EST
DTSTART:20251102T060000
END:STANDARD
BEGIN:DAYLIGHT
TZOFFSETFROM:-0500
TZOFFSETTO:-0400
TZNAME:EDT
DTSTART:20260308T070000
END:DAYLIGHT
BEGIN:STANDARD
TZOFFSETFROM:-0400
TZOFFSETTO:-0500
TZNAME:EST
DTSTART:20261101T060000
END:STANDARD
BEGIN:DAYLIGHT
TZOFFSETFROM:-0500
TZOFFSETTO:-0400
TZNAME:EDT
DTSTART:20270314T070000
END:DAYLIGHT
BEGIN:STANDARD
TZOFFSETFROM:-0400
TZOFFSETTO:-0500
TZNAME:EST
DTSTART:20271107T060000
END:STANDARD
END:VTIMEZONE
BEGIN:VEVENT
DTSTART;TZID=America/New_York:20260304T083000
DTEND;TZID=America/New_York:20260304T091500
DTSTAMP:20260421T194006
CREATED:20221215T212948Z
LAST-MODIFIED:20260415T133805Z
UID:10019710-1772613000-1772615700@bj.org
SUMMARY:Jewish Meditation with Rabbi Shuli Passow
DESCRIPTION:
URL:https://bj.org/event/jewish-meditation-with-rabbi-shuli-passow-3/2026-03-04/
LOCATION:Remote Access Only\, NY\, United States
CATEGORIES:Classes
ATTACH;FMTTYPE=image/jpeg:https://bj.org/wp-content/uploads/2022/12/Daily-Meditation-Shuli-Image.jpg
ORGANIZER;CN="B'nai Jeshurun":MAILTO:info@bj.org
END:VEVENT
BEGIN:VEVENT
DTSTART;TZID=America/New_York:20260304T074500
DTEND;TZID=America/New_York:20260304T083000
DTSTAMP:20260421T194006
CREATED:20260219T150803Z
LAST-MODIFIED:20260320T152324Z
UID:10019198-1772610300-1772613000@bj.org
SUMMARY:Shaharit
DESCRIPTION:
URL:https://bj.org/event/shaharit/2026-03-04/
LOCATION:Rabbi Rachel Cowan Chapel\, 270 West 89th Street\, New York\, NY\, 10024\, United States
CATEGORIES:Services,Featured in Next Service
ATTACH;FMTTYPE=image/jpeg:https://bj.org/wp-content/uploads/2019/10/1905-0275.jpg
ORGANIZER;CN="B'nai Jeshurun":MAILTO:info@bj.org
END:VEVENT
BEGIN:VEVENT
DTSTART;TZID=America/New_York:20260303T190000
DTEND;TZID=America/New_York:20260303T210000
DTSTAMP:20260421T194006
CREATED:20250624T170554Z
LAST-MODIFIED:20260105T195343Z
UID:10016882-1772564400-1772571600@bj.org
SUMMARY:Introduction to Judaism
DESCRIPTION:
URL:https://bj.org/event/intro-to-judaism-4/2026-03-03/
LOCATION:Rabbi Rachel Cowan Chapel\, 270 West 89th Street\, New York\, NY\, 10024\, United States
CATEGORIES:Classes
ATTACH;FMTTYPE=image/jpeg:https://bj.org/wp-content/uploads/2024/10/whi5A0o8.jpg
ORGANIZER;CN="B'nai Jeshurun":MAILTO:info@bj.org
END:VEVENT
BEGIN:VEVENT
DTSTART;TZID=America/New_York:20260303T183000
DTEND;TZID=America/New_York:20260303T190000
DTSTAMP:20260421T194006
CREATED:20250916T192848Z
LAST-MODIFIED:20260219T191516Z
UID:10019312-1772562600-1772564400@bj.org
SUMMARY:Arvit (Online)
DESCRIPTION:
URL:https://bj.org/event/arvit-online-2-copy/2026-03-03/
LOCATION:Remote Access Only\, NY\, United States
CATEGORIES:Services,Featured in Next Service
ATTACH;FMTTYPE=image/jpeg:https://bj.org/wp-content/uploads/2024/03/1905-0258-2048x1536-1.jpg
ORGANIZER;CN="B'nai Jeshurun":MAILTO:info@bj.org
END:VEVENT
BEGIN:VEVENT
DTSTART;TZID=America/New_York:20260303T173000
DTEND;TZID=America/New_York:20260303T181500
DTSTAMP:20260421T194006
CREATED:20230302T235540Z
LAST-MODIFIED:20260313T190025Z
UID:10019762-1772559000-1772561700@bj.org
SUMMARY:Mindfulness Prayer Practice Group
DESCRIPTION:
URL:https://bj.org/event/mindful-prayer-havurah/2026-03-03/
LOCATION:Remote Access Only\, NY\, United States
CATEGORIES:Classes
ATTACH;FMTTYPE=image/jpeg:https://bj.org/wp-content/uploads/2023/01/1905-0272-2048x1152-1.jpeg
ORGANIZER;CN="B'nai Jeshurun":MAILTO:info@bj.org
END:VEVENT
BEGIN:VEVENT
DTSTART;TZID=America/New_York:20260303T153000
DTEND;TZID=America/New_York:20260303T183000
DTSTAMP:20260421T194006
CREATED:20260114T183314Z
LAST-MODIFIED:20260209T185725Z
UID:10019067-1772551800-1772562600@bj.org
SUMMARY:Purim Carnival
DESCRIPTION:
URL:https://bj.org/event/purim-carnival-4/
LOCATION:Sanctuary\, 257 West 88th Street\, New York\, NY\, 10024\, United States
CATEGORIES:Events,Featured on Home Page,Holidays,Purim
ATTACH;FMTTYPE=image/png:https://bj.org/wp-content/uploads/2026/01/Purim-Carnival-Comms-Image.png
ORGANIZER;CN="B'nai Jeshurun":MAILTO:info@bj.org
END:VEVENT
BEGIN:VEVENT
DTSTART;TZID=America/New_York:20260303T074500
DTEND;TZID=America/New_York:20260303T091500
DTSTAMP:20260421T194006
CREATED:20260202T160654Z
LAST-MODIFIED:20260302T202937Z
UID:10019103-1772523900-1772529300@bj.org
SUMMARY:Shaharit and Megillah Reading
DESCRIPTION:
URL:https://bj.org/event/shaharit-and-megillah-reading-2/
LOCATION:Rabbi Rachel Cowan Chapel\, 270 West 89th Street\, New York\, NY\, 10024\, United States
CATEGORIES:Services,Featured in Next Service,Holidays,Purim
ATTACH;FMTTYPE=image/jpeg:https://bj.org/wp-content/uploads/2019/10/1905-0355-1.jpg
ORGANIZER;CN="B'nai Jeshurun":MAILTO:info@bj.org
END:VEVENT
BEGIN:VEVENT
DTSTART;TZID=America/New_York:20260302T193000
DTEND;TZID=America/New_York:20260302T203000
DTSTAMP:20260421T194006
CREATED:20210311T194417Z
LAST-MODIFIED:20260330T193129Z
UID:10007543-1772479800-1772483400@bj.org
SUMMARY:Connections Cocktail Hour
DESCRIPTION:
URL:https://bj.org/event/connections-cocktail-hour-2/2026-03-02/
LOCATION:Remote Access Only\, NY\, United States
CATEGORIES:Events
ATTACH;FMTTYPE=image/jpeg:https://bj.org/wp-content/uploads/2022/04/best-italian-cocktails.jpg
ORGANIZER;CN="B'nai Jeshurun":MAILTO:info@bj.org
END:VEVENT
BEGIN:VEVENT
DTSTART;TZID=America/New_York:20260302T191500
DTEND;TZID=America/New_York:20260302T211500
DTSTAMP:20260421T194006
CREATED:20260202T154437Z
LAST-MODIFIED:20260302T202945Z
UID:10019102-1772478900-1772486100@bj.org
SUMMARY:Community Megillah Reading
DESCRIPTION:
URL:https://bj.org/event/community-megillah-reading-2/
LOCATION:Sanctuary\, 257 West 88th Street\, New York\, NY\, 10024\, United States
CATEGORIES:Services,Featured in Next Service,Featured on Home Page,Holidays,Purim
ATTACH;FMTTYPE=image/jpeg:https://bj.org/wp-content/uploads/2026/02/827dde70-b9be-469a-b6fb-fe3ee09ac9e4-scaled.jpg
ORGANIZER;CN="B'nai Jeshurun":MAILTO:info@bj.org
END:VEVENT
BEGIN:VEVENT
DTSTART;TZID=America/New_York:20260302T180000
DTEND;TZID=America/New_York:20260302T191500
DTSTAMP:20260421T194006
CREATED:20260127T213648Z
LAST-MODIFIED:20260223T174438Z
UID:10019096-1772474400-1772478900@bj.org
SUMMARY:Aviv Purim Happy Hour
DESCRIPTION:
URL:https://bj.org/event/aviv-purim-happy-hour/
LOCATION:Rabbi Rachel Cowan Chapel\, 270 West 89th Street\, New York\, NY\, 10024\, United States
CATEGORIES:Events,Featured on Home Page,Holidays,Purim
ATTACH;FMTTYPE=image/jpeg:https://bj.org/wp-content/uploads/2019/10/1905-0355-1.jpg
ORGANIZER;CN="B'nai Jeshurun":MAILTO:info@bj.org
END:VEVENT
BEGIN:VEVENT
DTSTART;TZID=America/New_York:20260302T171500
DTEND;TZID=America/New_York:20260302T184500
DTSTAMP:20260421T194006
CREATED:20250718T192215Z
LAST-MODIFIED:20260224T184307Z
UID:10017041-1772471700-1772477100@bj.org
SUMMARY:Early Childhood Megillah Reading and Purim Party (Age 6 and Under)
DESCRIPTION:
URL:https://bj.org/event/early-childhood-megillah-reading-and-purim-party-age-6-and-under/
LOCATION:Sanctuary\, 257 West 88th Street\, New York\, NY\, 10024\, United States
CATEGORIES:Featured on Home Page,Holidays,Purim
ATTACH;FMTTYPE=image/png:https://bj.org/wp-content/uploads/2025/02/community-megillah-reading.png
ORGANIZER;CN="B'nai Jeshurun":MAILTO:info@bj.org
END:VEVENT
BEGIN:VEVENT
DTSTART;TZID=America/New_York:20260302T074500
DTEND;TZID=America/New_York:20260302T084500
DTSTAMP:20260421T194006
CREATED:20260219T144601Z
LAST-MODIFIED:20260226T185911Z
UID:10019122-1772437500-1772441100@bj.org
SUMMARY:Shaharit
DESCRIPTION:
URL:https://bj.org/event/shaharit-torah/2026-03-02/
LOCATION:Rabbi Rachel Cowan Chapel\, 270 West 89th Street\, New York\, NY\, 10024\, United States
CATEGORIES:Services,Featured in Next Service
ATTACH;FMTTYPE=image/jpeg:https://bj.org/wp-content/uploads/2019/10/1905-0272.jpg
ORGANIZER;CN="B'nai Jeshurun":MAILTO:info@bj.org
END:VEVENT
BEGIN:VEVENT
DTSTART;TZID=America/New_York:20260301T183000
DTEND;TZID=America/New_York:20260301T190000
DTSTAMP:20260421T194006
CREATED:20250916T192848Z
LAST-MODIFIED:20260219T191516Z
UID:10019310-1772389800-1772391600@bj.org
SUMMARY:Arvit (Online)
DESCRIPTION:
URL:https://bj.org/event/arvit-online-2-copy/2026-03-01/
LOCATION:Remote Access Only\, NY\, United States
CATEGORIES:Services,Featured in Next Service
ATTACH;FMTTYPE=image/jpeg:https://bj.org/wp-content/uploads/2024/03/1905-0258-2048x1536-1.jpg
ORGANIZER;CN="B'nai Jeshurun":MAILTO:info@bj.org
END:VEVENT
BEGIN:VEVENT
DTSTART;TZID=America/New_York:20260301T113000
DTEND;TZID=America/New_York:20260301T133000
DTSTAMP:20260421T194006
CREATED:20260205T195921Z
LAST-MODIFIED:20260205T210305Z
UID:10019114-1772364600-1772371800@bj.org
SUMMARY:Pack the Joy!
DESCRIPTION:
URL:https://bj.org/event/pack-the-joy/
CATEGORIES:Events,Holidays,Purim
ATTACH;FMTTYPE=image/jpeg:https://bj.org/wp-content/uploads/2023/01/purim-mishloah-manot_shutterstock_555803737-2-1024x607-1.jpg
ORGANIZER;CN="B'nai Jeshurun":MAILTO:info@bj.org
END:VEVENT
BEGIN:VEVENT
DTSTART;TZID=America/New_York:20260301T093000
DTEND;TZID=America/New_York:20260301T103000
DTSTAMP:20260421T194006
CREATED:20230926T191607Z
LAST-MODIFIED:20260226T185930Z
UID:10018726-1772357400-1772361000@bj.org
SUMMARY:Shaharit (Online)
DESCRIPTION:
URL:https://bj.org/event/shaharit-sunday/2026-03-01/
LOCATION:Remote Access Only\, NY\, United States
CATEGORIES:Services,Featured in Next Service
ATTACH;FMTTYPE=image/jpeg:https://bj.org/wp-content/uploads/2019/10/1905-0280.jpg
ORGANIZER;CN="B'nai Jeshurun":MAILTO:info@bj.org
END:VEVENT
BEGIN:VEVENT
DTSTART;TZID=America/New_York:20260228T183500
DTEND;TZID=America/New_York:20260228T190000
DTSTAMP:20260421T194006
CREATED:20250916T171126Z
LAST-MODIFIED:20260302T172828Z
UID:10018249-1772303700-1772305200@bj.org
SUMMARY:Arvit and Havdalah
DESCRIPTION:
URL:https://bj.org/event/arvit-and-havdalah-10/2026-02-28/
LOCATION:Remote Access Only\, NY\, United States
CATEGORIES:Services,Featured in Next Service
ATTACH;FMTTYPE=image/jpeg:https://bj.org/wp-content/uploads/2020/03/havdallah-shutterstock_1385831468.jpg
ORGANIZER;CN="B'nai Jeshurun":MAILTO:info@bj.org
END:VEVENT
BEGIN:VEVENT
DTSTART;TZID=America/New_York:20260228T170000
DTEND;TZID=America/New_York:20260228T190000
DTSTAMP:20260421T194006
CREATED:20260108T144001Z
LAST-MODIFIED:20260223T150754Z
UID:10019063-1772298000-1772305200@bj.org
SUMMARY:Stepping into Torah: B-Mitzvah Opening Ritual
DESCRIPTION:
URL:https://bj.org/event/stepping-into-torah-b-mitzvah-opening-ritual/
LOCATION:Sanctuary\, 257 West 88th Street\, New York\, NY\, 10024\, United States
CATEGORIES:Events,Featured on Home Page
ATTACH;FMTTYPE=image/jpeg:https://bj.org/wp-content/uploads/2023/01/1905-0385.jpg
ORGANIZER;CN="B'nai Jeshurun":MAILTO:info@bj.org
END:VEVENT
BEGIN:VEVENT
DTSTART;TZID=America/New_York:20260228T110000
DTEND;TZID=America/New_York:20260228T121500
DTSTAMP:20260421T194006
CREATED:20250903T174558Z
LAST-MODIFIED:20250903T181001Z
UID:10017401-1772276400-1772280900@bj.org
SUMMARY:Elementary School Shabbat Morning Services
DESCRIPTION:
URL:https://bj.org/event/elementary-school-shabbat-morning-services/2026-02-28/
LOCATION:Reception Room\, 270 West 89th Street\, New York\, NY\, 10024\, United States
CATEGORIES:Services
ATTACH;FMTTYPE=image/jpeg:https://bj.org/wp-content/uploads/2019/10/1905-0194.jpg
ORGANIZER;CN="B'nai Jeshurun":MAILTO:info@bj.org
END:VEVENT
BEGIN:VEVENT
DTSTART;TZID=America/New_York:20260228T110000
DTEND;TZID=America/New_York:20260228T120000
DTSTAMP:20260421T194006
CREATED:20250522T203304Z
LAST-MODIFIED:20250728T170021Z
UID:10017120-1772276400-1772280000@bj.org
SUMMARY:Early Childhood Shabbat Service (Age 6 and Under)
DESCRIPTION:
URL:https://bj.org/event/early-childhood-shabbat-service-age-6-and-under-3/2026-02-28/
LOCATION:Rabbi Rachel Cowan Chapel\, 270 West 89th Street\, New York\, NY\, 10024\, United States
CATEGORIES:Services
ATTACH;FMTTYPE=image/jpeg:https://bj.org/wp-content/uploads/2021/04/IMG_9480-scaled.jpg
ORGANIZER;CN="B'nai Jeshurun":MAILTO:info@bj.org
END:VEVENT
BEGIN:VEVENT
DTSTART;TZID=America/New_York:20260228T093000
DTEND;TZID=America/New_York:20260228T120000
DTSTAMP:20260421T194006
CREATED:20230309T215703Z
LAST-MODIFIED:20251103T170810Z
UID:10018191-1772271000-1772280000@bj.org
SUMMARY:Shabbat Morning Services
DESCRIPTION:
URL:https://bj.org/event/shabbat-morning-services/2026-02-28/
LOCATION:Sanctuary\, 257 West 88th Street\, New York\, NY\, 10024\, United States
CATEGORIES:Services,Featured in Next Service
ATTACH;FMTTYPE=image/jpeg:https://bj.org/wp-content/uploads/2023/01/1905-0386.jpg
ORGANIZER;CN="B'nai Jeshurun":MAILTO:info@bj.org
END:VEVENT
BEGIN:VEVENT
DTSTART;TZID=America/New_York:20260228T084500
DTEND;TZID=America/New_York:20260228T092500
DTSTAMP:20260421T194006
CREATED:20230822T153928Z
LAST-MODIFIED:20260313T190320Z
UID:10018678-1772268300-1772270700@bj.org
SUMMARY:Hakhanah LaTefillah
DESCRIPTION:
URL:https://bj.org/event/hakhanah-latefillah-4/2026-02-28/
LOCATION:Rabbi Rachel Cowan Chapel\, 270 West 89th Street\, New York\, NY\, 10024\, United States
CATEGORIES:Events,Services
ATTACH;FMTTYPE=image/jpeg:https://bj.org/wp-content/uploads/2020/11/1905-0258-scaled.jpg
ORGANIZER;CN="B'nai Jeshurun":MAILTO:info@bj.org
END:VEVENT
BEGIN:VEVENT
DTSTART;TZID=America/New_York:20260227T183000
DTEND;TZID=America/New_York:20260227T220000
DTSTAMP:20260421T194006
CREATED:20260115T192327Z
LAST-MODIFIED:20260202T184705Z
UID:10019069-1772217000-1772229600@bj.org
SUMMARY:Aviv Shabbat
DESCRIPTION:
URL:https://bj.org/event/aviv-shabbat-14/
LOCATION:Community House\, 270 West 89th Street\, New York\, NY\, 10024\, United States
CATEGORIES:Events,Featured on Home Page
ATTACH;FMTTYPE=image/jpeg:https://bj.org/wp-content/uploads/2024/08/dinnerpic.jpg
ORGANIZER;CN="B'nai Jeshurun":MAILTO:info@bj.org
END:VEVENT
BEGIN:VEVENT
DTSTART;TZID=America/New_York:20260227T181500
DTEND;TZID=America/New_York:20260227T193000
DTSTAMP:20260421T194006
CREATED:20251031T191519Z
LAST-MODIFIED:20251031T191723Z
UID:10018142-1772216100-1772220600@bj.org
SUMMARY:Kabbalat Shabbat
DESCRIPTION:
URL:https://bj.org/event/kabbalat-shabbat-et/2026-02-27/
LOCATION:Sanctuary\, 257 West 88th Street\, New York\, NY\, 10024\, United States
CATEGORIES:Services,Featured in Next Service
ATTACH;FMTTYPE=image/png:https://bj.org/wp-content/uploads/2024/03/bj-dancing.png
ORGANIZER;CN="B'nai Jeshurun":MAILTO:info@bj.org
END:VEVENT
BEGIN:VEVENT
DTSTART;TZID=America/New_York:20260227T101500
DTEND;TZID=America/New_York:20260227T110000
DTSTAMP:20260421T194006
CREATED:20250724T194835Z
LAST-MODIFIED:20260421T150822Z
UID:10017085-1772187300-1772190000@bj.org
SUMMARY:Bim Bam
DESCRIPTION:
URL:https://bj.org/event/bim-bam-5/2026-02-27/
LOCATION:Sanctuary\, 257 West 88th Street\, New York\, NY\, 10024\, United States
CATEGORIES:Classes
ATTACH;FMTTYPE=image/png:https://bj.org/wp-content/uploads/2023/03/Bim-Bam-photo.png
ORGANIZER;CN="B'nai Jeshurun":MAILTO:info@bj.org
END:VEVENT
BEGIN:VEVENT
DTSTART;TZID=America/New_York:20260227T084500
DTEND;TZID=America/New_York:20260227T094500
DTSTAMP:20260421T194006
CREATED:20251010T143215Z
LAST-MODIFIED:20251010T154144Z
UID:10018056-1772181900-1772185500@bj.org
SUMMARY:Parashat Hashavua with Rabbinic Fellow Iliana Brodsky
DESCRIPTION:
URL:https://bj.org/event/parashat-hashavua-with-rabbinic-fellow-iliana-brodsky/2026-02-27/
LOCATION:Remote Access Only\, NY\, United States
CATEGORIES:Classes
ATTACH;FMTTYPE=image/jpeg:https://bj.org/wp-content/uploads/2023/01/1905-0383.jpg
ORGANIZER;CN="B'nai Jeshurun":MAILTO:info@bj.org
END:VEVENT
BEGIN:VEVENT
DTSTART;TZID=America/New_York:20260227T074500
DTEND;TZID=America/New_York:20260227T083000
DTSTAMP:20260421T194006
CREATED:20260219T150803Z
LAST-MODIFIED:20260320T152324Z
UID:10019197-1772178300-1772181000@bj.org
SUMMARY:Shaharit
DESCRIPTION:
URL:https://bj.org/event/shaharit/2026-02-27/
LOCATION:Rabbi Rachel Cowan Chapel\, 270 West 89th Street\, New York\, NY\, 10024\, United States
CATEGORIES:Services,Featured in Next Service
ATTACH;FMTTYPE=image/jpeg:https://bj.org/wp-content/uploads/2019/10/1905-0275.jpg
ORGANIZER;CN="B'nai Jeshurun":MAILTO:info@bj.org
END:VEVENT
BEGIN:VEVENT
DTSTART;TZID=America/New_York:20260226T183000
DTEND;TZID=America/New_York:20260226T190000
DTSTAMP:20260421T194006
CREATED:20250916T192848Z
LAST-MODIFIED:20260219T191516Z
UID:10019060-1772130600-1772132400@bj.org
SUMMARY:Arvit (Online)
DESCRIPTION:
URL:https://bj.org/event/arvit-online-2-copy/2026-02-26/
LOCATION:Remote Access Only\, NY\, United States
CATEGORIES:Services,Featured in Next Service
ATTACH;FMTTYPE=image/jpeg:https://bj.org/wp-content/uploads/2024/03/1905-0258-2048x1536-1.jpg
ORGANIZER;CN="B'nai Jeshurun":MAILTO:info@bj.org
END:VEVENT
BEGIN:VEVENT
DTSTART;TZID=America/New_York:20260226T154500
DTEND;TZID=America/New_York:20260226T164500
DTSTAMP:20260421T194006
CREATED:20221215T210758Z
LAST-MODIFIED:20260203T171538Z
UID:10014898-1772120700-1772124300@bj.org
SUMMARY:A Taste of Talmud: Daf Yomi with Rabbi Shuli Passow
DESCRIPTION:
URL:https://bj.org/event/a-taste-of-talmud-daf-yomi-with-rabbi-shuli-passow/2026-02-26/
LOCATION:Remote Access Only\, NY\, United States
CATEGORIES:Classes
ATTACH;FMTTYPE=image/png:https://bj.org/wp-content/uploads/2022/12/Daf-Yomi-Shuli-1.png
ORGANIZER;CN="B'nai Jeshurun":MAILTO:info@bj.org
END:VEVENT
BEGIN:VEVENT
DTSTART;TZID=America/New_York:20260226T123000
DTEND;TZID=America/New_York:20260226T133000
DTSTAMP:20260421T194006
CREATED:20251006T145910Z
LAST-MODIFIED:20251211T204907Z
UID:10018293-1772109000-1772112600@bj.org
SUMMARY:In the Mirror: Lunch and Learn with Rabbi Roly Matalon
DESCRIPTION:
URL:https://bj.org/event/in-the-mirror-lunch-and-learn-with-rabbi-roly-matalon/2026-02-26/
LOCATION:Remote Access Only\, NY\, United States
CATEGORIES:Classes
ATTACH;FMTTYPE=image/jpeg:https://bj.org/wp-content/uploads/2023/01/1905-0308.jpg
ORGANIZER;CN="B'nai Jeshurun":MAILTO:info@bj.org
END:VEVENT
BEGIN:VEVENT
DTSTART;TZID=America/New_York:20260226T074500
DTEND;TZID=America/New_York:20260226T084500
DTSTAMP:20260421T194006
CREATED:20260219T144601Z
LAST-MODIFIED:20260226T185911Z
UID:10019121-1772091900-1772095500@bj.org
SUMMARY:Shaharit
DESCRIPTION:
URL:https://bj.org/event/shaharit-torah/2026-02-26/
LOCATION:Rabbi Rachel Cowan Chapel\, 270 West 89th Street\, New York\, NY\, 10024\, United States
CATEGORIES:Services,Featured in Next Service
ATTACH;FMTTYPE=image/jpeg:https://bj.org/wp-content/uploads/2019/10/1905-0272.jpg
ORGANIZER;CN="B'nai Jeshurun":MAILTO:info@bj.org
END:VEVENT
END:VCALENDAR