BEGIN:VCALENDAR
VERSION:2.0
PRODID:-//B&#039;nai Jeshurun - ECPv6.15.20//NONSGML v1.0//EN
CALSCALE:GREGORIAN
METHOD:PUBLISH
X-ORIGINAL-URL:https://bj.org
X-WR-CALDESC:Events for B&#039;nai Jeshurun
REFRESH-INTERVAL;VALUE=DURATION:PT1H
X-Robots-Tag:noindex
X-PUBLISHED-TTL:PT1H
BEGIN:VTIMEZONE
TZID:America/New_York
BEGIN:DAYLIGHT
TZOFFSETFROM:-0500
TZOFFSETTO:-0400
TZNAME:EDT
DTSTART:20250309T070000
END:DAYLIGHT
BEGIN:STANDARD
TZOFFSETFROM:-0400
TZOFFSETTO:-0500
TZNAME:EST
DTSTART:20251102T060000
END:STANDARD
BEGIN:DAYLIGHT
TZOFFSETFROM:-0500
TZOFFSETTO:-0400
TZNAME:EDT
DTSTART:20260308T070000
END:DAYLIGHT
BEGIN:STANDARD
TZOFFSETFROM:-0400
TZOFFSETTO:-0500
TZNAME:EST
DTSTART:20261101T060000
END:STANDARD
BEGIN:DAYLIGHT
TZOFFSETFROM:-0500
TZOFFSETTO:-0400
TZNAME:EDT
DTSTART:20270314T070000
END:DAYLIGHT
BEGIN:STANDARD
TZOFFSETFROM:-0400
TZOFFSETTO:-0500
TZNAME:EST
DTSTART:20271107T060000
END:STANDARD
END:VTIMEZONE
BEGIN:VEVENT
DTSTART;TZID=America/New_York:20260313T183000
DTEND;TZID=America/New_York:20260313T203000
DTSTAMP:20260421T164133
CREATED:20250822T181824Z
LAST-MODIFIED:20260306T160137Z
UID:10017204-1773426600-1773433800@bj.org
SUMMARY:Hitoreri
DESCRIPTION:
URL:https://bj.org/event/hitoreri-8-7/
LOCATION:Rabbi Rachel Cowan Chapel and Middle Room\, 270 West 89th Street\, New York\, 10024\, United States
CATEGORIES:Events,Services
ATTACH;FMTTYPE=image/jpeg:https://bj.org/wp-content/uploads/2023/01/1905-0080.jpg
ORGANIZER;CN="B'nai Jeshurun":MAILTO:info@bj.org
END:VEVENT
BEGIN:VEVENT
DTSTART;TZID=America/New_York:20260313T183000
DTEND;TZID=America/New_York:20260313T194500
DTSTAMP:20260421T164133
CREATED:20251031T191749Z
LAST-MODIFIED:20251031T195122Z
UID:10018145-1773426600-1773431100@bj.org
SUMMARY:Kabbalat Shabbat
DESCRIPTION:
URL:https://bj.org/event/kabbalat-shabbat-edst/2026-03-13/
LOCATION:Sanctuary\, 257 West 88th Street\, New York\, NY\, 10024\, United States
CATEGORIES:Services,Featured in Next Service
ATTACH;FMTTYPE=image/png:https://bj.org/wp-content/uploads/2024/03/bj-dancing.png
ORGANIZER;CN="B'nai Jeshurun":MAILTO:info@bj.org
END:VEVENT
BEGIN:VEVENT
DTSTART;TZID=America/New_York:20260313T173000
DTEND;TZID=America/New_York:20260313T203000
DTSTAMP:20260421T164133
CREATED:20251210T141222Z
LAST-MODIFIED:20251210T141222Z
UID:10018682-1773423000-1773433800@bj.org
SUMMARY:Likrat Shabbat (K-6th Grade)
DESCRIPTION:
URL:https://bj.org/event/likrat-shabbat-k-6th-grade-5/
LOCATION:Reception Room and Middle Room\, 270 West 89th Street\, New York\, NY\, 10024\, United States
CATEGORIES:Events
ATTACH;FMTTYPE=image/jpeg:https://bj.org/wp-content/uploads/2023/01/1905-0080.jpg
ORGANIZER;CN="B'nai Jeshurun":MAILTO:info@bj.org
END:VEVENT
BEGIN:VEVENT
DTSTART;TZID=America/New_York:20260313T171500
DTEND;TZID=America/New_York:20260313T193000
DTSTAMP:20260421T164133
CREATED:20250730T132645Z
LAST-MODIFIED:20250730T132645Z
UID:10017139-1773422100-1773430200@bj.org
SUMMARY:Tot Shabbat
DESCRIPTION:
URL:https://bj.org/event/tot-shabbat-11-6/
LOCATION:Sanctuary and Rabbi Rachel Cowan Chapel\, 257 West 88th Street\, New York\, NY\, 10024\, United States
CATEGORIES:Events
ATTACH;FMTTYPE=image/jpeg:https://bj.org/wp-content/uploads/2025/07/early-childhood-retreat-meal_2025-1.jpg
ORGANIZER;CN="B'nai Jeshurun":MAILTO:info@bj.org
END:VEVENT
BEGIN:VEVENT
DTSTART;TZID=America/New_York:20260313T101500
DTEND;TZID=America/New_York:20260313T110000
DTSTAMP:20260421T164133
CREATED:20250724T194835Z
LAST-MODIFIED:20260421T150822Z
UID:10017087-1773396900-1773399600@bj.org
SUMMARY:Bim Bam
DESCRIPTION:
URL:https://bj.org/event/bim-bam-5/2026-03-13/
LOCATION:Sanctuary\, 257 West 88th Street\, New York\, NY\, 10024\, United States
CATEGORIES:Classes
ATTACH;FMTTYPE=image/png:https://bj.org/wp-content/uploads/2023/03/Bim-Bam-photo.png
ORGANIZER;CN="B'nai Jeshurun":MAILTO:info@bj.org
END:VEVENT
BEGIN:VEVENT
DTSTART;TZID=America/New_York:20260313T083000
DTEND;TZID=America/New_York:20260313T093000
DTSTAMP:20260421T164133
CREATED:20260305T195311Z
LAST-MODIFIED:20260305T195311Z
UID:10019737-1773390600-1773394200@bj.org
SUMMARY:Parashat Hashavua with Rabbinic Fellow Iliana Brodsky
DESCRIPTION:
URL:https://bj.org/event/parashat-hashavua-with-rabbinic-fellow-iliana-brodsky-4/2026-03-13/
LOCATION:Remote Access Only\, NY\, United States
CATEGORIES:Classes
ATTACH;FMTTYPE=image/jpeg:https://bj.org/wp-content/uploads/2023/01/1905-0383.jpg
ORGANIZER;CN="B'nai Jeshurun":MAILTO:info@bj.org
END:VEVENT
BEGIN:VEVENT
DTSTART;TZID=America/New_York:20260313T074500
DTEND;TZID=America/New_York:20260313T083000
DTSTAMP:20260421T164133
CREATED:20260219T150803Z
LAST-MODIFIED:20260320T152324Z
UID:10019202-1773387900-1773390600@bj.org
SUMMARY:Shaharit
DESCRIPTION:
URL:https://bj.org/event/shaharit/2026-03-13/
LOCATION:Rabbi Rachel Cowan Chapel\, 270 West 89th Street\, New York\, NY\, 10024\, United States
CATEGORIES:Services,Featured in Next Service
ATTACH;FMTTYPE=image/jpeg:https://bj.org/wp-content/uploads/2019/10/1905-0275.jpg
ORGANIZER;CN="B'nai Jeshurun":MAILTO:info@bj.org
END:VEVENT
BEGIN:VEVENT
DTSTART;TZID=America/New_York:20260312T190000
DTEND;TZID=America/New_York:20260312T203000
DTSTAMP:20260421T164133
CREATED:20251217T213159Z
LAST-MODIFIED:20260309T173151Z
UID:10018709-1773342000-1773347400@bj.org
SUMMARY:A New Era? Israeli Politics\, America-Israel and Israel-Diaspora Relations
DESCRIPTION:
URL:https://bj.org/event/a-new-era-israeli-politics-america-israel-and-israel-diaspora-relations/
LOCATION:Remote Access Only\, NY\, United States
CATEGORIES:Events
ATTACH;FMTTYPE=image/png:https://bj.org/wp-content/uploads/2025/12/Crossroads-March-12.png
ORGANIZER;CN="B'nai Jeshurun":MAILTO:info@bj.org
END:VEVENT
BEGIN:VEVENT
DTSTART;TZID=America/New_York:20260312T183000
DTEND;TZID=America/New_York:20260312T190000
DTSTAMP:20260421T164133
CREATED:20250702T195231Z
LAST-MODIFIED:20260407T162243Z
UID:10019429-1773340200-1773342000@bj.org
SUMMARY:Minha (Online)
DESCRIPTION:
URL:https://bj.org/event/minha-online-4/2026-03-12/
LOCATION:Remote Access Only\, NY\, United States
CATEGORIES:Services,Featured in Next Service
ATTACH;FMTTYPE=image/jpeg:https://bj.org/wp-content/uploads/2024/03/1905-0258-2048x1536-1.jpg
ORGANIZER;CN="B'nai Jeshurun":MAILTO:info@bj.org
END:VEVENT
BEGIN:VEVENT
DTSTART;TZID=America/New_York:20260312T154500
DTEND;TZID=America/New_York:20260312T164500
DTSTAMP:20260421T164133
CREATED:20221215T210758Z
LAST-MODIFIED:20260203T171538Z
UID:10014900-1773330300-1773333900@bj.org
SUMMARY:A Taste of Talmud: Daf Yomi with Rabbi Shuli Passow
DESCRIPTION:
URL:https://bj.org/event/a-taste-of-talmud-daf-yomi-with-rabbi-shuli-passow/2026-03-12/
LOCATION:Remote Access Only\, NY\, United States
CATEGORIES:Classes
ATTACH;FMTTYPE=image/png:https://bj.org/wp-content/uploads/2022/12/Daf-Yomi-Shuli-1.png
ORGANIZER;CN="B'nai Jeshurun":MAILTO:info@bj.org
END:VEVENT
BEGIN:VEVENT
DTSTART;TZID=America/New_York:20260312T074500
DTEND;TZID=America/New_York:20260312T084500
DTSTAMP:20260421T164133
CREATED:20260219T144601Z
LAST-MODIFIED:20260226T185911Z
UID:10019125-1773301500-1773305100@bj.org
SUMMARY:Shaharit
DESCRIPTION:
URL:https://bj.org/event/shaharit-torah/2026-03-12/
LOCATION:Rabbi Rachel Cowan Chapel\, 270 West 89th Street\, New York\, NY\, 10024\, United States
CATEGORIES:Services,Featured in Next Service
ATTACH;FMTTYPE=image/jpeg:https://bj.org/wp-content/uploads/2019/10/1905-0272.jpg
ORGANIZER;CN="B'nai Jeshurun":MAILTO:info@bj.org
END:VEVENT
BEGIN:VEVENT
DTSTART;TZID=America/New_York:20260312T070000
DTEND;TZID=America/New_York:20260312T090000
DTSTAMP:20260421T164133
CREATED:20260217T140211Z
LAST-MODIFIED:20260302T220942Z
UID:10019119-1773298800-1773306000@bj.org
SUMMARY:Aviv Volunteer Shift with WSCAH
DESCRIPTION:
URL:https://bj.org/event/aviv-volunteer-shift-with-wscah/
LOCATION:St. Paul and St. Andrew (SPSA)\, 263 West 86th Street\, New York\, 10024\, United States
CATEGORIES:Events
ATTACH;FMTTYPE=image/png:https://bj.org/wp-content/uploads/2026/01/WSCAH-image.png
ORGANIZER;CN="B'nai Jeshurun":MAILTO:info@bj.org
END:VEVENT
BEGIN:VEVENT
DTSTART;TZID=America/New_York:20260311T183000
DTEND;TZID=America/New_York:20260311T190000
DTSTAMP:20260421T164133
CREATED:20250702T195231Z
LAST-MODIFIED:20260407T162243Z
UID:10019428-1773253800-1773255600@bj.org
SUMMARY:Minha (Online)
DESCRIPTION:
URL:https://bj.org/event/minha-online-4/2026-03-11/
LOCATION:Remote Access Only\, NY\, United States
CATEGORIES:Services,Featured in Next Service
ATTACH;FMTTYPE=image/jpeg:https://bj.org/wp-content/uploads/2024/03/1905-0258-2048x1536-1.jpg
ORGANIZER;CN="B'nai Jeshurun":MAILTO:info@bj.org
END:VEVENT
BEGIN:VEVENT
DTSTART;TZID=America/New_York:20260311T083000
DTEND;TZID=America/New_York:20260311T091500
DTSTAMP:20260421T164133
CREATED:20221215T212948Z
LAST-MODIFIED:20260415T133805Z
UID:10019711-1773217800-1773220500@bj.org
SUMMARY:Jewish Meditation with Rabbi Shuli Passow
DESCRIPTION:
URL:https://bj.org/event/jewish-meditation-with-rabbi-shuli-passow-3/2026-03-11/
LOCATION:Remote Access Only\, NY\, United States
CATEGORIES:Classes
ATTACH;FMTTYPE=image/jpeg:https://bj.org/wp-content/uploads/2022/12/Daily-Meditation-Shuli-Image.jpg
ORGANIZER;CN="B'nai Jeshurun":MAILTO:info@bj.org
END:VEVENT
BEGIN:VEVENT
DTSTART;TZID=America/New_York:20260311T074500
DTEND;TZID=America/New_York:20260311T083000
DTSTAMP:20260421T164133
CREATED:20260219T150803Z
LAST-MODIFIED:20260320T152324Z
UID:10019201-1773215100-1773217800@bj.org
SUMMARY:Shaharit
DESCRIPTION:
URL:https://bj.org/event/shaharit/2026-03-11/
LOCATION:Rabbi Rachel Cowan Chapel\, 270 West 89th Street\, New York\, NY\, 10024\, United States
CATEGORIES:Services,Featured in Next Service
ATTACH;FMTTYPE=image/jpeg:https://bj.org/wp-content/uploads/2019/10/1905-0275.jpg
ORGANIZER;CN="B'nai Jeshurun":MAILTO:info@bj.org
END:VEVENT
BEGIN:VEVENT
DTSTART;TZID=America/New_York:20260310T190000
DTEND;TZID=America/New_York:20260310T210000
DTSTAMP:20260421T164133
CREATED:20250624T170554Z
LAST-MODIFIED:20260105T195343Z
UID:10016883-1773169200-1773176400@bj.org
SUMMARY:Introduction to Judaism
DESCRIPTION:
URL:https://bj.org/event/intro-to-judaism-4/2026-03-10/
LOCATION:Rabbi Rachel Cowan Chapel\, 270 West 89th Street\, New York\, NY\, 10024\, United States
CATEGORIES:Classes
ATTACH;FMTTYPE=image/jpeg:https://bj.org/wp-content/uploads/2024/10/whi5A0o8.jpg
ORGANIZER;CN="B'nai Jeshurun":MAILTO:info@bj.org
END:VEVENT
BEGIN:VEVENT
DTSTART;TZID=America/New_York:20260310T190000
DTEND;TZID=America/New_York:20260310T203000
DTSTAMP:20260421T164133
CREATED:20260226T210700Z
LAST-MODIFIED:20260226T210700Z
UID:10019715-1773169200-1773174600@bj.org
SUMMARY:Attorney Training: Defending Asylum Seekers
DESCRIPTION:
URL:https://bj.org/event/attorney-training-defending-asylum-seekers/
LOCATION:Middle Room\, 270 West 89th Street\, New York\, NY\, 10024\, United States
CATEGORIES:Events
ATTACH;FMTTYPE=image/jpeg:https://bj.org/wp-content/uploads/2019/10/1905-0310.jpg
ORGANIZER;CN="B'nai Jeshurun":MAILTO:info@bj.org
END:VEVENT
BEGIN:VEVENT
DTSTART;TZID=America/New_York:20260310T183000
DTEND;TZID=America/New_York:20260310T190000
DTSTAMP:20260421T164133
CREATED:20250702T195231Z
LAST-MODIFIED:20260407T162243Z
UID:10019427-1773167400-1773169200@bj.org
SUMMARY:Minha (Online)
DESCRIPTION:
URL:https://bj.org/event/minha-online-4/2026-03-10/
LOCATION:Remote Access Only\, NY\, United States
CATEGORIES:Services,Featured in Next Service
ATTACH;FMTTYPE=image/jpeg:https://bj.org/wp-content/uploads/2024/03/1905-0258-2048x1536-1.jpg
ORGANIZER;CN="B'nai Jeshurun":MAILTO:info@bj.org
END:VEVENT
BEGIN:VEVENT
DTSTART;TZID=America/New_York:20260310T173000
DTEND;TZID=America/New_York:20260310T181500
DTSTAMP:20260421T164133
CREATED:20230302T235540Z
LAST-MODIFIED:20260313T190025Z
UID:10019763-1773163800-1773166500@bj.org
SUMMARY:Mindfulness Prayer Practice Group
DESCRIPTION:
URL:https://bj.org/event/mindful-prayer-havurah/2026-03-10/
LOCATION:Remote Access Only\, NY\, United States
CATEGORIES:Classes
ATTACH;FMTTYPE=image/jpeg:https://bj.org/wp-content/uploads/2023/01/1905-0272-2048x1152-1.jpeg
ORGANIZER;CN="B'nai Jeshurun":MAILTO:info@bj.org
END:VEVENT
BEGIN:VEVENT
DTSTART;TZID=America/New_York:20260310T161500
DTEND;TZID=America/New_York:20260310T170000
DTSTAMP:20260421T164133
CREATED:20250424T153154Z
LAST-MODIFIED:20250916T152500Z
UID:10017185-1773159300-1773162000@bj.org
SUMMARY:Shirah with Shira
DESCRIPTION:
URL:https://bj.org/event/shirah-with-shira-4/2026-03-10/
LOCATION:Rabbi Rachel Cowan Chapel\, 270 West 89th Street\, New York\, NY\, 10024\, United States
CATEGORIES:Classes
ATTACH;FMTTYPE=image/jpeg:https://bj.org/wp-content/uploads/2020/03/Shirah-Shira.jpg
ORGANIZER;CN="B'nai Jeshurun":MAILTO:info@bj.org
END:VEVENT
BEGIN:VEVENT
DTSTART;TZID=America/New_York:20260310T123000
DTEND;TZID=America/New_York:20260310T133000
DTSTAMP:20260421T164133
CREATED:20251010T192229Z
LAST-MODIFIED:20260204T151854Z
UID:10019076-1773145800-1773149400@bj.org
SUMMARY:Soul Food: Torah That Nourishes\, with Rabbi Felicia Sol
DESCRIPTION:
URL:https://bj.org/event/soul-food-torah-that-nourishes-with-rabbi-felicia-sol/2026-03-10/
LOCATION:Remote Access Only\, NY\, United States
CATEGORIES:Classes
ATTACH;FMTTYPE=image/jpeg:https://bj.org/wp-content/uploads/2019/10/1905-0118.jpg
ORGANIZER;CN="B'nai Jeshurun":MAILTO:info@bj.org
END:VEVENT
BEGIN:VEVENT
DTSTART;TZID=America/New_York:20260310T074500
DTEND;TZID=America/New_York:20260310T083000
DTSTAMP:20260421T164133
CREATED:20260219T150803Z
LAST-MODIFIED:20260320T152324Z
UID:10019200-1773128700-1773131400@bj.org
SUMMARY:Shaharit
DESCRIPTION:
URL:https://bj.org/event/shaharit/2026-03-10/
LOCATION:Rabbi Rachel Cowan Chapel\, 270 West 89th Street\, New York\, NY\, 10024\, United States
CATEGORIES:Services,Featured in Next Service
ATTACH;FMTTYPE=image/jpeg:https://bj.org/wp-content/uploads/2019/10/1905-0275.jpg
ORGANIZER;CN="B'nai Jeshurun":MAILTO:info@bj.org
END:VEVENT
BEGIN:VEVENT
DTSTART;TZID=America/New_York:20260309T193000
DTEND;TZID=America/New_York:20260309T203000
DTSTAMP:20260421T164133
CREATED:20210311T194417Z
LAST-MODIFIED:20260330T193129Z
UID:10007544-1773084600-1773088200@bj.org
SUMMARY:Connections Cocktail Hour
DESCRIPTION:
URL:https://bj.org/event/connections-cocktail-hour-2/2026-03-09/
LOCATION:Remote Access Only\, NY\, United States
CATEGORIES:Events
ATTACH;FMTTYPE=image/jpeg:https://bj.org/wp-content/uploads/2022/04/best-italian-cocktails.jpg
ORGANIZER;CN="B'nai Jeshurun":MAILTO:info@bj.org
END:VEVENT
BEGIN:VEVENT
DTSTART;TZID=America/New_York:20260309T183000
DTEND;TZID=America/New_York:20260309T190000
DTSTAMP:20260421T164133
CREATED:20250702T195231Z
LAST-MODIFIED:20260407T162243Z
UID:10019426-1773081000-1773082800@bj.org
SUMMARY:Minha (Online)
DESCRIPTION:
URL:https://bj.org/event/minha-online-4/2026-03-09/
LOCATION:Remote Access Only\, NY\, United States
CATEGORIES:Services,Featured in Next Service
ATTACH;FMTTYPE=image/jpeg:https://bj.org/wp-content/uploads/2024/03/1905-0258-2048x1536-1.jpg
ORGANIZER;CN="B'nai Jeshurun":MAILTO:info@bj.org
END:VEVENT
BEGIN:VEVENT
DTSTART;TZID=America/New_York:20260309T180000
DTEND;TZID=America/New_York:20260309T193000
DTSTAMP:20260421T164133
CREATED:20260122T163007Z
LAST-MODIFIED:20260130T150014Z
UID:10019091-1773079200-1773084600@bj.org
SUMMARY:Aviv Giving Circle
DESCRIPTION:
URL:https://bj.org/event/aviv-giving-circle-3/2026-03-09/
LOCATION:Rabbi Rachel Cowan Chapel\, 270 West 89th Street\, New York\, NY\, 10024\, United States
CATEGORIES:Events
ATTACH;FMTTYPE=image/jpeg:https://bj.org/wp-content/uploads/2023/03/1905-0243-1-2048x1365-1.jpg
ORGANIZER;CN="B'nai Jeshurun":MAILTO:info@bj.org
END:VEVENT
BEGIN:VEVENT
DTSTART;TZID=America/New_York:20260309T074500
DTEND;TZID=America/New_York:20260309T084500
DTSTAMP:20260421T164133
CREATED:20260219T144601Z
LAST-MODIFIED:20260226T185911Z
UID:10019124-1773042300-1773045900@bj.org
SUMMARY:Shaharit
DESCRIPTION:
URL:https://bj.org/event/shaharit-torah/2026-03-09/
LOCATION:Rabbi Rachel Cowan Chapel\, 270 West 89th Street\, New York\, NY\, 10024\, United States
CATEGORIES:Services,Featured in Next Service
ATTACH;FMTTYPE=image/jpeg:https://bj.org/wp-content/uploads/2019/10/1905-0272.jpg
ORGANIZER;CN="B'nai Jeshurun":MAILTO:info@bj.org
END:VEVENT
BEGIN:VEVENT
DTSTART;TZID=America/New_York:20260308T183000
DTEND;TZID=America/New_York:20260308T190000
DTSTAMP:20260421T164133
CREATED:20250702T195231Z
LAST-MODIFIED:20260407T162243Z
UID:10019425-1772994600-1772996400@bj.org
SUMMARY:Minha (Online)
DESCRIPTION:
URL:https://bj.org/event/minha-online-4/2026-03-08/
LOCATION:Remote Access Only\, NY\, United States
CATEGORIES:Services,Featured in Next Service
ATTACH;FMTTYPE=image/jpeg:https://bj.org/wp-content/uploads/2024/03/1905-0258-2048x1536-1.jpg
ORGANIZER;CN="B'nai Jeshurun":MAILTO:info@bj.org
END:VEVENT
BEGIN:VEVENT
DTSTART;TZID=America/New_York:20260308T093000
DTEND;TZID=America/New_York:20260308T103000
DTSTAMP:20260421T164133
CREATED:20230926T191607Z
LAST-MODIFIED:20260226T185930Z
UID:10018727-1772962200-1772965800@bj.org
SUMMARY:Shaharit (Online)
DESCRIPTION:
URL:https://bj.org/event/shaharit-sunday/2026-03-08/
LOCATION:Remote Access Only\, NY\, United States
CATEGORIES:Services,Featured in Next Service
ATTACH;FMTTYPE=image/jpeg:https://bj.org/wp-content/uploads/2019/10/1905-0280.jpg
ORGANIZER;CN="B'nai Jeshurun":MAILTO:info@bj.org
END:VEVENT
BEGIN:VEVENT
DTSTART;TZID=America/New_York:20260307T184000
DTEND;TZID=America/New_York:20260307T190500
DTSTAMP:20260421T164133
CREATED:20250916T171126Z
LAST-MODIFIED:20260302T172828Z
UID:10019717-1772908800-1772910300@bj.org
SUMMARY:Arvit and Havdalah
DESCRIPTION:
URL:https://bj.org/event/arvit-and-havdalah-10/2026-03-07/
LOCATION:Remote Access Only\, NY\, United States
CATEGORIES:Services,Featured in Next Service
ATTACH;FMTTYPE=image/jpeg:https://bj.org/wp-content/uploads/2020/03/havdallah-shutterstock_1385831468.jpg
ORGANIZER;CN="B'nai Jeshurun":MAILTO:info@bj.org
END:VEVENT
BEGIN:VEVENT
DTSTART;TZID=America/New_York:20260307T173000
DTEND;TZID=America/New_York:20260307T190000
DTSTAMP:20260421T164133
CREATED:20260203T194022Z
LAST-MODIFIED:20260305T143038Z
UID:10019112-1772904600-1772910000@bj.org
SUMMARY:Havdalah Dinner: 2nd and 3rd Grade
DESCRIPTION:
URL:https://bj.org/event/havdalah-dinner-2nd-and-3rd-grade/
LOCATION:Reception Room\, 270 West 89th Street\, New York\, NY\, 10024\, United States
CATEGORIES:Events
ATTACH;FMTTYPE=image/jpeg:https://bj.org/wp-content/uploads/2023/01/1905-0080.jpg
ORGANIZER;CN="B'nai Jeshurun":MAILTO:info@bj.org
END:VEVENT
END:VCALENDAR