BEGIN:VCALENDAR
VERSION:2.0
PRODID:-//B&#039;nai Jeshurun - ECPv6.15.20//NONSGML v1.0//EN
CALSCALE:GREGORIAN
METHOD:PUBLISH
X-WR-CALNAME:B&#039;nai Jeshurun
X-ORIGINAL-URL:https://bj.org
X-WR-CALDESC:Events for B&#039;nai Jeshurun
REFRESH-INTERVAL;VALUE=DURATION:PT1H
X-Robots-Tag:noindex
X-PUBLISHED-TTL:PT1H
BEGIN:VTIMEZONE
TZID:America/New_York
BEGIN:DAYLIGHT
TZOFFSETFROM:-0500
TZOFFSETTO:-0400
TZNAME:EDT
DTSTART:20250309T070000
END:DAYLIGHT
BEGIN:STANDARD
TZOFFSETFROM:-0400
TZOFFSETTO:-0500
TZNAME:EST
DTSTART:20251102T060000
END:STANDARD
BEGIN:DAYLIGHT
TZOFFSETFROM:-0500
TZOFFSETTO:-0400
TZNAME:EDT
DTSTART:20260308T070000
END:DAYLIGHT
BEGIN:STANDARD
TZOFFSETFROM:-0400
TZOFFSETTO:-0500
TZNAME:EST
DTSTART:20261101T060000
END:STANDARD
BEGIN:DAYLIGHT
TZOFFSETFROM:-0500
TZOFFSETTO:-0400
TZNAME:EDT
DTSTART:20270314T070000
END:DAYLIGHT
BEGIN:STANDARD
TZOFFSETFROM:-0400
TZOFFSETTO:-0500
TZNAME:EST
DTSTART:20271107T060000
END:STANDARD
END:VTIMEZONE
BEGIN:VEVENT
DTSTART;TZID=America/New_York:20260319T190000
DTEND;TZID=America/New_York:20260319T203000
DTSTAMP:20260421T152301
CREATED:20251106T182526Z
LAST-MODIFIED:20260126T160327Z
UID:10018260-1773946800-1773952200@bj.org
SUMMARY:Jewish Book Group: Voices From Around the World
DESCRIPTION:
URL:https://bj.org/event/jewish-book-group-voices-from-around-the-world-3/
LOCATION:Remote Access Only\, NY\, United States
CATEGORIES:Events
ATTACH;FMTTYPE=image/png:https://bj.org/wp-content/uploads/2026/01/Blanche-Bendahan.png
ORGANIZER;CN="B'nai Jeshurun":MAILTO:info@bj.org
END:VEVENT
BEGIN:VEVENT
DTSTART;TZID=America/New_York:20260319T183000
DTEND;TZID=America/New_York:20260319T190000
DTSTAMP:20260421T152301
CREATED:20250702T195231Z
LAST-MODIFIED:20260407T162243Z
UID:10019434-1773945000-1773946800@bj.org
SUMMARY:Minha (Online)
DESCRIPTION:
URL:https://bj.org/event/minha-online-4/2026-03-19/
LOCATION:Remote Access Only\, NY\, United States
CATEGORIES:Services,Featured in Next Service
ATTACH;FMTTYPE=image/jpeg:https://bj.org/wp-content/uploads/2024/03/1905-0258-2048x1536-1.jpg
ORGANIZER;CN="B'nai Jeshurun":MAILTO:info@bj.org
END:VEVENT
BEGIN:VEVENT
DTSTART;TZID=America/New_York:20260319T154500
DTEND;TZID=America/New_York:20260319T164500
DTSTAMP:20260421T152301
CREATED:20221215T210758Z
LAST-MODIFIED:20260203T171538Z
UID:10014901-1773935100-1773938700@bj.org
SUMMARY:A Taste of Talmud: Daf Yomi with Rabbi Shuli Passow
DESCRIPTION:
URL:https://bj.org/event/a-taste-of-talmud-daf-yomi-with-rabbi-shuli-passow/2026-03-19/
LOCATION:Remote Access Only\, NY\, United States
CATEGORIES:Classes
ATTACH;FMTTYPE=image/png:https://bj.org/wp-content/uploads/2022/12/Daf-Yomi-Shuli-1.png
ORGANIZER;CN="B'nai Jeshurun":MAILTO:info@bj.org
END:VEVENT
BEGIN:VEVENT
DTSTART;TZID=America/New_York:20260319T123000
DTEND;TZID=America/New_York:20260319T133000
DTSTAMP:20260421T152301
CREATED:20251006T145910Z
LAST-MODIFIED:20251211T204907Z
UID:10018296-1773923400-1773927000@bj.org
SUMMARY:In the Mirror: Lunch and Learn with Rabbi Roly Matalon
DESCRIPTION:
URL:https://bj.org/event/in-the-mirror-lunch-and-learn-with-rabbi-roly-matalon/2026-03-19/
LOCATION:Remote Access Only\, NY\, United States
CATEGORIES:Classes
ATTACH;FMTTYPE=image/jpeg:https://bj.org/wp-content/uploads/2023/01/1905-0308.jpg
ORGANIZER;CN="B'nai Jeshurun":MAILTO:info@bj.org
END:VEVENT
BEGIN:VEVENT
DTSTART;TZID=America/New_York:20260319T074500
DTEND;TZID=America/New_York:20260319T091500
DTSTAMP:20260421T152301
CREATED:20230926T181630Z
LAST-MODIFIED:20260330T154446Z
UID:10019004-1773906300-1773911700@bj.org
SUMMARY:Shaharit (Rosh Hodesh)
DESCRIPTION:
URL:https://bj.org/event/shaharit-rosh-hodesh-in-person-and-online-2/2026-03-19/
LOCATION:Rabbi Rachel Cowan Chapel\, 270 West 89th Street\, New York\, NY\, 10024\, United States
CATEGORIES:Services,Featured in Next Service
ATTACH;FMTTYPE=image/jpeg:https://bj.org/wp-content/uploads/2019/10/1905-0278.jpg
ORGANIZER;CN="B'nai Jeshurun":MAILTO:info@bj.org
END:VEVENT
BEGIN:VEVENT
DTSTART;TZID=America/New_York:20260318T183000
DTEND;TZID=America/New_York:20260318T190000
DTSTAMP:20260421T152301
CREATED:20250702T195231Z
LAST-MODIFIED:20260407T162243Z
UID:10019433-1773858600-1773860400@bj.org
SUMMARY:Minha (Online)
DESCRIPTION:
URL:https://bj.org/event/minha-online-4/2026-03-18/
LOCATION:Remote Access Only\, NY\, United States
CATEGORIES:Services,Featured in Next Service
ATTACH;FMTTYPE=image/jpeg:https://bj.org/wp-content/uploads/2024/03/1905-0258-2048x1536-1.jpg
ORGANIZER;CN="B'nai Jeshurun":MAILTO:info@bj.org
END:VEVENT
BEGIN:VEVENT
DTSTART;TZID=America/New_York:20260318T180000
DTEND;TZID=America/New_York:20260318T200000
DTSTAMP:20260421T152301
CREATED:20250814T204714Z
LAST-MODIFIED:20260202T184200Z
UID:10017167-1773856800-1773864000@bj.org
SUMMARY:Criminal Justice Cohort (2025–2026)
DESCRIPTION:
URL:https://bj.org/event/criminal-justice-cohort-2025-2026/2026-03-18/
LOCATION:Middle Room\, 270 West 89th Street\, New York\, NY\, 10024\, United States
CATEGORIES:Events
ATTACH;FMTTYPE=image/png:https://bj.org/wp-content/uploads/2025/08/Criminal-Justice-Cohort.png
ORGANIZER;CN="B'nai Jeshurun":MAILTO:info@bj.org
END:VEVENT
BEGIN:VEVENT
DTSTART;TZID=America/New_York:20260318T083000
DTEND;TZID=America/New_York:20260318T091500
DTSTAMP:20260421T152301
CREATED:20221215T212948Z
LAST-MODIFIED:20260415T133805Z
UID:10019712-1773822600-1773825300@bj.org
SUMMARY:Jewish Meditation with Rabbi Shuli Passow
DESCRIPTION:
URL:https://bj.org/event/jewish-meditation-with-rabbi-shuli-passow-3/2026-03-18/
LOCATION:Remote Access Only\, NY\, United States
CATEGORIES:Classes
ATTACH;FMTTYPE=image/jpeg:https://bj.org/wp-content/uploads/2022/12/Daily-Meditation-Shuli-Image.jpg
ORGANIZER;CN="B'nai Jeshurun":MAILTO:info@bj.org
END:VEVENT
BEGIN:VEVENT
DTSTART;TZID=America/New_York:20260318T074500
DTEND;TZID=America/New_York:20260318T083000
DTSTAMP:20260421T152301
CREATED:20260219T150803Z
LAST-MODIFIED:20260320T152324Z
UID:10019204-1773819900-1773822600@bj.org
SUMMARY:Shaharit
DESCRIPTION:
URL:https://bj.org/event/shaharit/2026-03-18/
LOCATION:Rabbi Rachel Cowan Chapel\, 270 West 89th Street\, New York\, NY\, 10024\, United States
CATEGORIES:Services,Featured in Next Service
ATTACH;FMTTYPE=image/jpeg:https://bj.org/wp-content/uploads/2019/10/1905-0275.jpg
ORGANIZER;CN="B'nai Jeshurun":MAILTO:info@bj.org
END:VEVENT
BEGIN:VEVENT
DTSTART;TZID=America/New_York:20260317T190000
DTEND;TZID=America/New_York:20260317T210000
DTSTAMP:20260421T152301
CREATED:20250624T170554Z
LAST-MODIFIED:20260105T195343Z
UID:10016884-1773774000-1773781200@bj.org
SUMMARY:Introduction to Judaism
DESCRIPTION:
URL:https://bj.org/event/intro-to-judaism-4/2026-03-17/
LOCATION:Rabbi Rachel Cowan Chapel\, 270 West 89th Street\, New York\, NY\, 10024\, United States
CATEGORIES:Classes
ATTACH;FMTTYPE=image/jpeg:https://bj.org/wp-content/uploads/2024/10/whi5A0o8.jpg
ORGANIZER;CN="B'nai Jeshurun":MAILTO:info@bj.org
END:VEVENT
BEGIN:VEVENT
DTSTART;TZID=America/New_York:20260317T183000
DTEND;TZID=America/New_York:20260317T190000
DTSTAMP:20260421T152301
CREATED:20250702T195231Z
LAST-MODIFIED:20260407T162243Z
UID:10019432-1773772200-1773774000@bj.org
SUMMARY:Minha (Online)
DESCRIPTION:
URL:https://bj.org/event/minha-online-4/2026-03-17/
LOCATION:Remote Access Only\, NY\, United States
CATEGORIES:Services,Featured in Next Service
ATTACH;FMTTYPE=image/jpeg:https://bj.org/wp-content/uploads/2024/03/1905-0258-2048x1536-1.jpg
ORGANIZER;CN="B'nai Jeshurun":MAILTO:info@bj.org
END:VEVENT
BEGIN:VEVENT
DTSTART;TZID=America/New_York:20260317T173000
DTEND;TZID=America/New_York:20260317T181500
DTSTAMP:20260421T152301
CREATED:20230302T235540Z
LAST-MODIFIED:20260313T190025Z
UID:10019764-1773768600-1773771300@bj.org
SUMMARY:Mindfulness Prayer Practice Group
DESCRIPTION:
URL:https://bj.org/event/mindful-prayer-havurah/2026-03-17/
LOCATION:Remote Access Only\, NY\, United States
CATEGORIES:Classes
ATTACH;FMTTYPE=image/jpeg:https://bj.org/wp-content/uploads/2023/01/1905-0272-2048x1152-1.jpeg
ORGANIZER;CN="B'nai Jeshurun":MAILTO:info@bj.org
END:VEVENT
BEGIN:VEVENT
DTSTART;TZID=America/New_York:20260317T161500
DTEND;TZID=America/New_York:20260317T170000
DTSTAMP:20260421T152301
CREATED:20250424T153154Z
LAST-MODIFIED:20250916T152500Z
UID:10017186-1773764100-1773766800@bj.org
SUMMARY:Shirah with Shira
DESCRIPTION:
URL:https://bj.org/event/shirah-with-shira-4/2026-03-17/
LOCATION:Rabbi Rachel Cowan Chapel\, 270 West 89th Street\, New York\, NY\, 10024\, United States
CATEGORIES:Classes
ATTACH;FMTTYPE=image/jpeg:https://bj.org/wp-content/uploads/2020/03/Shirah-Shira.jpg
ORGANIZER;CN="B'nai Jeshurun":MAILTO:info@bj.org
END:VEVENT
BEGIN:VEVENT
DTSTART;TZID=America/New_York:20260317T123000
DTEND;TZID=America/New_York:20260317T133000
DTSTAMP:20260421T152301
CREATED:20251010T192229Z
LAST-MODIFIED:20260204T151854Z
UID:10019077-1773750600-1773754200@bj.org
SUMMARY:Soul Food: Torah That Nourishes\, with Rabbi Felicia Sol
DESCRIPTION:
URL:https://bj.org/event/soul-food-torah-that-nourishes-with-rabbi-felicia-sol/2026-03-17/
LOCATION:Remote Access Only\, NY\, United States
CATEGORIES:Classes
ATTACH;FMTTYPE=image/jpeg:https://bj.org/wp-content/uploads/2019/10/1905-0118.jpg
ORGANIZER;CN="B'nai Jeshurun":MAILTO:info@bj.org
END:VEVENT
BEGIN:VEVENT
DTSTART;TZID=America/New_York:20260317T074500
DTEND;TZID=America/New_York:20260317T083000
DTSTAMP:20260421T152301
CREATED:20260219T150803Z
LAST-MODIFIED:20260320T152324Z
UID:10019203-1773733500-1773736200@bj.org
SUMMARY:Shaharit
DESCRIPTION:
URL:https://bj.org/event/shaharit/2026-03-17/
LOCATION:Rabbi Rachel Cowan Chapel\, 270 West 89th Street\, New York\, NY\, 10024\, United States
CATEGORIES:Services,Featured in Next Service
ATTACH;FMTTYPE=image/jpeg:https://bj.org/wp-content/uploads/2019/10/1905-0275.jpg
ORGANIZER;CN="B'nai Jeshurun":MAILTO:info@bj.org
END:VEVENT
BEGIN:VEVENT
DTSTART;TZID=America/New_York:20260316T193000
DTEND;TZID=America/New_York:20260316T203000
DTSTAMP:20260421T152301
CREATED:20210311T194417Z
LAST-MODIFIED:20260330T193129Z
UID:10007545-1773689400-1773693000@bj.org
SUMMARY:Connections Cocktail Hour
DESCRIPTION:
URL:https://bj.org/event/connections-cocktail-hour-2/2026-03-16/
LOCATION:Remote Access Only\, NY\, United States
CATEGORIES:Events
ATTACH;FMTTYPE=image/jpeg:https://bj.org/wp-content/uploads/2022/04/best-italian-cocktails.jpg
ORGANIZER;CN="B'nai Jeshurun":MAILTO:info@bj.org
END:VEVENT
BEGIN:VEVENT
DTSTART;TZID=America/New_York:20260316T183000
DTEND;TZID=America/New_York:20260316T190000
DTSTAMP:20260421T152301
CREATED:20250702T195231Z
LAST-MODIFIED:20260407T162243Z
UID:10019431-1773685800-1773687600@bj.org
SUMMARY:Minha (Online)
DESCRIPTION:
URL:https://bj.org/event/minha-online-4/2026-03-16/
LOCATION:Remote Access Only\, NY\, United States
CATEGORIES:Services,Featured in Next Service
ATTACH;FMTTYPE=image/jpeg:https://bj.org/wp-content/uploads/2024/03/1905-0258-2048x1536-1.jpg
ORGANIZER;CN="B'nai Jeshurun":MAILTO:info@bj.org
END:VEVENT
BEGIN:VEVENT
DTSTART;TZID=America/New_York:20260316T074500
DTEND;TZID=America/New_York:20260316T084500
DTSTAMP:20260421T152301
CREATED:20260219T144601Z
LAST-MODIFIED:20260226T185911Z
UID:10019126-1773647100-1773650700@bj.org
SUMMARY:Shaharit
DESCRIPTION:
URL:https://bj.org/event/shaharit-torah/2026-03-16/
LOCATION:Rabbi Rachel Cowan Chapel\, 270 West 89th Street\, New York\, NY\, 10024\, United States
CATEGORIES:Services,Featured in Next Service
ATTACH;FMTTYPE=image/jpeg:https://bj.org/wp-content/uploads/2019/10/1905-0272.jpg
ORGANIZER;CN="B'nai Jeshurun":MAILTO:info@bj.org
END:VEVENT
BEGIN:VEVENT
DTSTART;TZID=America/New_York:20260315T183000
DTEND;TZID=America/New_York:20260315T190000
DTSTAMP:20260421T152301
CREATED:20250702T195231Z
LAST-MODIFIED:20260407T162243Z
UID:10019430-1773599400-1773601200@bj.org
SUMMARY:Minha (Online)
DESCRIPTION:
URL:https://bj.org/event/minha-online-4/2026-03-15/
LOCATION:Remote Access Only\, NY\, United States
CATEGORIES:Services,Featured in Next Service
ATTACH;FMTTYPE=image/jpeg:https://bj.org/wp-content/uploads/2024/03/1905-0258-2048x1536-1.jpg
ORGANIZER;CN="B'nai Jeshurun":MAILTO:info@bj.org
END:VEVENT
BEGIN:VEVENT
DTSTART;TZID=America/New_York:20260315T123000
DTEND;TZID=America/New_York:20260315T150000
DTSTAMP:20260421T152301
CREATED:20260303T160026Z
LAST-MODIFIED:20260304T160537Z
UID:10019735-1773577800-1773586800@bj.org
SUMMARY:Singing Resistance: Interfaith Voices for Justice
DESCRIPTION:
URL:https://bj.org/event/singing-resistance-interfaith-voices-for-justice/
LOCATION:Reception Room\, 270 West 89th Street\, New York\, NY\, 10024\, United States
ATTACH;FMTTYPE=image/png:https://bj.org/wp-content/uploads/2026/03/Singing-resistance.png
ORGANIZER;CN="B'nai Jeshurun":MAILTO:info@bj.org
END:VEVENT
BEGIN:VEVENT
DTSTART;TZID=America/New_York:20260315T093000
DTEND;TZID=America/New_York:20260315T103000
DTSTAMP:20260421T152301
CREATED:20230926T191607Z
LAST-MODIFIED:20260226T185930Z
UID:10018728-1773567000-1773570600@bj.org
SUMMARY:Shaharit (Online)
DESCRIPTION:
URL:https://bj.org/event/shaharit-sunday/2026-03-15/
LOCATION:Remote Access Only\, NY\, United States
CATEGORIES:Services,Featured in Next Service
ATTACH;FMTTYPE=image/jpeg:https://bj.org/wp-content/uploads/2019/10/1905-0280.jpg
ORGANIZER;CN="B'nai Jeshurun":MAILTO:info@bj.org
END:VEVENT
BEGIN:VEVENT
DTSTART;TZID=America/New_York:20260314T195000
DTEND;TZID=America/New_York:20260314T201500
DTSTAMP:20260421T152301
CREATED:20250916T171126Z
LAST-MODIFIED:20260302T172828Z
UID:10019718-1773517800-1773519300@bj.org
SUMMARY:Arvit and Havdalah
DESCRIPTION:
URL:https://bj.org/event/arvit-and-havdalah-10/2026-03-14/
LOCATION:Remote Access Only\, NY\, United States
CATEGORIES:Services,Featured in Next Service
ATTACH;FMTTYPE=image/jpeg:https://bj.org/wp-content/uploads/2020/03/havdallah-shutterstock_1385831468.jpg
ORGANIZER;CN="B'nai Jeshurun":MAILTO:info@bj.org
END:VEVENT
BEGIN:VEVENT
DTSTART;TZID=America/New_York:20260314T110000
DTEND;TZID=America/New_York:20260314T121500
DTSTAMP:20260421T152301
CREATED:20250903T174558Z
LAST-MODIFIED:20250903T181001Z
UID:10017386-1773486000-1773490500@bj.org
SUMMARY:Elementary School Shabbat Morning Services
DESCRIPTION:
URL:https://bj.org/event/elementary-school-shabbat-morning-services/2026-03-14/
LOCATION:Reception Room\, 270 West 89th Street\, New York\, NY\, 10024\, United States
CATEGORIES:Services
ATTACH;FMTTYPE=image/jpeg:https://bj.org/wp-content/uploads/2019/10/1905-0194.jpg
ORGANIZER;CN="B'nai Jeshurun":MAILTO:info@bj.org
END:VEVENT
BEGIN:VEVENT
DTSTART;TZID=America/New_York:20260314T110000
DTEND;TZID=America/New_York:20260314T120000
DTSTAMP:20260421T152301
CREATED:20250522T203304Z
LAST-MODIFIED:20250728T170021Z
UID:10017122-1773486000-1773489600@bj.org
SUMMARY:Early Childhood Shabbat Service (Age 6 and Under)
DESCRIPTION:
URL:https://bj.org/event/early-childhood-shabbat-service-age-6-and-under-3/2026-03-14/
LOCATION:Rabbi Rachel Cowan Chapel\, 270 West 89th Street\, New York\, NY\, 10024\, United States
CATEGORIES:Services
ATTACH;FMTTYPE=image/jpeg:https://bj.org/wp-content/uploads/2021/04/IMG_9480-scaled.jpg
ORGANIZER;CN="B'nai Jeshurun":MAILTO:info@bj.org
END:VEVENT
BEGIN:VEVENT
DTSTART;TZID=America/New_York:20260314T093000
DTEND;TZID=America/New_York:20260314T120000
DTSTAMP:20260421T152301
CREATED:20230309T215703Z
LAST-MODIFIED:20251103T170810Z
UID:10018193-1773480600-1773489600@bj.org
SUMMARY:Shabbat Morning Services
DESCRIPTION:
URL:https://bj.org/event/shabbat-morning-services/2026-03-14/
LOCATION:Sanctuary\, 257 West 88th Street\, New York\, NY\, 10024\, United States
CATEGORIES:Services,Featured in Next Service
ATTACH;FMTTYPE=image/jpeg:https://bj.org/wp-content/uploads/2023/01/1905-0386.jpg
ORGANIZER;CN="B'nai Jeshurun":MAILTO:info@bj.org
END:VEVENT
BEGIN:VEVENT
DTSTART;TZID=America/New_York:20260313T183000
DTEND;TZID=America/New_York:20260313T203000
DTSTAMP:20260421T152301
CREATED:20250822T181824Z
LAST-MODIFIED:20260306T160137Z
UID:10017204-1773426600-1773433800@bj.org
SUMMARY:Hitoreri
DESCRIPTION:
URL:https://bj.org/event/hitoreri-8-7/
LOCATION:Rabbi Rachel Cowan Chapel and Middle Room\, 270 West 89th Street\, New York\, 10024\, United States
CATEGORIES:Events,Services
ATTACH;FMTTYPE=image/jpeg:https://bj.org/wp-content/uploads/2023/01/1905-0080.jpg
ORGANIZER;CN="B'nai Jeshurun":MAILTO:info@bj.org
END:VEVENT
BEGIN:VEVENT
DTSTART;TZID=America/New_York:20260313T183000
DTEND;TZID=America/New_York:20260313T194500
DTSTAMP:20260421T152301
CREATED:20251031T191749Z
LAST-MODIFIED:20251031T195122Z
UID:10018145-1773426600-1773431100@bj.org
SUMMARY:Kabbalat Shabbat
DESCRIPTION:
URL:https://bj.org/event/kabbalat-shabbat-edst/2026-03-13/
LOCATION:Sanctuary\, 257 West 88th Street\, New York\, NY\, 10024\, United States
CATEGORIES:Services,Featured in Next Service
ATTACH;FMTTYPE=image/png:https://bj.org/wp-content/uploads/2024/03/bj-dancing.png
ORGANIZER;CN="B'nai Jeshurun":MAILTO:info@bj.org
END:VEVENT
BEGIN:VEVENT
DTSTART;TZID=America/New_York:20260313T173000
DTEND;TZID=America/New_York:20260313T203000
DTSTAMP:20260421T152301
CREATED:20251210T141222Z
LAST-MODIFIED:20251210T141222Z
UID:10018682-1773423000-1773433800@bj.org
SUMMARY:Likrat Shabbat (K-6th Grade)
DESCRIPTION:
URL:https://bj.org/event/likrat-shabbat-k-6th-grade-5/
LOCATION:Reception Room and Middle Room\, 270 West 89th Street\, New York\, NY\, 10024\, United States
CATEGORIES:Events
ATTACH;FMTTYPE=image/jpeg:https://bj.org/wp-content/uploads/2023/01/1905-0080.jpg
ORGANIZER;CN="B'nai Jeshurun":MAILTO:info@bj.org
END:VEVENT
BEGIN:VEVENT
DTSTART;TZID=America/New_York:20260313T171500
DTEND;TZID=America/New_York:20260313T193000
DTSTAMP:20260421T152301
CREATED:20250730T132645Z
LAST-MODIFIED:20250730T132645Z
UID:10017139-1773422100-1773430200@bj.org
SUMMARY:Tot Shabbat
DESCRIPTION:
URL:https://bj.org/event/tot-shabbat-11-6/
LOCATION:Sanctuary and Rabbi Rachel Cowan Chapel\, 257 West 88th Street\, New York\, NY\, 10024\, United States
CATEGORIES:Events
ATTACH;FMTTYPE=image/jpeg:https://bj.org/wp-content/uploads/2025/07/early-childhood-retreat-meal_2025-1.jpg
ORGANIZER;CN="B'nai Jeshurun":MAILTO:info@bj.org
END:VEVENT
BEGIN:VEVENT
DTSTART;TZID=America/New_York:20260313T101500
DTEND;TZID=America/New_York:20260313T110000
DTSTAMP:20260421T152301
CREATED:20250724T194835Z
LAST-MODIFIED:20260421T150822Z
UID:10017087-1773396900-1773399600@bj.org
SUMMARY:Bim Bam
DESCRIPTION:
URL:https://bj.org/event/bim-bam-5/2026-03-13/
LOCATION:Sanctuary\, 257 West 88th Street\, New York\, NY\, 10024\, United States
CATEGORIES:Classes
ATTACH;FMTTYPE=image/png:https://bj.org/wp-content/uploads/2023/03/Bim-Bam-photo.png
ORGANIZER;CN="B'nai Jeshurun":MAILTO:info@bj.org
END:VEVENT
END:VCALENDAR