BEGIN:VCALENDAR
VERSION:2.0
PRODID:-//B&#039;nai Jeshurun - ECPv6.15.20//NONSGML v1.0//EN
CALSCALE:GREGORIAN
METHOD:PUBLISH
X-ORIGINAL-URL:https://bj.org
X-WR-CALDESC:Events for B&#039;nai Jeshurun
REFRESH-INTERVAL;VALUE=DURATION:PT1H
X-Robots-Tag:noindex
X-PUBLISHED-TTL:PT1H
BEGIN:VTIMEZONE
TZID:America/New_York
BEGIN:DAYLIGHT
TZOFFSETFROM:-0500
TZOFFSETTO:-0400
TZNAME:EDT
DTSTART:20250309T070000
END:DAYLIGHT
BEGIN:STANDARD
TZOFFSETFROM:-0400
TZOFFSETTO:-0500
TZNAME:EST
DTSTART:20251102T060000
END:STANDARD
BEGIN:DAYLIGHT
TZOFFSETFROM:-0500
TZOFFSETTO:-0400
TZNAME:EDT
DTSTART:20260308T070000
END:DAYLIGHT
BEGIN:STANDARD
TZOFFSETFROM:-0400
TZOFFSETTO:-0500
TZNAME:EST
DTSTART:20261101T060000
END:STANDARD
BEGIN:DAYLIGHT
TZOFFSETFROM:-0500
TZOFFSETTO:-0400
TZNAME:EDT
DTSTART:20270314T070000
END:DAYLIGHT
BEGIN:STANDARD
TZOFFSETFROM:-0400
TZOFFSETTO:-0500
TZNAME:EST
DTSTART:20271107T060000
END:STANDARD
END:VTIMEZONE
BEGIN:VEVENT
DTSTART;TZID=America/New_York:20260114T183000
DTEND;TZID=America/New_York:20260114T190000
DTSTAMP:20260422T082407
CREATED:20250916T192848Z
LAST-MODIFIED:20260219T191516Z
UID:10019029-1768415400-1768417200@bj.org
SUMMARY:Arvit (Online)
DESCRIPTION:
URL:https://bj.org/event/arvit-online-2-copy/2026-01-14/
LOCATION:Remote Access Only\, NY\, United States
CATEGORIES:Services,Featured in Next Service
ATTACH;FMTTYPE=image/jpeg:https://bj.org/wp-content/uploads/2024/03/1905-0258-2048x1536-1.jpg
ORGANIZER;CN="B'nai Jeshurun":MAILTO:info@bj.org
END:VEVENT
BEGIN:VEVENT
DTSTART;TZID=America/New_York:20260114T180000
DTEND;TZID=America/New_York:20260114T200000
DTSTAMP:20260422T082407
CREATED:20250814T204714Z
LAST-MODIFIED:20260202T184200Z
UID:10017166-1768413600-1768420800@bj.org
SUMMARY:Criminal Justice Cohort (2025–2026)
DESCRIPTION:
URL:https://bj.org/event/criminal-justice-cohort-2025-2026/2026-01-14/
LOCATION:Middle Room\, 270 West 89th Street\, New York\, NY\, 10024\, United States
CATEGORIES:Events
ATTACH;FMTTYPE=image/png:https://bj.org/wp-content/uploads/2025/08/Criminal-Justice-Cohort.png
ORGANIZER;CN="B'nai Jeshurun":MAILTO:info@bj.org
END:VEVENT
BEGIN:VEVENT
DTSTART;TZID=America/New_York:20260114T083000
DTEND;TZID=America/New_York:20260114T091500
DTSTAMP:20260422T082407
CREATED:20221215T212948Z
LAST-MODIFIED:20260415T133805Z
UID:10019705-1768379400-1768382100@bj.org
SUMMARY:Jewish Meditation with Rabbi Shuli Passow
DESCRIPTION:
URL:https://bj.org/event/jewish-meditation-with-rabbi-shuli-passow-3/2026-01-14/
LOCATION:Remote Access Only\, NY\, United States
CATEGORIES:Classes
ATTACH;FMTTYPE=image/jpeg:https://bj.org/wp-content/uploads/2022/12/Daily-Meditation-Shuli-Image.jpg
ORGANIZER;CN="B'nai Jeshurun":MAILTO:info@bj.org
END:VEVENT
BEGIN:VEVENT
DTSTART;TZID=America/New_York:20260114T080000
DTEND;TZID=America/New_York:20260114T090000
DTSTAMP:20260422T082407
CREATED:20250911T161547Z
LAST-MODIFIED:20251219T192933Z
UID:10018775-1768377600-1768381200@bj.org
SUMMARY:Shaharit (Online)
DESCRIPTION:
URL:https://bj.org/event/shaharit-online-10-2/2026-01-14/
LOCATION:Remote Access Only\, NY\, United States
CATEGORIES:Services,Featured in Next Service
ATTACH;FMTTYPE=image/jpeg:https://bj.org/wp-content/uploads/2019/10/1905-0275.jpg
ORGANIZER;CN="B'nai Jeshurun":MAILTO:info@bj.org
END:VEVENT
BEGIN:VEVENT
DTSTART;TZID=America/New_York:20260113T190000
DTEND;TZID=America/New_York:20260113T210000
DTSTAMP:20260422T082407
CREATED:20250624T170554Z
LAST-MODIFIED:20260105T195343Z
UID:10016875-1768330800-1768338000@bj.org
SUMMARY:Introduction to Judaism
DESCRIPTION:
URL:https://bj.org/event/intro-to-judaism-4/2026-01-13/
LOCATION:Rabbi Rachel Cowan Chapel\, 270 West 89th Street\, New York\, NY\, 10024\, United States
CATEGORIES:Classes
ATTACH;FMTTYPE=image/jpeg:https://bj.org/wp-content/uploads/2024/10/whi5A0o8.jpg
ORGANIZER;CN="B'nai Jeshurun":MAILTO:info@bj.org
END:VEVENT
BEGIN:VEVENT
DTSTART;TZID=America/New_York:20260113T183000
DTEND;TZID=America/New_York:20260113T190000
DTSTAMP:20260422T082407
CREATED:20250916T192848Z
LAST-MODIFIED:20260219T191516Z
UID:10019028-1768329000-1768330800@bj.org
SUMMARY:Arvit (Online)
DESCRIPTION:
URL:https://bj.org/event/arvit-online-2-copy/2026-01-13/
LOCATION:Remote Access Only\, NY\, United States
CATEGORIES:Services,Featured in Next Service
ATTACH;FMTTYPE=image/jpeg:https://bj.org/wp-content/uploads/2024/03/1905-0258-2048x1536-1.jpg
ORGANIZER;CN="B'nai Jeshurun":MAILTO:info@bj.org
END:VEVENT
BEGIN:VEVENT
DTSTART;TZID=America/New_York:20260113T173000
DTEND;TZID=America/New_York:20260113T183000
DTSTAMP:20260422T082407
CREATED:20251203T200527Z
LAST-MODIFIED:20251203T200527Z
UID:10018288-1768325400-1768329000@bj.org
SUMMARY:B-Mitzvah (Re)orientation for 6th-Grade Parents
DESCRIPTION:
URL:https://bj.org/event/b-mitzvah-reorientation-for-6th-grade-parents/
LOCATION:The Gym\, 257 West 88th Street\, New York\, NY\, 10024\, United States
CATEGORIES:Events
ATTACH;FMTTYPE=image/jpeg:https://bj.org/wp-content/uploads/2024/10/1905-0374-2048x1365-1.jpg
ORGANIZER;CN="B'nai Jeshurun":MAILTO:info@bj.org
END:VEVENT
BEGIN:VEVENT
DTSTART;TZID=America/New_York:20260113T173000
DTEND;TZID=America/New_York:20260113T181500
DTSTAMP:20260422T082407
CREATED:20230302T235540Z
LAST-MODIFIED:20260313T190025Z
UID:10014238-1768325400-1768328100@bj.org
SUMMARY:Mindfulness Prayer Practice Group
DESCRIPTION:
URL:https://bj.org/event/mindful-prayer-havurah/2026-01-13/
LOCATION:Remote Access Only\, NY\, United States
CATEGORIES:Classes
ATTACH;FMTTYPE=image/jpeg:https://bj.org/wp-content/uploads/2023/01/1905-0272-2048x1152-1.jpeg
ORGANIZER;CN="B'nai Jeshurun":MAILTO:info@bj.org
END:VEVENT
BEGIN:VEVENT
DTSTART;TZID=America/New_York:20260113T171500
DTEND;TZID=America/New_York:20260113T180000
DTSTAMP:20260422T082407
CREATED:20251022T152436Z
LAST-MODIFIED:20251022T152436Z
UID:10018095-1768324500-1768327200@bj.org
SUMMARY:Kadima Parent Learning: Community Covenant
DESCRIPTION:
URL:https://bj.org/event/kadima-parent-learning-community-covenant/2026-01-13/
LOCATION:Sanctuary\, 257 West 88th Street\, New York\, NY\, 10024\, United States
CATEGORIES:Events
ATTACH;FMTTYPE=image/jpeg:https://bj.org/wp-content/uploads/2023/10/1905-0119-1-scaled.jpg
ORGANIZER;CN="B'nai Jeshurun":MAILTO:info@bj.org
END:VEVENT
BEGIN:VEVENT
DTSTART;TZID=America/New_York:20260113T161500
DTEND;TZID=America/New_York:20260113T170000
DTSTAMP:20260422T082407
CREATED:20250424T153154Z
LAST-MODIFIED:20250916T152500Z
UID:10017179-1768320900-1768323600@bj.org
SUMMARY:Shirah with Shira
DESCRIPTION:
URL:https://bj.org/event/shirah-with-shira-4/2026-01-13/
LOCATION:Rabbi Rachel Cowan Chapel\, 270 West 89th Street\, New York\, NY\, 10024\, United States
CATEGORIES:Classes
ATTACH;FMTTYPE=image/jpeg:https://bj.org/wp-content/uploads/2020/03/Shirah-Shira.jpg
ORGANIZER;CN="B'nai Jeshurun":MAILTO:info@bj.org
END:VEVENT
BEGIN:VEVENT
DTSTART;TZID=America/New_York:20260113T123000
DTEND;TZID=America/New_York:20260113T133000
DTSTAMP:20260422T082407
CREATED:20251010T192229Z
LAST-MODIFIED:20260204T151854Z
UID:10019107-1768307400-1768311000@bj.org
SUMMARY:Soul Food: Torah That Nourishes\, with Rabbi Felicia Sol
DESCRIPTION:
URL:https://bj.org/event/soul-food-torah-that-nourishes-with-rabbi-felicia-sol/2026-01-13/
LOCATION:Remote Access Only\, NY\, United States
CATEGORIES:Classes
ATTACH;FMTTYPE=image/jpeg:https://bj.org/wp-content/uploads/2019/10/1905-0118.jpg
ORGANIZER;CN="B'nai Jeshurun":MAILTO:info@bj.org
END:VEVENT
BEGIN:VEVENT
DTSTART;TZID=America/New_York:20260113T103000
DTEND;TZID=America/New_York:20260113T120000
DTSTAMP:20260422T082407
CREATED:20251126T151439Z
LAST-MODIFIED:20251126T151439Z
UID:10018283-1768300200-1768305600@bj.org
SUMMARY:Aging Alone\, Together
DESCRIPTION:
URL:https://bj.org/event/aging-alone-together/2026-01-13/
LOCATION:Remote Access Only\, NY\, United States
CATEGORIES:Events
ATTACH;FMTTYPE=image/jpeg:https://bj.org/wp-content/uploads/2025/11/1905-0254-1.jpg
ORGANIZER;CN="B'nai Jeshurun":MAILTO:info@bj.org
END:VEVENT
BEGIN:VEVENT
DTSTART;TZID=America/New_York:20260113T080000
DTEND;TZID=America/New_York:20260113T090000
DTSTAMP:20260422T082407
CREATED:20250911T161547Z
LAST-MODIFIED:20251219T192933Z
UID:10018774-1768291200-1768294800@bj.org
SUMMARY:Shaharit (Online)
DESCRIPTION:
URL:https://bj.org/event/shaharit-online-10-2/2026-01-13/
LOCATION:Remote Access Only\, NY\, United States
CATEGORIES:Services,Featured in Next Service
ATTACH;FMTTYPE=image/jpeg:https://bj.org/wp-content/uploads/2019/10/1905-0275.jpg
ORGANIZER;CN="B'nai Jeshurun":MAILTO:info@bj.org
END:VEVENT
BEGIN:VEVENT
DTSTART;TZID=America/New_York:20260112T203000
DTEND;TZID=America/New_York:20260112T213000
DTSTAMP:20260422T082407
CREATED:20251010T150457Z
LAST-MODIFIED:20260120T194215Z
UID:10018074-1768249800-1768253400@bj.org
SUMMARY:Parenting as a Spiritual Practice with Rabbi Becca Weintraub
DESCRIPTION:
URL:https://bj.org/event/parenting-as-a-spiritual-practice-with-rabbi-becca-weintraub-5/2026-01-12/
LOCATION:Remote Access Only\, NY\, United States
ATTACH;FMTTYPE=image/jpeg:https://bj.org/wp-content/uploads/2023/10/1905-0119-1-scaled.jpg
ORGANIZER;CN="B'nai Jeshurun":MAILTO:info@bj.org
END:VEVENT
BEGIN:VEVENT
DTSTART;TZID=America/New_York:20260112T193000
DTEND;TZID=America/New_York:20260112T203000
DTSTAMP:20260422T082407
CREATED:20210311T194417Z
LAST-MODIFIED:20260330T193129Z
UID:10007536-1768246200-1768249800@bj.org
SUMMARY:Connections Cocktail Hour
DESCRIPTION:
URL:https://bj.org/event/connections-cocktail-hour-2/2026-01-12/
LOCATION:Remote Access Only\, NY\, United States
CATEGORIES:Events
ATTACH;FMTTYPE=image/jpeg:https://bj.org/wp-content/uploads/2022/04/best-italian-cocktails.jpg
ORGANIZER;CN="B'nai Jeshurun":MAILTO:info@bj.org
END:VEVENT
BEGIN:VEVENT
DTSTART;TZID=America/New_York:20260112T183000
DTEND;TZID=America/New_York:20260112T190000
DTSTAMP:20260422T082407
CREATED:20250916T192848Z
LAST-MODIFIED:20260219T191516Z
UID:10019027-1768242600-1768244400@bj.org
SUMMARY:Arvit (Online)
DESCRIPTION:
URL:https://bj.org/event/arvit-online-2-copy/2026-01-12/
LOCATION:Remote Access Only\, NY\, United States
CATEGORIES:Services,Featured in Next Service
ATTACH;FMTTYPE=image/jpeg:https://bj.org/wp-content/uploads/2024/03/1905-0258-2048x1536-1.jpg
ORGANIZER;CN="B'nai Jeshurun":MAILTO:info@bj.org
END:VEVENT
BEGIN:VEVENT
DTSTART;TZID=America/New_York:20260112T080000
DTEND;TZID=America/New_York:20260112T090000
DTSTAMP:20260422T082407
CREATED:20250911T185254Z
LAST-MODIFIED:20251219T194251Z
UID:10018906-1768204800-1768208400@bj.org
SUMMARY:Shaharit (In Person and Online)
DESCRIPTION:
URL:https://bj.org/event/shaharit-in-person-and-online-6-2/2026-01-12/
LOCATION:Rabbi Rachel Cowan Chapel\, 270 West 89th Street\, New York\, NY\, 10024\, United States
CATEGORIES:Services,Featured in Next Service
ATTACH;FMTTYPE=image/jpeg:https://bj.org/wp-content/uploads/2019/10/1905-0272.jpg
ORGANIZER;CN="B'nai Jeshurun":MAILTO:info@bj.org
END:VEVENT
BEGIN:VEVENT
DTSTART;TZID=America/New_York:20260111T183000
DTEND;TZID=America/New_York:20260111T190000
DTSTAMP:20260422T082407
CREATED:20250916T192848Z
LAST-MODIFIED:20260219T191516Z
UID:10019026-1768156200-1768158000@bj.org
SUMMARY:Arvit (Online)
DESCRIPTION:
URL:https://bj.org/event/arvit-online-2-copy/2026-01-11/
LOCATION:Remote Access Only\, NY\, United States
CATEGORIES:Services,Featured in Next Service
ATTACH;FMTTYPE=image/jpeg:https://bj.org/wp-content/uploads/2024/03/1905-0258-2048x1536-1.jpg
ORGANIZER;CN="B'nai Jeshurun":MAILTO:info@bj.org
END:VEVENT
BEGIN:VEVENT
DTSTART;TZID=America/New_York:20260111T093000
DTEND;TZID=America/New_York:20260111T103000
DTSTAMP:20260422T082407
CREATED:20230926T191607Z
LAST-MODIFIED:20260226T185930Z
UID:10018719-1768123800-1768127400@bj.org
SUMMARY:Shaharit (Online)
DESCRIPTION:
URL:https://bj.org/event/shaharit-sunday/2026-01-11/
LOCATION:Remote Access Only\, NY\, United States
CATEGORIES:Services,Featured in Next Service
ATTACH;FMTTYPE=image/jpeg:https://bj.org/wp-content/uploads/2019/10/1905-0280.jpg
ORGANIZER;CN="B'nai Jeshurun":MAILTO:info@bj.org
END:VEVENT
BEGIN:VEVENT
DTSTART;TZID=America/New_York:20260110T173500
DTEND;TZID=America/New_York:20260110T180000
DTSTAMP:20260422T082407
CREATED:20250916T171126Z
LAST-MODIFIED:20260302T172828Z
UID:10018242-1768066500-1768068000@bj.org
SUMMARY:Arvit and Havdalah
DESCRIPTION:
URL:https://bj.org/event/arvit-and-havdalah-10/2026-01-10/
LOCATION:Remote Access Only\, NY\, United States
CATEGORIES:Services,Featured in Next Service
ATTACH;FMTTYPE=image/jpeg:https://bj.org/wp-content/uploads/2020/03/havdallah-shutterstock_1385831468.jpg
ORGANIZER;CN="B'nai Jeshurun":MAILTO:info@bj.org
END:VEVENT
BEGIN:VEVENT
DTSTART;TZID=America/New_York:20260110T110000
DTEND;TZID=America/New_York:20260110T121500
DTSTAMP:20260422T082407
CREATED:20250903T174558Z
LAST-MODIFIED:20250903T181001Z
UID:10017385-1768042800-1768047300@bj.org
SUMMARY:Elementary School Shabbat Morning Services
DESCRIPTION:
URL:https://bj.org/event/elementary-school-shabbat-morning-services/2026-01-10/
LOCATION:Reception Room\, 270 West 89th Street\, New York\, NY\, 10024\, United States
CATEGORIES:Services
ATTACH;FMTTYPE=image/jpeg:https://bj.org/wp-content/uploads/2019/10/1905-0194.jpg
ORGANIZER;CN="B'nai Jeshurun":MAILTO:info@bj.org
END:VEVENT
BEGIN:VEVENT
DTSTART;TZID=America/New_York:20260110T110000
DTEND;TZID=America/New_York:20260110T120000
DTSTAMP:20260422T082407
CREATED:20250522T203304Z
LAST-MODIFIED:20250728T170021Z
UID:10017113-1768042800-1768046400@bj.org
SUMMARY:Early Childhood Shabbat Service (Age 6 and Under)
DESCRIPTION:
URL:https://bj.org/event/early-childhood-shabbat-service-age-6-and-under-3/2026-01-10/
LOCATION:Rabbi Rachel Cowan Chapel\, 270 West 89th Street\, New York\, NY\, 10024\, United States
CATEGORIES:Services
ATTACH;FMTTYPE=image/jpeg:https://bj.org/wp-content/uploads/2021/04/IMG_9480-scaled.jpg
ORGANIZER;CN="B'nai Jeshurun":MAILTO:info@bj.org
END:VEVENT
BEGIN:VEVENT
DTSTART;TZID=America/New_York:20260110T093000
DTEND;TZID=America/New_York:20260110T120000
DTSTAMP:20260422T082407
CREATED:20230309T215703Z
LAST-MODIFIED:20251103T170810Z
UID:10018184-1768037400-1768046400@bj.org
SUMMARY:Shabbat Morning Services
DESCRIPTION:
URL:https://bj.org/event/shabbat-morning-services/2026-01-10/
LOCATION:Sanctuary\, 257 West 88th Street\, New York\, NY\, 10024\, United States
CATEGORIES:Services,Featured in Next Service
ATTACH;FMTTYPE=image/jpeg:https://bj.org/wp-content/uploads/2023/01/1905-0386.jpg
ORGANIZER;CN="B'nai Jeshurun":MAILTO:info@bj.org
END:VEVENT
BEGIN:VEVENT
DTSTART;TZID=America/New_York:20260110T084500
DTEND;TZID=America/New_York:20260110T092500
DTSTAMP:20260422T082407
CREATED:20230822T153928Z
LAST-MODIFIED:20260313T190320Z
UID:10018675-1768034700-1768037100@bj.org
SUMMARY:Hakhanah LaTefillah
DESCRIPTION:
URL:https://bj.org/event/hakhanah-latefillah-4/2026-01-10/
LOCATION:Rabbi Rachel Cowan Chapel\, 270 West 89th Street\, New York\, NY\, 10024\, United States
CATEGORIES:Events,Services
ATTACH;FMTTYPE=image/jpeg:https://bj.org/wp-content/uploads/2020/11/1905-0258-scaled.jpg
ORGANIZER;CN="B'nai Jeshurun":MAILTO:info@bj.org
END:VEVENT
BEGIN:VEVENT
DTSTART;TZID=America/New_York:20260109T183000
DTEND;TZID=America/New_York:20260109T203000
DTSTAMP:20260422T082407
CREATED:20250822T172404Z
LAST-MODIFIED:20250822T172404Z
UID:10017202-1767983400-1767990600@bj.org
SUMMARY:Hitoreri
DESCRIPTION:
URL:https://bj.org/event/hitoreri-8-5/
LOCATION:Rabbi Rachel Cowan Chapel and Middle Room\, 270 West 89th Street\, New York\, 10024\, United States
CATEGORIES:Events,Services
ATTACH;FMTTYPE=image/jpeg:https://bj.org/wp-content/uploads/2023/01/1905-0080.jpg
ORGANIZER;CN="B'nai Jeshurun":MAILTO:info@bj.org
END:VEVENT
BEGIN:VEVENT
DTSTART;TZID=America/New_York:20260109T181500
DTEND;TZID=America/New_York:20260109T193000
DTSTAMP:20260422T082407
CREATED:20251031T191519Z
LAST-MODIFIED:20251031T191723Z
UID:10018135-1767982500-1767987000@bj.org
SUMMARY:Kabbalat Shabbat
DESCRIPTION:
URL:https://bj.org/event/kabbalat-shabbat-et/2026-01-09/
LOCATION:Sanctuary\, 257 West 88th Street\, New York\, NY\, 10024\, United States
CATEGORIES:Services,Featured in Next Service
ATTACH;FMTTYPE=image/png:https://bj.org/wp-content/uploads/2024/03/bj-dancing.png
ORGANIZER;CN="B'nai Jeshurun":MAILTO:info@bj.org
END:VEVENT
BEGIN:VEVENT
DTSTART;TZID=America/New_York:20260109T173000
DTEND;TZID=America/New_York:20260109T203000
DTSTAMP:20260422T082407
CREATED:20251118T222321Z
LAST-MODIFIED:20260107T170318Z
UID:10018276-1767979800-1767990600@bj.org
SUMMARY:Likrat Shabbat (K–6th Grade)
DESCRIPTION:
URL:https://bj.org/event/likrat-shabbat-k-6th-grade-3/
LOCATION:Reception Room and Middle Room\, 270 West 89th Street\, New York\, NY\, 10024\, United States
CATEGORIES:Events
ATTACH;FMTTYPE=image/jpeg:https://bj.org/wp-content/uploads/2023/01/1905-0080.jpg
ORGANIZER;CN="B'nai Jeshurun":MAILTO:info@bj.org
END:VEVENT
BEGIN:VEVENT
DTSTART;TZID=America/New_York:20260109T171500
DTEND;TZID=America/New_York:20260109T193000
DTSTAMP:20260422T082407
CREATED:20250730T132417Z
LAST-MODIFIED:20250730T132417Z
UID:10017137-1767978900-1767987000@bj.org
SUMMARY:Tot Shabbat
DESCRIPTION:
URL:https://bj.org/event/tot-shabbat-11-4/
LOCATION:Sanctuary and Rabbi Rachel Cowan Chapel\, 257 West 88th Street\, New York\, NY\, 10024\, United States
CATEGORIES:Events
ATTACH;FMTTYPE=image/jpeg:https://bj.org/wp-content/uploads/2025/07/early-childhood-retreat-meal_2025-1.jpg
ORGANIZER;CN="B'nai Jeshurun":MAILTO:info@bj.org
END:VEVENT
BEGIN:VEVENT
DTSTART;TZID=America/New_York:20260109T101500
DTEND;TZID=America/New_York:20260109T110000
DTSTAMP:20260422T082407
CREATED:20250724T194835Z
LAST-MODIFIED:20260421T150822Z
UID:10017078-1767953700-1767956400@bj.org
SUMMARY:Bim Bam
DESCRIPTION:
URL:https://bj.org/event/bim-bam-5/2026-01-09/
LOCATION:Sanctuary\, 257 West 88th Street\, New York\, NY\, 10024\, United States
CATEGORIES:Classes
ATTACH;FMTTYPE=image/png:https://bj.org/wp-content/uploads/2023/03/Bim-Bam-photo.png
ORGANIZER;CN="B'nai Jeshurun":MAILTO:info@bj.org
END:VEVENT
BEGIN:VEVENT
DTSTART;TZID=America/New_York:20260109T084500
DTEND;TZID=America/New_York:20260109T094500
DTSTAMP:20260422T082407
CREATED:20251010T143215Z
LAST-MODIFIED:20251010T154144Z
UID:10018049-1767948300-1767951900@bj.org
SUMMARY:Parashat Hashavua with Rabbinic Fellow Iliana Brodsky
DESCRIPTION:
URL:https://bj.org/event/parashat-hashavua-with-rabbinic-fellow-iliana-brodsky/2026-01-09/
LOCATION:Remote Access Only\, NY\, United States
CATEGORIES:Classes
ATTACH;FMTTYPE=image/jpeg:https://bj.org/wp-content/uploads/2023/01/1905-0383.jpg
ORGANIZER;CN="B'nai Jeshurun":MAILTO:info@bj.org
END:VEVENT
END:VCALENDAR