BEGIN:VCALENDAR
VERSION:2.0
PRODID:-//B&#039;nai Jeshurun - ECPv6.15.20//NONSGML v1.0//EN
CALSCALE:GREGORIAN
METHOD:PUBLISH
X-WR-CALNAME:B&#039;nai Jeshurun
X-ORIGINAL-URL:https://bj.org
X-WR-CALDESC:Events for B&#039;nai Jeshurun
REFRESH-INTERVAL;VALUE=DURATION:PT1H
X-Robots-Tag:noindex
X-PUBLISHED-TTL:PT1H
BEGIN:VTIMEZONE
TZID:America/New_York
BEGIN:DAYLIGHT
TZOFFSETFROM:-0500
TZOFFSETTO:-0400
TZNAME:EDT
DTSTART:20250309T070000
END:DAYLIGHT
BEGIN:STANDARD
TZOFFSETFROM:-0400
TZOFFSETTO:-0500
TZNAME:EST
DTSTART:20251102T060000
END:STANDARD
BEGIN:DAYLIGHT
TZOFFSETFROM:-0500
TZOFFSETTO:-0400
TZNAME:EDT
DTSTART:20260308T070000
END:DAYLIGHT
BEGIN:STANDARD
TZOFFSETFROM:-0400
TZOFFSETTO:-0500
TZNAME:EST
DTSTART:20261101T060000
END:STANDARD
BEGIN:DAYLIGHT
TZOFFSETFROM:-0500
TZOFFSETTO:-0400
TZNAME:EDT
DTSTART:20270314T070000
END:DAYLIGHT
BEGIN:STANDARD
TZOFFSETFROM:-0400
TZOFFSETTO:-0500
TZNAME:EST
DTSTART:20271107T060000
END:STANDARD
END:VTIMEZONE
BEGIN:VEVENT
DTSTART;TZID=America/New_York:20260120T103000
DTEND;TZID=America/New_York:20260120T120000
DTSTAMP:20260422T065206
CREATED:20251126T151439Z
LAST-MODIFIED:20251126T151439Z
UID:10018284-1768905000-1768910400@bj.org
SUMMARY:Aging Alone\, Together
DESCRIPTION:
URL:https://bj.org/event/aging-alone-together/2026-01-20/
LOCATION:Remote Access Only\, NY\, United States
CATEGORIES:Events
ATTACH;FMTTYPE=image/jpeg:https://bj.org/wp-content/uploads/2025/11/1905-0254-1.jpg
ORGANIZER;CN="B'nai Jeshurun":MAILTO:info@bj.org
END:VEVENT
BEGIN:VEVENT
DTSTART;TZID=America/New_York:20260120T080000
DTEND;TZID=America/New_York:20260120T090000
DTSTAMP:20260422T065207
CREATED:20250911T161547Z
LAST-MODIFIED:20251219T192933Z
UID:10018777-1768896000-1768899600@bj.org
SUMMARY:Shaharit (Online)
DESCRIPTION:
URL:https://bj.org/event/shaharit-online-10-2/2026-01-20/
LOCATION:Remote Access Only\, NY\, United States
CATEGORIES:Services,Featured in Next Service
ATTACH;FMTTYPE=image/jpeg:https://bj.org/wp-content/uploads/2019/10/1905-0275.jpg
ORGANIZER;CN="B'nai Jeshurun":MAILTO:info@bj.org
END:VEVENT
BEGIN:VEVENT
DTSTART;TZID=America/New_York:20260119T193000
DTEND;TZID=America/New_York:20260119T203000
DTSTAMP:20260422T065207
CREATED:20210311T194417Z
LAST-MODIFIED:20260330T193129Z
UID:10007537-1768851000-1768854600@bj.org
SUMMARY:Connections Cocktail Hour
DESCRIPTION:
URL:https://bj.org/event/connections-cocktail-hour-2/2026-01-19/
LOCATION:Remote Access Only\, NY\, United States
CATEGORIES:Events
ATTACH;FMTTYPE=image/jpeg:https://bj.org/wp-content/uploads/2022/04/best-italian-cocktails.jpg
ORGANIZER;CN="B'nai Jeshurun":MAILTO:info@bj.org
END:VEVENT
BEGIN:VEVENT
DTSTART;TZID=America/New_York:20260119T183000
DTEND;TZID=America/New_York:20260119T190000
DTSTAMP:20260422T065207
CREATED:20250916T192848Z
LAST-MODIFIED:20260219T191516Z
UID:10019032-1768847400-1768849200@bj.org
SUMMARY:Arvit (Online)
DESCRIPTION:
URL:https://bj.org/event/arvit-online-2-copy/2026-01-19/
LOCATION:Remote Access Only\, NY\, United States
CATEGORIES:Services,Featured in Next Service
ATTACH;FMTTYPE=image/jpeg:https://bj.org/wp-content/uploads/2024/03/1905-0258-2048x1536-1.jpg
ORGANIZER;CN="B'nai Jeshurun":MAILTO:info@bj.org
END:VEVENT
BEGIN:VEVENT
DTSTART;TZID=America/New_York:20260119T091500
DTEND;TZID=America/New_York:20260119T104500
DTSTAMP:20260422T065207
CREATED:20230926T181630Z
LAST-MODIFIED:20260330T154446Z
UID:10019001-1768814100-1768819500@bj.org
SUMMARY:Shaharit (Rosh Hodesh)
DESCRIPTION:
URL:https://bj.org/event/shaharit-rosh-hodesh-in-person-and-online-2/2026-01-19/
LOCATION:Rabbi Rachel Cowan Chapel\, 270 West 89th Street\, New York\, NY\, 10024\, United States
CATEGORIES:Services,Featured in Next Service
ATTACH;FMTTYPE=image/jpeg:https://bj.org/wp-content/uploads/2019/10/1905-0278.jpg
ORGANIZER;CN="B'nai Jeshurun":MAILTO:info@bj.org
END:VEVENT
BEGIN:VEVENT
DTSTART;TZID=America/New_York:20260118T183000
DTEND;TZID=America/New_York:20260118T190000
DTSTAMP:20260422T065207
CREATED:20250916T192848Z
LAST-MODIFIED:20260219T191516Z
UID:10019031-1768761000-1768762800@bj.org
SUMMARY:Arvit (Online)
DESCRIPTION:
URL:https://bj.org/event/arvit-online-2-copy/2026-01-18/
LOCATION:Remote Access Only\, NY\, United States
CATEGORIES:Services,Featured in Next Service
ATTACH;FMTTYPE=image/jpeg:https://bj.org/wp-content/uploads/2024/03/1905-0258-2048x1536-1.jpg
ORGANIZER;CN="B'nai Jeshurun":MAILTO:info@bj.org
END:VEVENT
BEGIN:VEVENT
DTSTART;TZID=America/New_York:20260118T093000
DTEND;TZID=America/New_York:20260118T103000
DTSTAMP:20260422T065207
CREATED:20230926T191607Z
LAST-MODIFIED:20260226T185930Z
UID:10018720-1768728600-1768732200@bj.org
SUMMARY:Shaharit (Online)
DESCRIPTION:
URL:https://bj.org/event/shaharit-sunday/2026-01-18/
LOCATION:Remote Access Only\, NY\, United States
CATEGORIES:Services,Featured in Next Service
ATTACH;FMTTYPE=image/jpeg:https://bj.org/wp-content/uploads/2019/10/1905-0280.jpg
ORGANIZER;CN="B'nai Jeshurun":MAILTO:info@bj.org
END:VEVENT
BEGIN:VEVENT
DTSTART;TZID=America/New_York:20260117T174500
DTEND;TZID=America/New_York:20260117T181000
DTSTAMP:20260422T065207
CREATED:20250916T171126Z
LAST-MODIFIED:20260302T172828Z
UID:10018243-1768671900-1768673400@bj.org
SUMMARY:Arvit and Havdalah
DESCRIPTION:
URL:https://bj.org/event/arvit-and-havdalah-10/2026-01-17/
LOCATION:Remote Access Only\, NY\, United States
CATEGORIES:Services,Featured in Next Service
ATTACH;FMTTYPE=image/jpeg:https://bj.org/wp-content/uploads/2020/03/havdallah-shutterstock_1385831468.jpg
ORGANIZER;CN="B'nai Jeshurun":MAILTO:info@bj.org
END:VEVENT
BEGIN:VEVENT
DTSTART;TZID=America/New_York:20260117T164500
DTEND;TZID=America/New_York:20260117T181500
DTSTAMP:20260422T065207
CREATED:20250904T131937Z
LAST-MODIFIED:20260304T161237Z
UID:10018280-1768668300-1768673700@bj.org
SUMMARY:Shabbat Minha
DESCRIPTION:
URL:https://bj.org/event/shabbat-minha-5-2/2026-01-17/
LOCATION:Sanctuary\, 257 West 88th Street\, New York\, NY\, 10024\, United States
CATEGORIES:Services,Featured in Next Service
ATTACH;FMTTYPE=image/jpeg:https://bj.org/wp-content/uploads/2025/01/1905-0260-2048x1152-1.jpg
ORGANIZER;CN="B'nai Jeshurun":MAILTO:info@bj.org
END:VEVENT
BEGIN:VEVENT
DTSTART;TZID=America/New_York:20260117T110000
DTEND;TZID=America/New_York:20260117T121500
DTSTAMP:20260422T065207
CREATED:20250903T174558Z
LAST-MODIFIED:20250903T181001Z
UID:10017396-1768647600-1768652100@bj.org
SUMMARY:Elementary School Shabbat Morning Services
DESCRIPTION:
URL:https://bj.org/event/elementary-school-shabbat-morning-services/2026-01-17/
LOCATION:Reception Room\, 270 West 89th Street\, New York\, NY\, 10024\, United States
CATEGORIES:Services
ATTACH;FMTTYPE=image/jpeg:https://bj.org/wp-content/uploads/2019/10/1905-0194.jpg
ORGANIZER;CN="B'nai Jeshurun":MAILTO:info@bj.org
END:VEVENT
BEGIN:VEVENT
DTSTART;TZID=America/New_York:20260117T110000
DTEND;TZID=America/New_York:20260117T120000
DTSTAMP:20260422T065207
CREATED:20250522T203304Z
LAST-MODIFIED:20250728T170021Z
UID:10017114-1768647600-1768651200@bj.org
SUMMARY:Early Childhood Shabbat Service (Age 6 and Under)
DESCRIPTION:
URL:https://bj.org/event/early-childhood-shabbat-service-age-6-and-under-3/2026-01-17/
LOCATION:Rabbi Rachel Cowan Chapel\, 270 West 89th Street\, New York\, NY\, 10024\, United States
CATEGORIES:Services
ATTACH;FMTTYPE=image/jpeg:https://bj.org/wp-content/uploads/2021/04/IMG_9480-scaled.jpg
ORGANIZER;CN="B'nai Jeshurun":MAILTO:info@bj.org
END:VEVENT
BEGIN:VEVENT
DTSTART;TZID=America/New_York:20260117T093000
DTEND;TZID=America/New_York:20260117T120000
DTSTAMP:20260422T065207
CREATED:20260107T203536Z
LAST-MODIFIED:20260107T204054Z
UID:10018185-1768642200-1768651200@bj.org
SUMMARY:Shabbat Morning Services with Guest Speaker Eric K. Ward
DESCRIPTION:
URL:https://bj.org/event/shabbat-morning-services-17/
LOCATION:Sanctuary\, 257 West 88th Street\, New York\, NY\, 10024\, United States
CATEGORIES:Services,Featured in Next Service
ATTACH;FMTTYPE=image/jpeg:https://bj.org/wp-content/uploads/2023/01/1905-0386.jpg
ORGANIZER;CN="B'nai Jeshurun":MAILTO:info@bj.org
END:VEVENT
BEGIN:VEVENT
DTSTART;TZID=America/New_York:20260116T183000
DTEND;TZID=America/New_York:20260116T220000
DTSTAMP:20260422T065207
CREATED:20251217T205723Z
LAST-MODIFIED:20260116T184620Z
UID:10018711-1768588200-1768600800@bj.org
SUMMARY:Aviv Shabbat
DESCRIPTION:
URL:https://bj.org/event/aviv-shabbat-13/
LOCATION:Community House\, 270 West 89th Street\, New York\, NY\, 10024\, United States
CATEGORIES:Events
ATTACH;FMTTYPE=image/jpeg:https://bj.org/wp-content/uploads/2024/08/dinnerpic.jpg
ORGANIZER;CN="B'nai Jeshurun":MAILTO:info@bj.org
END:VEVENT
BEGIN:VEVENT
DTSTART;TZID=America/New_York:20260116T181500
DTEND;TZID=America/New_York:20260116T193000
DTSTAMP:20260422T065207
CREATED:20251031T191519Z
LAST-MODIFIED:20251031T191723Z
UID:10018136-1768587300-1768591800@bj.org
SUMMARY:Kabbalat Shabbat
DESCRIPTION:
URL:https://bj.org/event/kabbalat-shabbat-et/2026-01-16/
LOCATION:Sanctuary\, 257 West 88th Street\, New York\, NY\, 10024\, United States
CATEGORIES:Services,Featured in Next Service
ATTACH;FMTTYPE=image/png:https://bj.org/wp-content/uploads/2024/03/bj-dancing.png
ORGANIZER;CN="B'nai Jeshurun":MAILTO:info@bj.org
END:VEVENT
BEGIN:VEVENT
DTSTART;TZID=America/New_York:20260116T101500
DTEND;TZID=America/New_York:20260116T110000
DTSTAMP:20260422T065207
CREATED:20250724T194835Z
LAST-MODIFIED:20260421T150822Z
UID:10017079-1768558500-1768561200@bj.org
SUMMARY:Bim Bam
DESCRIPTION:
URL:https://bj.org/event/bim-bam-5/2026-01-16/
LOCATION:Sanctuary\, 257 West 88th Street\, New York\, NY\, 10024\, United States
CATEGORIES:Classes
ATTACH;FMTTYPE=image/png:https://bj.org/wp-content/uploads/2023/03/Bim-Bam-photo.png
ORGANIZER;CN="B'nai Jeshurun":MAILTO:info@bj.org
END:VEVENT
BEGIN:VEVENT
DTSTART;TZID=America/New_York:20260116T084500
DTEND;TZID=America/New_York:20260116T094500
DTSTAMP:20260422T065207
CREATED:20251010T143215Z
LAST-MODIFIED:20251010T154144Z
UID:10018050-1768553100-1768556700@bj.org
SUMMARY:Parashat Hashavua with Rabbinic Fellow Iliana Brodsky
DESCRIPTION:
URL:https://bj.org/event/parashat-hashavua-with-rabbinic-fellow-iliana-brodsky/2026-01-16/
LOCATION:Remote Access Only\, NY\, United States
CATEGORIES:Classes
ATTACH;FMTTYPE=image/jpeg:https://bj.org/wp-content/uploads/2023/01/1905-0383.jpg
ORGANIZER;CN="B'nai Jeshurun":MAILTO:info@bj.org
END:VEVENT
BEGIN:VEVENT
DTSTART;TZID=America/New_York:20260116T080000
DTEND;TZID=America/New_York:20260116T090000
DTSTAMP:20260422T065207
CREATED:20250911T161547Z
LAST-MODIFIED:20251219T192933Z
UID:10018776-1768550400-1768554000@bj.org
SUMMARY:Shaharit (Online)
DESCRIPTION:
URL:https://bj.org/event/shaharit-online-10-2/2026-01-16/
LOCATION:Remote Access Only\, NY\, United States
CATEGORIES:Services,Featured in Next Service
ATTACH;FMTTYPE=image/jpeg:https://bj.org/wp-content/uploads/2019/10/1905-0275.jpg
ORGANIZER;CN="B'nai Jeshurun":MAILTO:info@bj.org
END:VEVENT
BEGIN:VEVENT
DTSTART;TZID=America/New_York:20260115T190000
DTEND;TZID=America/New_York:20260115T203000
DTSTAMP:20260422T065207
CREATED:20251219T192452Z
LAST-MODIFIED:20251219T192452Z
UID:10018767-1768503600-1768509000@bj.org
SUMMARY:Ignite Your Friday Night Prayer with Rabbi Becca Weintraub
DESCRIPTION:
URL:https://bj.org/event/ignite-your-friday-night-prayer-with-rabbi-becca-weintraub/2026-01-15/
LOCATION:Remote Access Only\, NY\, United States
CATEGORIES:Events
ATTACH;FMTTYPE=image/jpeg:https://bj.org/wp-content/uploads/2022/04/1905-0281-1.jpg
ORGANIZER;CN="B'nai Jeshurun":MAILTO:info@bj.org
END:VEVENT
BEGIN:VEVENT
DTSTART;TZID=America/New_York:20260115T190000
DTEND;TZID=America/New_York:20260115T203000
DTSTAMP:20260422T065207
CREATED:20251106T160859Z
LAST-MODIFIED:20251106T185424Z
UID:10018258-1768503600-1768509000@bj.org
SUMMARY:Jewish Book Group: Voices from Around the World
DESCRIPTION:
URL:https://bj.org/event/jewish-book-group-voices-from-around-the-world/
LOCATION:Remote Access Only\, NY\, United States
CATEGORIES:Events
ATTACH;FMTTYPE=image/png:https://bj.org/wp-content/uploads/2025/11/CHAIM-GRADE.png
ORGANIZER;CN="B'nai Jeshurun":MAILTO:info@bj.org
END:VEVENT
BEGIN:VEVENT
DTSTART;TZID=America/New_York:20260115T190000
DTEND;TZID=America/New_York:20260115T203000
DTSTAMP:20260422T065207
CREATED:20250916T143510Z
LAST-MODIFIED:20251223T173706Z
UID:10017711-1768503600-1768509000@bj.org
SUMMARY:Bridges in Sound Concert Series: Spirituals and Beyond
DESCRIPTION:
URL:https://bj.org/event/bridges-in-sound-concert-series-spirituals-and-beyond/
LOCATION:Congregation Rodeph Sholom\, 7 West 83rd Street\, New York\, NY\, 10024\, United States
CATEGORIES:Events
ATTACH;FMTTYPE=image/png:https://bj.org/wp-content/uploads/2025/09/bridges-in-sound-event-1.png
ORGANIZER;CN="B'nai Jeshurun":MAILTO:info@bj.org
END:VEVENT
BEGIN:VEVENT
DTSTART;TZID=America/New_York:20260115T183000
DTEND;TZID=America/New_York:20260115T190000
DTSTAMP:20260422T065207
CREATED:20250916T192848Z
LAST-MODIFIED:20260219T191516Z
UID:10019030-1768501800-1768503600@bj.org
SUMMARY:Arvit (Online)
DESCRIPTION:
URL:https://bj.org/event/arvit-online-2-copy/2026-01-15/
LOCATION:Remote Access Only\, NY\, United States
CATEGORIES:Services,Featured in Next Service
ATTACH;FMTTYPE=image/jpeg:https://bj.org/wp-content/uploads/2024/03/1905-0258-2048x1536-1.jpg
ORGANIZER;CN="B'nai Jeshurun":MAILTO:info@bj.org
END:VEVENT
BEGIN:VEVENT
DTSTART;TZID=America/New_York:20260115T154500
DTEND;TZID=America/New_York:20260115T164500
DTSTAMP:20260422T065207
CREATED:20221215T210758Z
LAST-MODIFIED:20260203T171538Z
UID:10014892-1768491900-1768495500@bj.org
SUMMARY:A Taste of Talmud: Daf Yomi with Rabbi Shuli Passow
DESCRIPTION:
URL:https://bj.org/event/a-taste-of-talmud-daf-yomi-with-rabbi-shuli-passow/2026-01-15/
LOCATION:Remote Access Only\, NY\, United States
CATEGORIES:Classes
ATTACH;FMTTYPE=image/png:https://bj.org/wp-content/uploads/2022/12/Daf-Yomi-Shuli-1.png
ORGANIZER;CN="B'nai Jeshurun":MAILTO:info@bj.org
END:VEVENT
BEGIN:VEVENT
DTSTART;TZID=America/New_York:20260115T080000
DTEND;TZID=America/New_York:20260115T090000
DTSTAMP:20260422T065207
CREATED:20250911T185254Z
LAST-MODIFIED:20251219T194251Z
UID:10018907-1768464000-1768467600@bj.org
SUMMARY:Shaharit (In Person and Online)
DESCRIPTION:
URL:https://bj.org/event/shaharit-in-person-and-online-6-2/2026-01-15/
LOCATION:Rabbi Rachel Cowan Chapel\, 270 West 89th Street\, New York\, NY\, 10024\, United States
CATEGORIES:Services,Featured in Next Service
ATTACH;FMTTYPE=image/jpeg:https://bj.org/wp-content/uploads/2019/10/1905-0272.jpg
ORGANIZER;CN="B'nai Jeshurun":MAILTO:info@bj.org
END:VEVENT
BEGIN:VEVENT
DTSTART;VALUE=DATE:20260115
DTEND;VALUE=DATE:20260121
DTSTAMP:20260422T065207
CREATED:20250702T171036Z
LAST-MODIFIED:20250702T171036Z
UID:10016949-1768449600-1768881599@bj.org
SUMMARY:Civil Rights Journey: 8th-9th Grade Trip
DESCRIPTION:
URL:https://bj.org/event/civil-rights-journey-8th-9th-grade-trip/
CATEGORIES:Trips
ATTACH;FMTTYPE=image/png:https://bj.org/wp-content/uploads/2025/07/civil-rights-trip-for-teens-feature-image.png
ORGANIZER;CN="B'nai Jeshurun":MAILTO:info@bj.org
END:VEVENT
BEGIN:VEVENT
DTSTART;TZID=America/New_York:20260114T190000
DTEND;TZID=America/New_York:20260114T203000
DTSTAMP:20260422T065207
CREATED:20251204T200429Z
LAST-MODIFIED:20260112T162124Z
UID:10018289-1768417200-1768422600@bj.org
SUMMARY:Commandments\, Covenants\, and Choices: A New Look at Jewish Practice
DESCRIPTION:
URL:https://bj.org/event/commandments-covenants-and-choices-a-new-look-at-jewish-practice/
LOCATION:Rabbi Rachel Cowan Chapel\, 270 West 89th Street\, New York\, NY\, 10024\, United States
CATEGORIES:Events
ATTACH;FMTTYPE=image/jpeg:https://bj.org/wp-content/uploads/2019/10/1905-0111.jpg
ORGANIZER;CN="B'nai Jeshurun":MAILTO:info@bj.org
END:VEVENT
BEGIN:VEVENT
DTSTART;TZID=America/New_York:20260114T183000
DTEND;TZID=America/New_York:20260114T190000
DTSTAMP:20260422T065207
CREATED:20250916T192848Z
LAST-MODIFIED:20260219T191516Z
UID:10019029-1768415400-1768417200@bj.org
SUMMARY:Arvit (Online)
DESCRIPTION:
URL:https://bj.org/event/arvit-online-2-copy/2026-01-14/
LOCATION:Remote Access Only\, NY\, United States
CATEGORIES:Services,Featured in Next Service
ATTACH;FMTTYPE=image/jpeg:https://bj.org/wp-content/uploads/2024/03/1905-0258-2048x1536-1.jpg
ORGANIZER;CN="B'nai Jeshurun":MAILTO:info@bj.org
END:VEVENT
BEGIN:VEVENT
DTSTART;TZID=America/New_York:20260114T180000
DTEND;TZID=America/New_York:20260114T200000
DTSTAMP:20260422T065207
CREATED:20250814T204714Z
LAST-MODIFIED:20260202T184200Z
UID:10017166-1768413600-1768420800@bj.org
SUMMARY:Criminal Justice Cohort (2025–2026)
DESCRIPTION:
URL:https://bj.org/event/criminal-justice-cohort-2025-2026/2026-01-14/
LOCATION:Middle Room\, 270 West 89th Street\, New York\, NY\, 10024\, United States
CATEGORIES:Events
ATTACH;FMTTYPE=image/png:https://bj.org/wp-content/uploads/2025/08/Criminal-Justice-Cohort.png
ORGANIZER;CN="B'nai Jeshurun":MAILTO:info@bj.org
END:VEVENT
BEGIN:VEVENT
DTSTART;TZID=America/New_York:20260114T083000
DTEND;TZID=America/New_York:20260114T091500
DTSTAMP:20260422T065207
CREATED:20221215T212948Z
LAST-MODIFIED:20260415T133805Z
UID:10019705-1768379400-1768382100@bj.org
SUMMARY:Jewish Meditation with Rabbi Shuli Passow
DESCRIPTION:
URL:https://bj.org/event/jewish-meditation-with-rabbi-shuli-passow-3/2026-01-14/
LOCATION:Remote Access Only\, NY\, United States
CATEGORIES:Classes
ATTACH;FMTTYPE=image/jpeg:https://bj.org/wp-content/uploads/2022/12/Daily-Meditation-Shuli-Image.jpg
ORGANIZER;CN="B'nai Jeshurun":MAILTO:info@bj.org
END:VEVENT
BEGIN:VEVENT
DTSTART;TZID=America/New_York:20260114T080000
DTEND;TZID=America/New_York:20260114T090000
DTSTAMP:20260422T065207
CREATED:20250911T161547Z
LAST-MODIFIED:20251219T192933Z
UID:10018775-1768377600-1768381200@bj.org
SUMMARY:Shaharit (Online)
DESCRIPTION:
URL:https://bj.org/event/shaharit-online-10-2/2026-01-14/
LOCATION:Remote Access Only\, NY\, United States
CATEGORIES:Services,Featured in Next Service
ATTACH;FMTTYPE=image/jpeg:https://bj.org/wp-content/uploads/2019/10/1905-0275.jpg
ORGANIZER;CN="B'nai Jeshurun":MAILTO:info@bj.org
END:VEVENT
BEGIN:VEVENT
DTSTART;TZID=America/New_York:20260113T190000
DTEND;TZID=America/New_York:20260113T210000
DTSTAMP:20260422T065207
CREATED:20250624T170554Z
LAST-MODIFIED:20260105T195343Z
UID:10016875-1768330800-1768338000@bj.org
SUMMARY:Introduction to Judaism
DESCRIPTION:
URL:https://bj.org/event/intro-to-judaism-4/2026-01-13/
LOCATION:Rabbi Rachel Cowan Chapel\, 270 West 89th Street\, New York\, NY\, 10024\, United States
CATEGORIES:Classes
ATTACH;FMTTYPE=image/jpeg:https://bj.org/wp-content/uploads/2024/10/whi5A0o8.jpg
ORGANIZER;CN="B'nai Jeshurun":MAILTO:info@bj.org
END:VEVENT
END:VCALENDAR