BEGIN:VCALENDAR
VERSION:2.0
PRODID:-//B&#039;nai Jeshurun - ECPv6.15.20//NONSGML v1.0//EN
CALSCALE:GREGORIAN
METHOD:PUBLISH
X-WR-CALNAME:B&#039;nai Jeshurun
X-ORIGINAL-URL:https://bj.org
X-WR-CALDESC:Events for B&#039;nai Jeshurun
REFRESH-INTERVAL;VALUE=DURATION:PT1H
X-Robots-Tag:noindex
X-PUBLISHED-TTL:PT1H
BEGIN:VTIMEZONE
TZID:America/New_York
BEGIN:DAYLIGHT
TZOFFSETFROM:-0500
TZOFFSETTO:-0400
TZNAME:EDT
DTSTART:20250309T070000
END:DAYLIGHT
BEGIN:STANDARD
TZOFFSETFROM:-0400
TZOFFSETTO:-0500
TZNAME:EST
DTSTART:20251102T060000
END:STANDARD
BEGIN:DAYLIGHT
TZOFFSETFROM:-0500
TZOFFSETTO:-0400
TZNAME:EDT
DTSTART:20260308T070000
END:DAYLIGHT
BEGIN:STANDARD
TZOFFSETFROM:-0400
TZOFFSETTO:-0500
TZNAME:EST
DTSTART:20261101T060000
END:STANDARD
BEGIN:DAYLIGHT
TZOFFSETFROM:-0500
TZOFFSETTO:-0400
TZNAME:EDT
DTSTART:20270314T070000
END:DAYLIGHT
BEGIN:STANDARD
TZOFFSETFROM:-0400
TZOFFSETTO:-0500
TZNAME:EST
DTSTART:20271107T060000
END:STANDARD
END:VTIMEZONE
BEGIN:VEVENT
DTSTART;TZID=America/New_York:20260209T193000
DTEND;TZID=America/New_York:20260209T203000
DTSTAMP:20260422T010737
CREATED:20210311T194417Z
LAST-MODIFIED:20260330T193129Z
UID:10007540-1770665400-1770669000@bj.org
SUMMARY:Connections Cocktail Hour
DESCRIPTION:
URL:https://bj.org/event/connections-cocktail-hour-2/2026-02-09/
LOCATION:Remote Access Only\, NY\, United States
CATEGORIES:Events
ATTACH;FMTTYPE=image/jpeg:https://bj.org/wp-content/uploads/2022/04/best-italian-cocktails.jpg
ORGANIZER;CN="B'nai Jeshurun":MAILTO:info@bj.org
END:VEVENT
BEGIN:VEVENT
DTSTART;TZID=America/New_York:20260209T183000
DTEND;TZID=America/New_York:20260209T200000
DTSTAMP:20260422T010737
CREATED:20250806T192018Z
LAST-MODIFIED:20250806T192018Z
UID:10017148-1770661800-1770667200@bj.org
SUMMARY:Interfaith Social Justice Book Club: Still Born
DESCRIPTION:
URL:https://bj.org/event/interfaith-social-justice-book-club-4/
LOCATION:St. Paul and St. Andrew (SPSA)\, 263 West 86th Street\, New York\, 10024\, United States
CATEGORIES:Events
ATTACH;FMTTYPE=image/png:https://bj.org/wp-content/uploads/2025/08/Still-Born-by-Guadalupe-Nettel.png
ORGANIZER;CN="B'nai Jeshurun":MAILTO:info@bj.org
END:VEVENT
BEGIN:VEVENT
DTSTART;TZID=America/New_York:20260209T183000
DTEND;TZID=America/New_York:20260209T190000
DTSTAMP:20260422T010737
CREATED:20250916T192848Z
LAST-MODIFIED:20260219T191516Z
UID:10019047-1770661800-1770663600@bj.org
SUMMARY:Arvit (Online)
DESCRIPTION:
URL:https://bj.org/event/arvit-online-2-copy/2026-02-09/
LOCATION:Remote Access Only\, NY\, United States
CATEGORIES:Services,Featured in Next Service
ATTACH;FMTTYPE=image/jpeg:https://bj.org/wp-content/uploads/2024/03/1905-0258-2048x1536-1.jpg
ORGANIZER;CN="B'nai Jeshurun":MAILTO:info@bj.org
END:VEVENT
BEGIN:VEVENT
DTSTART;TZID=America/New_York:20260209T080000
DTEND;TZID=America/New_York:20260209T090000
DTSTAMP:20260422T010737
CREATED:20250911T185254Z
LAST-MODIFIED:20251219T194251Z
UID:10018914-1770624000-1770627600@bj.org
SUMMARY:Shaharit (In Person and Online)
DESCRIPTION:
URL:https://bj.org/event/shaharit-in-person-and-online-6-2/2026-02-09/
LOCATION:Rabbi Rachel Cowan Chapel\, 270 West 89th Street\, New York\, NY\, 10024\, United States
CATEGORIES:Services,Featured in Next Service
ATTACH;FMTTYPE=image/jpeg:https://bj.org/wp-content/uploads/2019/10/1905-0272.jpg
ORGANIZER;CN="B'nai Jeshurun":MAILTO:info@bj.org
END:VEVENT
BEGIN:VEVENT
DTSTART;TZID=America/New_York:20260208T183000
DTEND;TZID=America/New_York:20260208T190000
DTSTAMP:20260422T010737
CREATED:20250916T192848Z
LAST-MODIFIED:20260219T191516Z
UID:10019046-1770575400-1770577200@bj.org
SUMMARY:Arvit (Online)
DESCRIPTION:
URL:https://bj.org/event/arvit-online-2-copy/2026-02-08/
LOCATION:Remote Access Only\, NY\, United States
CATEGORIES:Services,Featured in Next Service
ATTACH;FMTTYPE=image/jpeg:https://bj.org/wp-content/uploads/2024/03/1905-0258-2048x1536-1.jpg
ORGANIZER;CN="B'nai Jeshurun":MAILTO:info@bj.org
END:VEVENT
BEGIN:VEVENT
DTSTART;TZID=America/New_York:20260208T093000
DTEND;TZID=America/New_York:20260208T103000
DTSTAMP:20260422T010737
CREATED:20230926T191607Z
LAST-MODIFIED:20260226T185930Z
UID:10018723-1770543000-1770546600@bj.org
SUMMARY:Shaharit (Online)
DESCRIPTION:
URL:https://bj.org/event/shaharit-sunday/2026-02-08/
LOCATION:Remote Access Only\, NY\, United States
CATEGORIES:Services,Featured in Next Service
ATTACH;FMTTYPE=image/jpeg:https://bj.org/wp-content/uploads/2019/10/1905-0280.jpg
ORGANIZER;CN="B'nai Jeshurun":MAILTO:info@bj.org
END:VEVENT
BEGIN:VEVENT
DTSTART;TZID=America/New_York:20260207T181000
DTEND;TZID=America/New_York:20260207T183500
DTSTAMP:20260422T010737
CREATED:20250916T171126Z
LAST-MODIFIED:20260302T172828Z
UID:10018246-1770487800-1770489300@bj.org
SUMMARY:Arvit and Havdalah
DESCRIPTION:
URL:https://bj.org/event/arvit-and-havdalah-10/2026-02-07/
LOCATION:Remote Access Only\, NY\, United States
CATEGORIES:Services,Featured in Next Service
ATTACH;FMTTYPE=image/jpeg:https://bj.org/wp-content/uploads/2020/03/havdallah-shutterstock_1385831468.jpg
ORGANIZER;CN="B'nai Jeshurun":MAILTO:info@bj.org
END:VEVENT
BEGIN:VEVENT
DTSTART;TZID=America/New_York:20260207T171500
DTEND;TZID=America/New_York:20260207T181500
DTSTAMP:20260422T010737
CREATED:20250904T131937Z
LAST-MODIFIED:20260304T161237Z
UID:10018270-1770484500-1770488100@bj.org
SUMMARY:Shabbat Minha
DESCRIPTION:
URL:https://bj.org/event/shabbat-minha-5-2/2026-02-07/
LOCATION:Sanctuary\, 257 West 88th Street\, New York\, NY\, 10024\, United States
CATEGORIES:Services,Featured in Next Service
ATTACH;FMTTYPE=image/jpeg:https://bj.org/wp-content/uploads/2025/01/1905-0260-2048x1152-1.jpg
ORGANIZER;CN="B'nai Jeshurun":MAILTO:info@bj.org
END:VEVENT
BEGIN:VEVENT
DTSTART;TZID=America/New_York:20260207T124500
DTEND;TZID=America/New_York:20260207T134500
DTSTAMP:20260422T010737
CREATED:20260202T145508Z
LAST-MODIFIED:20260202T184346Z
UID:10019101-1770468300-1770471900@bj.org
SUMMARY:Reflections from the BJ Trip to Israel
DESCRIPTION:
URL:https://bj.org/event/reflections-from-the-bj-trip-to-israel/
LOCATION:Community House – 3rd Floor\, 270 West 89th Street\, New York\, NY\, 10024\, United States
CATEGORIES:Events,Featured on Home Page
ATTACH;FMTTYPE=image/jpeg:https://bj.org/wp-content/uploads/2026/02/Israel-trip-blackthorn-21.jpg
ORGANIZER;CN="B'nai Jeshurun":MAILTO:info@bj.org
END:VEVENT
BEGIN:VEVENT
DTSTART;TZID=America/New_York:20260207T110000
DTEND;TZID=America/New_York:20260207T121500
DTSTAMP:20260422T010737
CREATED:20250903T174558Z
LAST-MODIFIED:20250903T181001Z
UID:10017399-1770462000-1770466500@bj.org
SUMMARY:Elementary School Shabbat Morning Services
DESCRIPTION:
URL:https://bj.org/event/elementary-school-shabbat-morning-services/2026-02-07/
LOCATION:Reception Room\, 270 West 89th Street\, New York\, NY\, 10024\, United States
CATEGORIES:Services
ATTACH;FMTTYPE=image/jpeg:https://bj.org/wp-content/uploads/2019/10/1905-0194.jpg
ORGANIZER;CN="B'nai Jeshurun":MAILTO:info@bj.org
END:VEVENT
BEGIN:VEVENT
DTSTART;TZID=America/New_York:20260207T110000
DTEND;TZID=America/New_York:20260207T120000
DTSTAMP:20260422T010737
CREATED:20250522T203304Z
LAST-MODIFIED:20250728T170021Z
UID:10017117-1770462000-1770465600@bj.org
SUMMARY:Early Childhood Shabbat Service (Age 6 and Under)
DESCRIPTION:
URL:https://bj.org/event/early-childhood-shabbat-service-age-6-and-under-3/2026-02-07/
LOCATION:Rabbi Rachel Cowan Chapel\, 270 West 89th Street\, New York\, NY\, 10024\, United States
CATEGORIES:Services
ATTACH;FMTTYPE=image/jpeg:https://bj.org/wp-content/uploads/2021/04/IMG_9480-scaled.jpg
ORGANIZER;CN="B'nai Jeshurun":MAILTO:info@bj.org
END:VEVENT
BEGIN:VEVENT
DTSTART;TZID=America/New_York:20260207T093000
DTEND;TZID=America/New_York:20260207T120000
DTSTAMP:20260422T010737
CREATED:20230309T215703Z
LAST-MODIFIED:20251103T170810Z
UID:10018188-1770456600-1770465600@bj.org
SUMMARY:Shabbat Morning Services
DESCRIPTION:
URL:https://bj.org/event/shabbat-morning-services/2026-02-07/
LOCATION:Sanctuary\, 257 West 88th Street\, New York\, NY\, 10024\, United States
CATEGORIES:Services,Featured in Next Service
ATTACH;FMTTYPE=image/jpeg:https://bj.org/wp-content/uploads/2023/01/1905-0386.jpg
ORGANIZER;CN="B'nai Jeshurun":MAILTO:info@bj.org
END:VEVENT
BEGIN:VEVENT
DTSTART;TZID=America/New_York:20260207T084500
DTEND;TZID=America/New_York:20260207T092500
DTSTAMP:20260422T010737
CREATED:20230822T153928Z
LAST-MODIFIED:20260313T190320Z
UID:10018677-1770453900-1770456300@bj.org
SUMMARY:Hakhanah LaTefillah
DESCRIPTION:
URL:https://bj.org/event/hakhanah-latefillah-4/2026-02-07/
LOCATION:Rabbi Rachel Cowan Chapel\, 270 West 89th Street\, New York\, NY\, 10024\, United States
CATEGORIES:Events,Services
ATTACH;FMTTYPE=image/jpeg:https://bj.org/wp-content/uploads/2020/11/1905-0258-scaled.jpg
ORGANIZER;CN="B'nai Jeshurun":MAILTO:info@bj.org
END:VEVENT
BEGIN:VEVENT
DTSTART;TZID=America/New_York:20260206T194500
DTEND;TZID=America/New_York:20260206T204500
DTSTAMP:20260422T010737
CREATED:20251211T181509Z
LAST-MODIFIED:20260223T174451Z
UID:10018704-1770407100-1770410700@bj.org
SUMMARY:Community Oneg
DESCRIPTION:
URL:https://bj.org/event/community-oneg-4/2026-02-06/
CATEGORIES:Events,Featured on Home Page
ATTACH;FMTTYPE=image/jpeg:https://bj.org/wp-content/uploads/2024/06/ZBwN3X1s-2048x1365-1.jpeg
ORGANIZER;CN="B'nai Jeshurun":MAILTO:info@bj.org
END:VEVENT
BEGIN:VEVENT
DTSTART;TZID=America/New_York:20260206T183000
DTEND;TZID=America/New_York:20260206T203000
DTSTAMP:20260422T010737
CREATED:20250822T181552Z
LAST-MODIFIED:20250822T181856Z
UID:10017203-1770402600-1770409800@bj.org
SUMMARY:Hitoreri
DESCRIPTION:
URL:https://bj.org/event/hitoreri-8-6/
LOCATION:Rabbi Rachel Cowan Chapel and Middle Room\, 270 West 89th Street\, New York\, 10024\, United States
CATEGORIES:Events,Services
ATTACH;FMTTYPE=image/jpeg:https://bj.org/wp-content/uploads/2023/01/1905-0080.jpg
ORGANIZER;CN="B'nai Jeshurun":MAILTO:info@bj.org
END:VEVENT
BEGIN:VEVENT
DTSTART;TZID=America/New_York:20260206T181500
DTEND;TZID=America/New_York:20260206T193000
DTSTAMP:20260422T010737
CREATED:20251031T191519Z
LAST-MODIFIED:20251031T191723Z
UID:10018139-1770401700-1770406200@bj.org
SUMMARY:Kabbalat Shabbat
DESCRIPTION:
URL:https://bj.org/event/kabbalat-shabbat-et/2026-02-06/
LOCATION:Sanctuary\, 257 West 88th Street\, New York\, NY\, 10024\, United States
CATEGORIES:Services,Featured in Next Service
ATTACH;FMTTYPE=image/png:https://bj.org/wp-content/uploads/2024/03/bj-dancing.png
ORGANIZER;CN="B'nai Jeshurun":MAILTO:info@bj.org
END:VEVENT
BEGIN:VEVENT
DTSTART;TZID=America/New_York:20260206T101500
DTEND;TZID=America/New_York:20260206T110000
DTSTAMP:20260422T010737
CREATED:20250724T194835Z
LAST-MODIFIED:20260421T150822Z
UID:10017082-1770372900-1770375600@bj.org
SUMMARY:Bim Bam
DESCRIPTION:
URL:https://bj.org/event/bim-bam-5/2026-02-06/
LOCATION:Sanctuary\, 257 West 88th Street\, New York\, NY\, 10024\, United States
CATEGORIES:Classes
ATTACH;FMTTYPE=image/png:https://bj.org/wp-content/uploads/2023/03/Bim-Bam-photo.png
ORGANIZER;CN="B'nai Jeshurun":MAILTO:info@bj.org
END:VEVENT
BEGIN:VEVENT
DTSTART;TZID=America/New_York:20260206T084500
DTEND;TZID=America/New_York:20260206T094500
DTSTAMP:20260422T010737
CREATED:20251010T143215Z
LAST-MODIFIED:20251010T154144Z
UID:10018053-1770367500-1770371100@bj.org
SUMMARY:Parashat Hashavua with Rabbinic Fellow Iliana Brodsky
DESCRIPTION:
URL:https://bj.org/event/parashat-hashavua-with-rabbinic-fellow-iliana-brodsky/2026-02-06/
LOCATION:Remote Access Only\, NY\, United States
CATEGORIES:Classes
ATTACH;FMTTYPE=image/jpeg:https://bj.org/wp-content/uploads/2023/01/1905-0383.jpg
ORGANIZER;CN="B'nai Jeshurun":MAILTO:info@bj.org
END:VEVENT
BEGIN:VEVENT
DTSTART;TZID=America/New_York:20260206T080000
DTEND;TZID=America/New_York:20260206T090000
DTSTAMP:20260422T010737
CREATED:20250911T161547Z
LAST-MODIFIED:20251219T192933Z
UID:10018785-1770364800-1770368400@bj.org
SUMMARY:Shaharit (Online)
DESCRIPTION:
URL:https://bj.org/event/shaharit-online-10-2/2026-02-06/
LOCATION:Remote Access Only\, NY\, United States
CATEGORIES:Services,Featured in Next Service
ATTACH;FMTTYPE=image/jpeg:https://bj.org/wp-content/uploads/2019/10/1905-0275.jpg
ORGANIZER;CN="B'nai Jeshurun":MAILTO:info@bj.org
END:VEVENT
BEGIN:VEVENT
DTSTART;TZID=America/New_York:20260205T190000
DTEND;TZID=America/New_York:20260205T203000
DTSTAMP:20260422T010737
CREATED:20251219T192101Z
LAST-MODIFIED:20251219T192101Z
UID:10018766-1770318000-1770323400@bj.org
SUMMARY:Unpack the Shabbat Morning Service with Rabbi Becca Weintraub
DESCRIPTION:
URL:https://bj.org/event/unpack-the-shabbat-morning-service-with-rabbi-becca-weintraub/2026-02-05/
LOCATION:Remote Access Only\, NY\, United States
CATEGORIES:Events
ATTACH;FMTTYPE=image/jpeg:https://bj.org/wp-content/uploads/2022/04/1905-0281-1.jpg
ORGANIZER;CN="B'nai Jeshurun":MAILTO:info@bj.org
END:VEVENT
BEGIN:VEVENT
DTSTART;TZID=America/New_York:20260205T183000
DTEND;TZID=America/New_York:20260205T190000
DTSTAMP:20260422T010737
CREATED:20250916T192848Z
LAST-MODIFIED:20260219T191516Z
UID:10019045-1770316200-1770318000@bj.org
SUMMARY:Arvit (Online)
DESCRIPTION:
URL:https://bj.org/event/arvit-online-2-copy/2026-02-05/
LOCATION:Remote Access Only\, NY\, United States
CATEGORIES:Services,Featured in Next Service
ATTACH;FMTTYPE=image/jpeg:https://bj.org/wp-content/uploads/2024/03/1905-0258-2048x1536-1.jpg
ORGANIZER;CN="B'nai Jeshurun":MAILTO:info@bj.org
END:VEVENT
BEGIN:VEVENT
DTSTART;TZID=America/New_York:20260205T154500
DTEND;TZID=America/New_York:20260205T164500
DTSTAMP:20260422T010737
CREATED:20221215T210758Z
LAST-MODIFIED:20260203T171538Z
UID:10014895-1770306300-1770309900@bj.org
SUMMARY:A Taste of Talmud: Daf Yomi with Rabbi Shuli Passow
DESCRIPTION:
URL:https://bj.org/event/a-taste-of-talmud-daf-yomi-with-rabbi-shuli-passow/2026-02-05/
LOCATION:Remote Access Only\, NY\, United States
CATEGORIES:Classes
ATTACH;FMTTYPE=image/png:https://bj.org/wp-content/uploads/2022/12/Daf-Yomi-Shuli-1.png
ORGANIZER;CN="B'nai Jeshurun":MAILTO:info@bj.org
END:VEVENT
BEGIN:VEVENT
DTSTART;TZID=America/New_York:20260205T123000
DTEND;TZID=America/New_York:20260205T133000
DTSTAMP:20260422T010737
CREATED:20251006T145910Z
LAST-MODIFIED:20251211T204907Z
UID:10018292-1770294600-1770298200@bj.org
SUMMARY:In the Mirror: Lunch and Learn with Rabbi Roly Matalon
DESCRIPTION:
URL:https://bj.org/event/in-the-mirror-lunch-and-learn-with-rabbi-roly-matalon/2026-02-05/
LOCATION:Remote Access Only\, NY\, United States
CATEGORIES:Classes
ATTACH;FMTTYPE=image/jpeg:https://bj.org/wp-content/uploads/2023/01/1905-0308.jpg
ORGANIZER;CN="B'nai Jeshurun":MAILTO:info@bj.org
END:VEVENT
BEGIN:VEVENT
DTSTART;TZID=America/New_York:20260205T080000
DTEND;TZID=America/New_York:20260205T090000
DTSTAMP:20260422T010737
CREATED:20250911T185254Z
LAST-MODIFIED:20251219T194251Z
UID:10018913-1770278400-1770282000@bj.org
SUMMARY:Shaharit (In Person and Online)
DESCRIPTION:
URL:https://bj.org/event/shaharit-in-person-and-online-6-2/2026-02-05/
LOCATION:Rabbi Rachel Cowan Chapel\, 270 West 89th Street\, New York\, NY\, 10024\, United States
CATEGORIES:Services,Featured in Next Service
ATTACH;FMTTYPE=image/jpeg:https://bj.org/wp-content/uploads/2019/10/1905-0272.jpg
ORGANIZER;CN="B'nai Jeshurun":MAILTO:info@bj.org
END:VEVENT
BEGIN:VEVENT
DTSTART;TZID=America/New_York:20260204T183000
DTEND;TZID=America/New_York:20260204T190000
DTSTAMP:20260422T010737
CREATED:20250916T192848Z
LAST-MODIFIED:20260219T191516Z
UID:10019044-1770229800-1770231600@bj.org
SUMMARY:Arvit (Online)
DESCRIPTION:
URL:https://bj.org/event/arvit-online-2-copy/2026-02-04/
LOCATION:Remote Access Only\, NY\, United States
CATEGORIES:Services,Featured in Next Service
ATTACH;FMTTYPE=image/jpeg:https://bj.org/wp-content/uploads/2024/03/1905-0258-2048x1536-1.jpg
ORGANIZER;CN="B'nai Jeshurun":MAILTO:info@bj.org
END:VEVENT
BEGIN:VEVENT
DTSTART;TZID=America/New_York:20260204T083000
DTEND;TZID=America/New_York:20260204T091500
DTSTAMP:20260422T010737
CREATED:20221215T212948Z
LAST-MODIFIED:20260415T133805Z
UID:10019708-1770193800-1770196500@bj.org
SUMMARY:Jewish Meditation with Rabbi Shuli Passow
DESCRIPTION:
URL:https://bj.org/event/jewish-meditation-with-rabbi-shuli-passow-3/2026-02-04/
LOCATION:Remote Access Only\, NY\, United States
CATEGORIES:Classes
ATTACH;FMTTYPE=image/jpeg:https://bj.org/wp-content/uploads/2022/12/Daily-Meditation-Shuli-Image.jpg
ORGANIZER;CN="B'nai Jeshurun":MAILTO:info@bj.org
END:VEVENT
BEGIN:VEVENT
DTSTART;TZID=America/New_York:20260204T080000
DTEND;TZID=America/New_York:20260204T090000
DTSTAMP:20260422T010737
CREATED:20250911T161547Z
LAST-MODIFIED:20251219T192933Z
UID:10018784-1770192000-1770195600@bj.org
SUMMARY:Shaharit (Online)
DESCRIPTION:
URL:https://bj.org/event/shaharit-online-10-2/2026-02-04/
LOCATION:Remote Access Only\, NY\, United States
CATEGORIES:Services,Featured in Next Service
ATTACH;FMTTYPE=image/jpeg:https://bj.org/wp-content/uploads/2019/10/1905-0275.jpg
ORGANIZER;CN="B'nai Jeshurun":MAILTO:info@bj.org
END:VEVENT
BEGIN:VEVENT
DTSTART;TZID=America/New_York:20260203T190000
DTEND;TZID=America/New_York:20260203T210000
DTSTAMP:20260422T010737
CREATED:20250624T170554Z
LAST-MODIFIED:20260105T195343Z
UID:10016878-1770145200-1770152400@bj.org
SUMMARY:Introduction to Judaism
DESCRIPTION:
URL:https://bj.org/event/intro-to-judaism-4/2026-02-03/
LOCATION:Rabbi Rachel Cowan Chapel\, 270 West 89th Street\, New York\, NY\, 10024\, United States
CATEGORIES:Classes
ATTACH;FMTTYPE=image/jpeg:https://bj.org/wp-content/uploads/2024/10/whi5A0o8.jpg
ORGANIZER;CN="B'nai Jeshurun":MAILTO:info@bj.org
END:VEVENT
BEGIN:VEVENT
DTSTART;TZID=America/New_York:20260203T183000
DTEND;TZID=America/New_York:20260203T190000
DTSTAMP:20260422T010737
CREATED:20250916T192848Z
LAST-MODIFIED:20260219T191516Z
UID:10019043-1770143400-1770145200@bj.org
SUMMARY:Arvit (Online)
DESCRIPTION:
URL:https://bj.org/event/arvit-online-2-copy/2026-02-03/
LOCATION:Remote Access Only\, NY\, United States
CATEGORIES:Services,Featured in Next Service
ATTACH;FMTTYPE=image/jpeg:https://bj.org/wp-content/uploads/2024/03/1905-0258-2048x1536-1.jpg
ORGANIZER;CN="B'nai Jeshurun":MAILTO:info@bj.org
END:VEVENT
BEGIN:VEVENT
DTSTART;TZID=America/New_York:20260203T174500
DTEND;TZID=America/New_York:20260203T181500
DTSTAMP:20260422T010737
CREATED:20260123T191452Z
LAST-MODIFIED:20260202T184343Z
UID:10019093-1770140700-1770142500@bj.org
SUMMARY:Family Tu Bishvat Seder
DESCRIPTION:
URL:https://bj.org/event/family-tu-bishvat-seder/
LOCATION:Sanctuary\, 257 West 88th Street\, New York\, NY\, 10024\, United States
CATEGORIES:Events,Featured on Home Page
ATTACH;FMTTYPE=image/jpeg:https://bj.org/wp-content/uploads/2020/09/1mrXatALmOtAqEpKpuRzSybs1rcE47vWCw10000-h10000-iv1-scaled.jpg
ORGANIZER;CN="B'nai Jeshurun":MAILTO:info@bj.org
END:VEVENT
END:VCALENDAR