BEGIN:VCALENDAR
VERSION:2.0
PRODID:-//B&#039;nai Jeshurun - ECPv6.15.20//NONSGML v1.0//EN
CALSCALE:GREGORIAN
METHOD:PUBLISH
X-WR-CALNAME:B&#039;nai Jeshurun
X-ORIGINAL-URL:https://bj.org
X-WR-CALDESC:Events for B&#039;nai Jeshurun
REFRESH-INTERVAL;VALUE=DURATION:PT1H
X-Robots-Tag:noindex
X-PUBLISHED-TTL:PT1H
BEGIN:VTIMEZONE
TZID:America/New_York
BEGIN:DAYLIGHT
TZOFFSETFROM:-0500
TZOFFSETTO:-0400
TZNAME:EDT
DTSTART:20250309T070000
END:DAYLIGHT
BEGIN:STANDARD
TZOFFSETFROM:-0400
TZOFFSETTO:-0500
TZNAME:EST
DTSTART:20251102T060000
END:STANDARD
BEGIN:DAYLIGHT
TZOFFSETFROM:-0500
TZOFFSETTO:-0400
TZNAME:EDT
DTSTART:20260308T070000
END:DAYLIGHT
BEGIN:STANDARD
TZOFFSETFROM:-0400
TZOFFSETTO:-0500
TZNAME:EST
DTSTART:20261101T060000
END:STANDARD
BEGIN:DAYLIGHT
TZOFFSETFROM:-0500
TZOFFSETTO:-0400
TZNAME:EDT
DTSTART:20270314T070000
END:DAYLIGHT
BEGIN:STANDARD
TZOFFSETFROM:-0400
TZOFFSETTO:-0500
TZNAME:EST
DTSTART:20271107T060000
END:STANDARD
END:VTIMEZONE
BEGIN:VEVENT
DTSTART;TZID=America/New_York:20260214T182000
DTEND;TZID=America/New_York:20260214T184500
DTSTAMP:20260421T234453
CREATED:20250916T171126Z
LAST-MODIFIED:20260302T172828Z
UID:10018247-1771093200-1771094700@bj.org
SUMMARY:Arvit and Havdalah
DESCRIPTION:
URL:https://bj.org/event/arvit-and-havdalah-10/2026-02-14/
LOCATION:Remote Access Only\, NY\, United States
CATEGORIES:Services,Featured in Next Service
ATTACH;FMTTYPE=image/jpeg:https://bj.org/wp-content/uploads/2020/03/havdallah-shutterstock_1385831468.jpg
ORGANIZER;CN="B'nai Jeshurun":MAILTO:info@bj.org
END:VEVENT
BEGIN:VEVENT
DTSTART;TZID=America/New_York:20260214T124500
DTEND;TZID=America/New_York:20260214T140000
DTSTAMP:20260421T234453
CREATED:20251219T172734Z
LAST-MODIFIED:20260209T205347Z
UID:10018717-1771073100-1771077600@bj.org
SUMMARY:The Magnificent Resilience of Israeli Nature
DESCRIPTION:
URL:https://bj.org/event/the-magnificent-resilience-of-israeli-nature/
LOCATION:Rabbi Rachel Cowan Chapel\, 270 West 89th Street\, New York\, NY\, 10024\, United States
CATEGORIES:Events,Featured on Home Page,Holidays
ATTACH;FMTTYPE=image/jpeg:https://bj.org/wp-content/uploads/2025/12/spni.jpeg
ORGANIZER;CN="B'nai Jeshurun":MAILTO:info@bj.org
END:VEVENT
BEGIN:VEVENT
DTSTART;TZID=America/New_York:20260214T110000
DTEND;TZID=America/New_York:20260214T120000
DTSTAMP:20260421T234453
CREATED:20250522T203304Z
LAST-MODIFIED:20250728T170021Z
UID:10017118-1771066800-1771070400@bj.org
SUMMARY:Early Childhood Shabbat Service (Age 6 and Under)
DESCRIPTION:
URL:https://bj.org/event/early-childhood-shabbat-service-age-6-and-under-3/2026-02-14/
LOCATION:Rabbi Rachel Cowan Chapel\, 270 West 89th Street\, New York\, NY\, 10024\, United States
CATEGORIES:Services
ATTACH;FMTTYPE=image/jpeg:https://bj.org/wp-content/uploads/2021/04/IMG_9480-scaled.jpg
ORGANIZER;CN="B'nai Jeshurun":MAILTO:info@bj.org
END:VEVENT
BEGIN:VEVENT
DTSTART;TZID=America/New_York:20260214T093000
DTEND;TZID=America/New_York:20260214T120000
DTSTAMP:20260421T234453
CREATED:20230309T215703Z
LAST-MODIFIED:20251103T170810Z
UID:10018189-1771061400-1771070400@bj.org
SUMMARY:Shabbat Morning Services
DESCRIPTION:
URL:https://bj.org/event/shabbat-morning-services/2026-02-14/
LOCATION:Sanctuary\, 257 West 88th Street\, New York\, NY\, 10024\, United States
CATEGORIES:Services,Featured in Next Service
ATTACH;FMTTYPE=image/jpeg:https://bj.org/wp-content/uploads/2023/01/1905-0386.jpg
ORGANIZER;CN="B'nai Jeshurun":MAILTO:info@bj.org
END:VEVENT
BEGIN:VEVENT
DTSTART;TZID=America/New_York:20260213T181500
DTEND;TZID=America/New_York:20260213T193000
DTSTAMP:20260421T234453
CREATED:20251031T191519Z
LAST-MODIFIED:20251031T191723Z
UID:10018140-1771006500-1771011000@bj.org
SUMMARY:Kabbalat Shabbat
DESCRIPTION:
URL:https://bj.org/event/kabbalat-shabbat-et/2026-02-13/
LOCATION:Sanctuary\, 257 West 88th Street\, New York\, NY\, 10024\, United States
CATEGORIES:Services,Featured in Next Service
ATTACH;FMTTYPE=image/png:https://bj.org/wp-content/uploads/2024/03/bj-dancing.png
ORGANIZER;CN="B'nai Jeshurun":MAILTO:info@bj.org
END:VEVENT
BEGIN:VEVENT
DTSTART;TZID=America/New_York:20260213T173000
DTEND;TZID=America/New_York:20260213T203000
DTSTAMP:20260421T234453
CREATED:20251210T135920Z
LAST-MODIFIED:20251210T135920Z
UID:10018681-1771003800-1771014600@bj.org
SUMMARY:Likrat Shabbat (K-6th Grade)
DESCRIPTION:
URL:https://bj.org/event/likrat-shabbat-k-6th-grade-4/
LOCATION:Reception Room and Middle Room\, 270 West 89th Street\, New York\, NY\, 10024\, United States
CATEGORIES:Events
ATTACH;FMTTYPE=image/jpeg:https://bj.org/wp-content/uploads/2023/01/1905-0080.jpg
ORGANIZER;CN="B'nai Jeshurun":MAILTO:info@bj.org
END:VEVENT
BEGIN:VEVENT
DTSTART;TZID=America/New_York:20260213T171500
DTEND;TZID=America/New_York:20260213T193000
DTSTAMP:20260421T234453
CREATED:20250730T132551Z
LAST-MODIFIED:20250730T132551Z
UID:10017138-1771002900-1771011000@bj.org
SUMMARY:Tot Shabbat
DESCRIPTION:
URL:https://bj.org/event/tot-shabbat-11-5/
LOCATION:Sanctuary and Rabbi Rachel Cowan Chapel\, 257 West 88th Street\, New York\, NY\, 10024\, United States
CATEGORIES:Events
ATTACH;FMTTYPE=image/jpeg:https://bj.org/wp-content/uploads/2025/07/early-childhood-retreat-meal_2025-1.jpg
ORGANIZER;CN="B'nai Jeshurun":MAILTO:info@bj.org
END:VEVENT
BEGIN:VEVENT
DTSTART;TZID=America/New_York:20260213T101500
DTEND;TZID=America/New_York:20260213T110000
DTSTAMP:20260421T234453
CREATED:20250724T194835Z
LAST-MODIFIED:20260421T150822Z
UID:10017083-1770977700-1770980400@bj.org
SUMMARY:Bim Bam
DESCRIPTION:
URL:https://bj.org/event/bim-bam-5/2026-02-13/
LOCATION:Sanctuary\, 257 West 88th Street\, New York\, NY\, 10024\, United States
CATEGORIES:Classes
ATTACH;FMTTYPE=image/png:https://bj.org/wp-content/uploads/2023/03/Bim-Bam-photo.png
ORGANIZER;CN="B'nai Jeshurun":MAILTO:info@bj.org
END:VEVENT
BEGIN:VEVENT
DTSTART;TZID=America/New_York:20260213T084500
DTEND;TZID=America/New_York:20260213T094500
DTSTAMP:20260421T234453
CREATED:20251010T143215Z
LAST-MODIFIED:20251010T154144Z
UID:10018054-1770972300-1770975900@bj.org
SUMMARY:Parashat Hashavua with Rabbinic Fellow Iliana Brodsky
DESCRIPTION:
URL:https://bj.org/event/parashat-hashavua-with-rabbinic-fellow-iliana-brodsky/2026-02-13/
LOCATION:Remote Access Only\, NY\, United States
CATEGORIES:Classes
ATTACH;FMTTYPE=image/jpeg:https://bj.org/wp-content/uploads/2023/01/1905-0383.jpg
ORGANIZER;CN="B'nai Jeshurun":MAILTO:info@bj.org
END:VEVENT
BEGIN:VEVENT
DTSTART;TZID=America/New_York:20260213T080000
DTEND;TZID=America/New_York:20260213T090000
DTSTAMP:20260421T234453
CREATED:20250911T161547Z
LAST-MODIFIED:20251219T192933Z
UID:10018788-1770969600-1770973200@bj.org
SUMMARY:Shaharit (Online)
DESCRIPTION:
URL:https://bj.org/event/shaharit-online-10-2/2026-02-13/
LOCATION:Remote Access Only\, NY\, United States
CATEGORIES:Services,Featured in Next Service
ATTACH;FMTTYPE=image/jpeg:https://bj.org/wp-content/uploads/2019/10/1905-0275.jpg
ORGANIZER;CN="B'nai Jeshurun":MAILTO:info@bj.org
END:VEVENT
BEGIN:VEVENT
DTSTART;TZID=America/New_York:20260212T190000
DTEND;TZID=America/New_York:20260212T203000
DTSTAMP:20260421T234453
CREATED:20260115T150253Z
LAST-MODIFIED:20260202T184524Z
UID:10018769-1770922800-1770928200@bj.org
SUMMARY:Explore the Music of Friday Night Services with Hazzan Ari Priven
DESCRIPTION:
URL:https://bj.org/event/explore-the-music-of-friday-night-services-with-hazzan-ari-priven/
LOCATION:Rabbi Rachel Cowan Chapel\, 270 West 89th Street\, New York\, NY\, 10024\, United States
CATEGORIES:Events,Featured on Home Page
ATTACH;FMTTYPE=image/jpeg:https://bj.org/wp-content/uploads/2022/04/1905-0281-1.jpg
ORGANIZER;CN="B'nai Jeshurun":MAILTO:info@bj.org
END:VEVENT
BEGIN:VEVENT
DTSTART;TZID=America/New_York:20260212T183000
DTEND;TZID=America/New_York:20260212T190000
DTSTAMP:20260421T234453
CREATED:20250916T192848Z
LAST-MODIFIED:20260219T191516Z
UID:10019050-1770921000-1770922800@bj.org
SUMMARY:Arvit (Online)
DESCRIPTION:
URL:https://bj.org/event/arvit-online-2-copy/2026-02-12/
LOCATION:Remote Access Only\, NY\, United States
CATEGORIES:Services,Featured in Next Service
ATTACH;FMTTYPE=image/jpeg:https://bj.org/wp-content/uploads/2024/03/1905-0258-2048x1536-1.jpg
ORGANIZER;CN="B'nai Jeshurun":MAILTO:info@bj.org
END:VEVENT
BEGIN:VEVENT
DTSTART;TZID=America/New_York:20260212T080000
DTEND;TZID=America/New_York:20260212T090000
DTSTAMP:20260421T234453
CREATED:20250911T185254Z
LAST-MODIFIED:20251219T194251Z
UID:10018915-1770883200-1770886800@bj.org
SUMMARY:Shaharit (In Person and Online)
DESCRIPTION:
URL:https://bj.org/event/shaharit-in-person-and-online-6-2/2026-02-12/
LOCATION:Rabbi Rachel Cowan Chapel\, 270 West 89th Street\, New York\, NY\, 10024\, United States
CATEGORIES:Services,Featured in Next Service
ATTACH;FMTTYPE=image/jpeg:https://bj.org/wp-content/uploads/2019/10/1905-0272.jpg
ORGANIZER;CN="B'nai Jeshurun":MAILTO:info@bj.org
END:VEVENT
BEGIN:VEVENT
DTSTART;TZID=America/New_York:20260211T190000
DTEND;TZID=America/New_York:20260211T203000
DTSTAMP:20260421T234453
CREATED:20260105T163850Z
LAST-MODIFIED:20260202T184519Z
UID:10019062-1770836400-1770841800@bj.org
SUMMARY:Welcoming the Stranger: Immigration in NYC
DESCRIPTION:
URL:https://bj.org/event/welcoming-the-stranger-immigration-in-nyc/
LOCATION:Reception Room\, 270 West 89th Street\, New York\, NY\, 10024\, United States
CATEGORIES:Events,Featured on Home Page
ATTACH;FMTTYPE=image/jpeg:https://bj.org/wp-content/uploads/2019/10/1905-0310.jpg
ORGANIZER;CN="B'nai Jeshurun":MAILTO:info@bj.org
END:VEVENT
BEGIN:VEVENT
DTSTART;TZID=America/New_York:20260211T183000
DTEND;TZID=America/New_York:20260211T190000
DTSTAMP:20260421T234453
CREATED:20250916T192848Z
LAST-MODIFIED:20260219T191516Z
UID:10019049-1770834600-1770836400@bj.org
SUMMARY:Arvit (Online)
DESCRIPTION:
URL:https://bj.org/event/arvit-online-2-copy/2026-02-11/
LOCATION:Remote Access Only\, NY\, United States
CATEGORIES:Services,Featured in Next Service
ATTACH;FMTTYPE=image/jpeg:https://bj.org/wp-content/uploads/2024/03/1905-0258-2048x1536-1.jpg
ORGANIZER;CN="B'nai Jeshurun":MAILTO:info@bj.org
END:VEVENT
BEGIN:VEVENT
DTSTART;TZID=America/New_York:20260211T080000
DTEND;TZID=America/New_York:20260211T090000
DTSTAMP:20260421T234453
CREATED:20250911T161547Z
LAST-MODIFIED:20251219T192933Z
UID:10018787-1770796800-1770800400@bj.org
SUMMARY:Shaharit (Online)
DESCRIPTION:
URL:https://bj.org/event/shaharit-online-10-2/2026-02-11/
LOCATION:Remote Access Only\, NY\, United States
CATEGORIES:Services,Featured in Next Service
ATTACH;FMTTYPE=image/jpeg:https://bj.org/wp-content/uploads/2019/10/1905-0275.jpg
ORGANIZER;CN="B'nai Jeshurun":MAILTO:info@bj.org
END:VEVENT
BEGIN:VEVENT
DTSTART;VALUE=DATE:20260211
DTEND;VALUE=DATE:20260219
DTSTAMP:20260421T234453
CREATED:20250711T170704Z
LAST-MODIFIED:20250711T170704Z
UID:10017033-1770782400-1771387199@bj.org
SUMMARY:Berlin Now and Then: 10th-12th Grade Trip
DESCRIPTION:
URL:https://bj.org/event/berlin-now-and-then-10th-12th-grade-trip/
CATEGORIES:Trips
ATTACH;FMTTYPE=image/jpeg:https://bj.org/wp-content/uploads/2025/07/florian-wehde-uFGi0_YciE0-unsplash-1-scaled.jpg
ORGANIZER;CN="B'nai Jeshurun":MAILTO:info@bj.org
END:VEVENT
BEGIN:VEVENT
DTSTART;TZID=America/New_York:20260210T190000
DTEND;TZID=America/New_York:20260210T210000
DTSTAMP:20260421T234453
CREATED:20250624T170554Z
LAST-MODIFIED:20260105T195343Z
UID:10016879-1770750000-1770757200@bj.org
SUMMARY:Introduction to Judaism
DESCRIPTION:
URL:https://bj.org/event/intro-to-judaism-4/2026-02-10/
LOCATION:Rabbi Rachel Cowan Chapel\, 270 West 89th Street\, New York\, NY\, 10024\, United States
CATEGORIES:Classes
ATTACH;FMTTYPE=image/jpeg:https://bj.org/wp-content/uploads/2024/10/whi5A0o8.jpg
ORGANIZER;CN="B'nai Jeshurun":MAILTO:info@bj.org
END:VEVENT
BEGIN:VEVENT
DTSTART;TZID=America/New_York:20260210T183000
DTEND;TZID=America/New_York:20260210T190000
DTSTAMP:20260421T234453
CREATED:20250916T192848Z
LAST-MODIFIED:20260219T191516Z
UID:10019048-1770748200-1770750000@bj.org
SUMMARY:Arvit (Online)
DESCRIPTION:
URL:https://bj.org/event/arvit-online-2-copy/2026-02-10/
LOCATION:Remote Access Only\, NY\, United States
CATEGORIES:Services,Featured in Next Service
ATTACH;FMTTYPE=image/jpeg:https://bj.org/wp-content/uploads/2024/03/1905-0258-2048x1536-1.jpg
ORGANIZER;CN="B'nai Jeshurun":MAILTO:info@bj.org
END:VEVENT
BEGIN:VEVENT
DTSTART;TZID=America/New_York:20260210T173000
DTEND;TZID=America/New_York:20260210T181500
DTSTAMP:20260421T234453
CREATED:20230302T235540Z
LAST-MODIFIED:20260313T190025Z
UID:10014242-1770744600-1770747300@bj.org
SUMMARY:Mindfulness Prayer Practice Group
DESCRIPTION:
URL:https://bj.org/event/mindful-prayer-havurah/2026-02-10/
LOCATION:Remote Access Only\, NY\, United States
CATEGORIES:Classes
ATTACH;FMTTYPE=image/jpeg:https://bj.org/wp-content/uploads/2023/01/1905-0272-2048x1152-1.jpeg
ORGANIZER;CN="B'nai Jeshurun":MAILTO:info@bj.org
END:VEVENT
BEGIN:VEVENT
DTSTART;TZID=America/New_York:20260210T171500
DTEND;TZID=America/New_York:20260210T180000
DTSTAMP:20260421T234453
CREATED:20251022T152436Z
LAST-MODIFIED:20251022T152436Z
UID:10018098-1770743700-1770746400@bj.org
SUMMARY:Kadima Parent Learning: Community Covenant
DESCRIPTION:
URL:https://bj.org/event/kadima-parent-learning-community-covenant/2026-02-10/
LOCATION:Sanctuary\, 257 West 88th Street\, New York\, NY\, 10024\, United States
CATEGORIES:Events
ATTACH;FMTTYPE=image/jpeg:https://bj.org/wp-content/uploads/2023/10/1905-0119-1-scaled.jpg
ORGANIZER;CN="B'nai Jeshurun":MAILTO:info@bj.org
END:VEVENT
BEGIN:VEVENT
DTSTART;TZID=America/New_York:20260210T161500
DTEND;TZID=America/New_York:20260210T170000
DTSTAMP:20260421T234453
CREATED:20250424T153154Z
LAST-MODIFIED:20250916T152500Z
UID:10017183-1770740100-1770742800@bj.org
SUMMARY:Shirah with Shira
DESCRIPTION:
URL:https://bj.org/event/shirah-with-shira-4/2026-02-10/
LOCATION:Rabbi Rachel Cowan Chapel\, 270 West 89th Street\, New York\, NY\, 10024\, United States
CATEGORIES:Classes
ATTACH;FMTTYPE=image/jpeg:https://bj.org/wp-content/uploads/2020/03/Shirah-Shira.jpg
ORGANIZER;CN="B'nai Jeshurun":MAILTO:info@bj.org
END:VEVENT
BEGIN:VEVENT
DTSTART;TZID=America/New_York:20260210T103000
DTEND;TZID=America/New_York:20260210T120000
DTSTAMP:20260421T234453
CREATED:20251126T151439Z
LAST-MODIFIED:20251126T151439Z
UID:10018287-1770719400-1770724800@bj.org
SUMMARY:Aging Alone\, Together
DESCRIPTION:
URL:https://bj.org/event/aging-alone-together/2026-02-10/
LOCATION:Remote Access Only\, NY\, United States
CATEGORIES:Events
ATTACH;FMTTYPE=image/jpeg:https://bj.org/wp-content/uploads/2025/11/1905-0254-1.jpg
ORGANIZER;CN="B'nai Jeshurun":MAILTO:info@bj.org
END:VEVENT
BEGIN:VEVENT
DTSTART;TZID=America/New_York:20260210T080000
DTEND;TZID=America/New_York:20260210T090000
DTSTAMP:20260421T234453
CREATED:20250911T161547Z
LAST-MODIFIED:20251219T192933Z
UID:10018786-1770710400-1770714000@bj.org
SUMMARY:Shaharit (Online)
DESCRIPTION:
URL:https://bj.org/event/shaharit-online-10-2/2026-02-10/
LOCATION:Remote Access Only\, NY\, United States
CATEGORIES:Services,Featured in Next Service
ATTACH;FMTTYPE=image/jpeg:https://bj.org/wp-content/uploads/2019/10/1905-0275.jpg
ORGANIZER;CN="B'nai Jeshurun":MAILTO:info@bj.org
END:VEVENT
BEGIN:VEVENT
DTSTART;TZID=America/New_York:20260209T203000
DTEND;TZID=America/New_York:20260209T213000
DTSTAMP:20260421T234453
CREATED:20251010T150457Z
LAST-MODIFIED:20260120T194215Z
UID:10019089-1770669000-1770672600@bj.org
SUMMARY:Parenting as a Spiritual Practice with Rabbi Becca Weintraub
DESCRIPTION:
URL:https://bj.org/event/parenting-as-a-spiritual-practice-with-rabbi-becca-weintraub-5/2026-02-09/
LOCATION:Remote Access Only\, NY\, United States
ATTACH;FMTTYPE=image/jpeg:https://bj.org/wp-content/uploads/2023/10/1905-0119-1-scaled.jpg
ORGANIZER;CN="B'nai Jeshurun":MAILTO:info@bj.org
END:VEVENT
BEGIN:VEVENT
DTSTART;TZID=America/New_York:20260209T193000
DTEND;TZID=America/New_York:20260209T203000
DTSTAMP:20260421T234453
CREATED:20210311T194417Z
LAST-MODIFIED:20260330T193129Z
UID:10007540-1770665400-1770669000@bj.org
SUMMARY:Connections Cocktail Hour
DESCRIPTION:
URL:https://bj.org/event/connections-cocktail-hour-2/2026-02-09/
LOCATION:Remote Access Only\, NY\, United States
CATEGORIES:Events
ATTACH;FMTTYPE=image/jpeg:https://bj.org/wp-content/uploads/2022/04/best-italian-cocktails.jpg
ORGANIZER;CN="B'nai Jeshurun":MAILTO:info@bj.org
END:VEVENT
BEGIN:VEVENT
DTSTART;TZID=America/New_York:20260209T183000
DTEND;TZID=America/New_York:20260209T200000
DTSTAMP:20260421T234453
CREATED:20250806T192018Z
LAST-MODIFIED:20250806T192018Z
UID:10017148-1770661800-1770667200@bj.org
SUMMARY:Interfaith Social Justice Book Club: Still Born
DESCRIPTION:
URL:https://bj.org/event/interfaith-social-justice-book-club-4/
LOCATION:St. Paul and St. Andrew (SPSA)\, 263 West 86th Street\, New York\, 10024\, United States
CATEGORIES:Events
ATTACH;FMTTYPE=image/png:https://bj.org/wp-content/uploads/2025/08/Still-Born-by-Guadalupe-Nettel.png
ORGANIZER;CN="B'nai Jeshurun":MAILTO:info@bj.org
END:VEVENT
BEGIN:VEVENT
DTSTART;TZID=America/New_York:20260209T183000
DTEND;TZID=America/New_York:20260209T190000
DTSTAMP:20260421T234453
CREATED:20250916T192848Z
LAST-MODIFIED:20260219T191516Z
UID:10019047-1770661800-1770663600@bj.org
SUMMARY:Arvit (Online)
DESCRIPTION:
URL:https://bj.org/event/arvit-online-2-copy/2026-02-09/
LOCATION:Remote Access Only\, NY\, United States
CATEGORIES:Services,Featured in Next Service
ATTACH;FMTTYPE=image/jpeg:https://bj.org/wp-content/uploads/2024/03/1905-0258-2048x1536-1.jpg
ORGANIZER;CN="B'nai Jeshurun":MAILTO:info@bj.org
END:VEVENT
BEGIN:VEVENT
DTSTART;TZID=America/New_York:20260209T080000
DTEND;TZID=America/New_York:20260209T090000
DTSTAMP:20260421T234453
CREATED:20250911T185254Z
LAST-MODIFIED:20251219T194251Z
UID:10018914-1770624000-1770627600@bj.org
SUMMARY:Shaharit (In Person and Online)
DESCRIPTION:
URL:https://bj.org/event/shaharit-in-person-and-online-6-2/2026-02-09/
LOCATION:Rabbi Rachel Cowan Chapel\, 270 West 89th Street\, New York\, NY\, 10024\, United States
CATEGORIES:Services,Featured in Next Service
ATTACH;FMTTYPE=image/jpeg:https://bj.org/wp-content/uploads/2019/10/1905-0272.jpg
ORGANIZER;CN="B'nai Jeshurun":MAILTO:info@bj.org
END:VEVENT
BEGIN:VEVENT
DTSTART;TZID=America/New_York:20260208T183000
DTEND;TZID=America/New_York:20260208T190000
DTSTAMP:20260421T234453
CREATED:20250916T192848Z
LAST-MODIFIED:20260219T191516Z
UID:10019046-1770575400-1770577200@bj.org
SUMMARY:Arvit (Online)
DESCRIPTION:
URL:https://bj.org/event/arvit-online-2-copy/2026-02-08/
LOCATION:Remote Access Only\, NY\, United States
CATEGORIES:Services,Featured in Next Service
ATTACH;FMTTYPE=image/jpeg:https://bj.org/wp-content/uploads/2024/03/1905-0258-2048x1536-1.jpg
ORGANIZER;CN="B'nai Jeshurun":MAILTO:info@bj.org
END:VEVENT
END:VCALENDAR