BEGIN:VCALENDAR
VERSION:2.0
PRODID:-//B&#039;nai Jeshurun - ECPv6.15.20//NONSGML v1.0//EN
CALSCALE:GREGORIAN
METHOD:PUBLISH
X-ORIGINAL-URL:https://bj.org
X-WR-CALDESC:Events for B&#039;nai Jeshurun
REFRESH-INTERVAL;VALUE=DURATION:PT1H
X-Robots-Tag:noindex
X-PUBLISHED-TTL:PT1H
BEGIN:VTIMEZONE
TZID:America/New_York
BEGIN:DAYLIGHT
TZOFFSETFROM:-0500
TZOFFSETTO:-0400
TZNAME:EDT
DTSTART:20250309T070000
END:DAYLIGHT
BEGIN:STANDARD
TZOFFSETFROM:-0400
TZOFFSETTO:-0500
TZNAME:EST
DTSTART:20251102T060000
END:STANDARD
BEGIN:DAYLIGHT
TZOFFSETFROM:-0500
TZOFFSETTO:-0400
TZNAME:EDT
DTSTART:20260308T070000
END:DAYLIGHT
BEGIN:STANDARD
TZOFFSETFROM:-0400
TZOFFSETTO:-0500
TZNAME:EST
DTSTART:20261101T060000
END:STANDARD
BEGIN:DAYLIGHT
TZOFFSETFROM:-0500
TZOFFSETTO:-0400
TZNAME:EDT
DTSTART:20270314T070000
END:DAYLIGHT
BEGIN:STANDARD
TZOFFSETFROM:-0400
TZOFFSETTO:-0500
TZNAME:EST
DTSTART:20271107T060000
END:STANDARD
END:VTIMEZONE
BEGIN:VEVENT
DTSTART;TZID=America/New_York:20260221T110000
DTEND;TZID=America/New_York:20260221T121500
DTSTAMP:20260421T223008
CREATED:20250903T174558Z
LAST-MODIFIED:20250903T181001Z
UID:10017400-1771671600-1771676100@bj.org
SUMMARY:Elementary School Shabbat Morning Services
DESCRIPTION:
URL:https://bj.org/event/elementary-school-shabbat-morning-services/2026-02-21/
LOCATION:Reception Room\, 270 West 89th Street\, New York\, NY\, 10024\, United States
CATEGORIES:Services
ATTACH;FMTTYPE=image/jpeg:https://bj.org/wp-content/uploads/2019/10/1905-0194.jpg
ORGANIZER;CN="B'nai Jeshurun":MAILTO:info@bj.org
END:VEVENT
BEGIN:VEVENT
DTSTART;TZID=America/New_York:20260221T110000
DTEND;TZID=America/New_York:20260221T120000
DTSTAMP:20260421T223008
CREATED:20250522T203304Z
LAST-MODIFIED:20250728T170021Z
UID:10017119-1771671600-1771675200@bj.org
SUMMARY:Early Childhood Shabbat Service (Age 6 and Under)
DESCRIPTION:
URL:https://bj.org/event/early-childhood-shabbat-service-age-6-and-under-3/2026-02-21/
LOCATION:Rabbi Rachel Cowan Chapel\, 270 West 89th Street\, New York\, NY\, 10024\, United States
CATEGORIES:Services
ATTACH;FMTTYPE=image/jpeg:https://bj.org/wp-content/uploads/2021/04/IMG_9480-scaled.jpg
ORGANIZER;CN="B'nai Jeshurun":MAILTO:info@bj.org
END:VEVENT
BEGIN:VEVENT
DTSTART;TZID=America/New_York:20260221T093000
DTEND;TZID=America/New_York:20260221T120000
DTSTAMP:20260421T223008
CREATED:20230309T215703Z
LAST-MODIFIED:20251103T170810Z
UID:10018190-1771666200-1771675200@bj.org
SUMMARY:Shabbat Morning Services
DESCRIPTION:
URL:https://bj.org/event/shabbat-morning-services/2026-02-21/
LOCATION:Sanctuary\, 257 West 88th Street\, New York\, NY\, 10024\, United States
CATEGORIES:Services,Featured in Next Service
ATTACH;FMTTYPE=image/jpeg:https://bj.org/wp-content/uploads/2023/01/1905-0386.jpg
ORGANIZER;CN="B'nai Jeshurun":MAILTO:info@bj.org
END:VEVENT
BEGIN:VEVENT
DTSTART;TZID=America/New_York:20260221T091500
DTEND;TZID=America/New_York:20260221T103000
DTSTAMP:20260421T223008
CREATED:20241029T201129Z
LAST-MODIFIED:20251219T170025Z
UID:10018715-1771665300-1771669800@bj.org
SUMMARY:Mindfulness Shabbat Morning Service
DESCRIPTION:
URL:https://bj.org/event/mindfulness-shabbat-morning-service-3/2026-02-21/
LOCATION:Rabbi Rachel Cowan Chapel\, 270 West 89th Street\, New York\, NY\, 10024\, United States
CATEGORIES:Services,Featured in Next Service
ATTACH;FMTTYPE=image/jpeg:https://bj.org/wp-content/uploads/2024/10/1905-0452_blog-e1586309310341.jpg
ORGANIZER;CN="B'nai Jeshurun":MAILTO:info@bj.org
END:VEVENT
BEGIN:VEVENT
DTSTART;TZID=America/New_York:20260220T181500
DTEND;TZID=America/New_York:20260220T193000
DTSTAMP:20260421T223008
CREATED:20251031T191519Z
LAST-MODIFIED:20251031T191723Z
UID:10018141-1771611300-1771615800@bj.org
SUMMARY:Kabbalat Shabbat
DESCRIPTION:
URL:https://bj.org/event/kabbalat-shabbat-et/2026-02-20/
LOCATION:Sanctuary\, 257 West 88th Street\, New York\, NY\, 10024\, United States
CATEGORIES:Services,Featured in Next Service
ATTACH;FMTTYPE=image/png:https://bj.org/wp-content/uploads/2024/03/bj-dancing.png
ORGANIZER;CN="B'nai Jeshurun":MAILTO:info@bj.org
END:VEVENT
BEGIN:VEVENT
DTSTART;TZID=America/New_York:20260220T101500
DTEND;TZID=America/New_York:20260220T110000
DTSTAMP:20260421T223008
CREATED:20250724T194835Z
LAST-MODIFIED:20260421T150822Z
UID:10017084-1771582500-1771585200@bj.org
SUMMARY:Bim Bam
DESCRIPTION:
URL:https://bj.org/event/bim-bam-5/2026-02-20/
LOCATION:Sanctuary\, 257 West 88th Street\, New York\, NY\, 10024\, United States
CATEGORIES:Classes
ATTACH;FMTTYPE=image/png:https://bj.org/wp-content/uploads/2023/03/Bim-Bam-photo.png
ORGANIZER;CN="B'nai Jeshurun":MAILTO:info@bj.org
END:VEVENT
BEGIN:VEVENT
DTSTART;TZID=America/New_York:20260220T084500
DTEND;TZID=America/New_York:20260220T094500
DTSTAMP:20260421T223008
CREATED:20251010T143215Z
LAST-MODIFIED:20251010T154144Z
UID:10018055-1771577100-1771580700@bj.org
SUMMARY:Parashat Hashavua with Rabbinic Fellow Iliana Brodsky
DESCRIPTION:
URL:https://bj.org/event/parashat-hashavua-with-rabbinic-fellow-iliana-brodsky/2026-02-20/
LOCATION:Remote Access Only\, NY\, United States
CATEGORIES:Classes
ATTACH;FMTTYPE=image/jpeg:https://bj.org/wp-content/uploads/2023/01/1905-0383.jpg
ORGANIZER;CN="B'nai Jeshurun":MAILTO:info@bj.org
END:VEVENT
BEGIN:VEVENT
DTSTART;TZID=America/New_York:20260220T080000
DTEND;TZID=America/New_York:20260220T090000
DTSTAMP:20260421T223008
CREATED:20250911T161547Z
LAST-MODIFIED:20251219T192933Z
UID:10018789-1771574400-1771578000@bj.org
SUMMARY:Shaharit (Online)
DESCRIPTION:
URL:https://bj.org/event/shaharit-online-10-2/2026-02-20/
LOCATION:Remote Access Only\, NY\, United States
CATEGORIES:Services,Featured in Next Service
ATTACH;FMTTYPE=image/jpeg:https://bj.org/wp-content/uploads/2019/10/1905-0275.jpg
ORGANIZER;CN="B'nai Jeshurun":MAILTO:info@bj.org
END:VEVENT
BEGIN:VEVENT
DTSTART;TZID=America/New_York:20260219T190000
DTEND;TZID=America/New_York:20260219T203000
DTSTAMP:20260421T223008
CREATED:20251106T182253Z
LAST-MODIFIED:20260126T164401Z
UID:10018259-1771527600-1771533000@bj.org
SUMMARY:Jewish Book Group: Voices From Around the World
DESCRIPTION:
URL:https://bj.org/event/jewish-book-group-voices-from-around-the-world-2/
LOCATION:Remote Access Only\, NY\, United States
CATEGORIES:Events
ATTACH;FMTTYPE=image/png:https://bj.org/wp-content/uploads/2026/01/DALIA-SOFER-1.png
ORGANIZER;CN="B'nai Jeshurun":MAILTO:info@bj.org
END:VEVENT
BEGIN:VEVENT
DTSTART;TZID=America/New_York:20260219T183000
DTEND;TZID=America/New_York:20260219T190000
DTSTAMP:20260421T223008
CREATED:20250916T192848Z
LAST-MODIFIED:20260219T191516Z
UID:10019055-1771525800-1771527600@bj.org
SUMMARY:Arvit (Online)
DESCRIPTION:
URL:https://bj.org/event/arvit-online-2-copy/2026-02-19/
LOCATION:Remote Access Only\, NY\, United States
CATEGORIES:Services,Featured in Next Service
ATTACH;FMTTYPE=image/jpeg:https://bj.org/wp-content/uploads/2024/03/1905-0258-2048x1536-1.jpg
ORGANIZER;CN="B'nai Jeshurun":MAILTO:info@bj.org
END:VEVENT
BEGIN:VEVENT
DTSTART;TZID=America/New_York:20260219T154500
DTEND;TZID=America/New_York:20260219T164500
DTSTAMP:20260421T223008
CREATED:20221215T210758Z
LAST-MODIFIED:20260203T171538Z
UID:10014897-1771515900-1771519500@bj.org
SUMMARY:A Taste of Talmud: Daf Yomi with Rabbi Shuli Passow
DESCRIPTION:
URL:https://bj.org/event/a-taste-of-talmud-daf-yomi-with-rabbi-shuli-passow/2026-02-19/
LOCATION:Remote Access Only\, NY\, United States
CATEGORIES:Classes
ATTACH;FMTTYPE=image/png:https://bj.org/wp-content/uploads/2022/12/Daf-Yomi-Shuli-1.png
ORGANIZER;CN="B'nai Jeshurun":MAILTO:info@bj.org
END:VEVENT
BEGIN:VEVENT
DTSTART;TZID=America/New_York:20260219T080000
DTEND;TZID=America/New_York:20260219T090000
DTSTAMP:20260421T223008
CREATED:20250911T185254Z
LAST-MODIFIED:20251219T194251Z
UID:10018917-1771488000-1771491600@bj.org
SUMMARY:Shaharit (In Person and Online)
DESCRIPTION:
URL:https://bj.org/event/shaharit-in-person-and-online-6-2/2026-02-19/
LOCATION:Rabbi Rachel Cowan Chapel\, 270 West 89th Street\, New York\, NY\, 10024\, United States
CATEGORIES:Services,Featured in Next Service
ATTACH;FMTTYPE=image/jpeg:https://bj.org/wp-content/uploads/2019/10/1905-0272.jpg
ORGANIZER;CN="B'nai Jeshurun":MAILTO:info@bj.org
END:VEVENT
BEGIN:VEVENT
DTSTART;TZID=America/New_York:20260218T190000
DTEND;TZID=America/New_York:20260218T203000
DTSTAMP:20260421T223008
CREATED:20260115T150352Z
LAST-MODIFIED:20260115T150352Z
UID:10018770-1771441200-1771446600@bj.org
SUMMARY:Explore the Music of Shabbat Morning Services with Hazzan Ari Priven
DESCRIPTION:
URL:https://bj.org/event/explore-the-music-of-shabbat-morning-services-with-hazzan-ari-priven/
LOCATION:Rabbi Rachel Cowan Chapel\, 270 West 89th Street\, New York\, NY\, 10024\, United States
CATEGORIES:Events
ATTACH;FMTTYPE=image/jpeg:https://bj.org/wp-content/uploads/2022/04/1905-0281-1.jpg
ORGANIZER;CN="B'nai Jeshurun":MAILTO:info@bj.org
END:VEVENT
BEGIN:VEVENT
DTSTART;TZID=America/New_York:20260218T183000
DTEND;TZID=America/New_York:20260218T190000
DTSTAMP:20260421T223008
CREATED:20250916T192848Z
LAST-MODIFIED:20260219T191516Z
UID:10019054-1771439400-1771441200@bj.org
SUMMARY:Arvit (Online)
DESCRIPTION:
URL:https://bj.org/event/arvit-online-2-copy/2026-02-18/
LOCATION:Remote Access Only\, NY\, United States
CATEGORIES:Services,Featured in Next Service
ATTACH;FMTTYPE=image/jpeg:https://bj.org/wp-content/uploads/2024/03/1905-0258-2048x1536-1.jpg
ORGANIZER;CN="B'nai Jeshurun":MAILTO:info@bj.org
END:VEVENT
BEGIN:VEVENT
DTSTART;TZID=America/New_York:20260218T074500
DTEND;TZID=America/New_York:20260218T091500
DTSTAMP:20260421T223008
CREATED:20230926T181630Z
LAST-MODIFIED:20260330T154446Z
UID:10019003-1771400700-1771406100@bj.org
SUMMARY:Shaharit (Rosh Hodesh)
DESCRIPTION:
URL:https://bj.org/event/shaharit-rosh-hodesh-in-person-and-online-2/2026-02-18/
LOCATION:Rabbi Rachel Cowan Chapel\, 270 West 89th Street\, New York\, NY\, 10024\, United States
CATEGORIES:Services,Featured in Next Service
ATTACH;FMTTYPE=image/jpeg:https://bj.org/wp-content/uploads/2019/10/1905-0278.jpg
ORGANIZER;CN="B'nai Jeshurun":MAILTO:info@bj.org
END:VEVENT
BEGIN:VEVENT
DTSTART;TZID=America/New_York:20260217T190000
DTEND;TZID=America/New_York:20260217T210000
DTSTAMP:20260421T223009
CREATED:20250624T170554Z
LAST-MODIFIED:20260105T195343Z
UID:10016880-1771354800-1771362000@bj.org
SUMMARY:Introduction to Judaism
DESCRIPTION:
URL:https://bj.org/event/intro-to-judaism-4/2026-02-17/
LOCATION:Rabbi Rachel Cowan Chapel\, 270 West 89th Street\, New York\, NY\, 10024\, United States
CATEGORIES:Classes
ATTACH;FMTTYPE=image/jpeg:https://bj.org/wp-content/uploads/2024/10/whi5A0o8.jpg
ORGANIZER;CN="B'nai Jeshurun":MAILTO:info@bj.org
END:VEVENT
BEGIN:VEVENT
DTSTART;TZID=America/New_York:20260217T183000
DTEND;TZID=America/New_York:20260217T190000
DTSTAMP:20260421T223009
CREATED:20250916T192848Z
LAST-MODIFIED:20260219T191516Z
UID:10019053-1771353000-1771354800@bj.org
SUMMARY:Arvit (Online)
DESCRIPTION:
URL:https://bj.org/event/arvit-online-2-copy/2026-02-17/
LOCATION:Remote Access Only\, NY\, United States
CATEGORIES:Services,Featured in Next Service
ATTACH;FMTTYPE=image/jpeg:https://bj.org/wp-content/uploads/2024/03/1905-0258-2048x1536-1.jpg
ORGANIZER;CN="B'nai Jeshurun":MAILTO:info@bj.org
END:VEVENT
BEGIN:VEVENT
DTSTART;TZID=America/New_York:20260217T173000
DTEND;TZID=America/New_York:20260217T181500
DTSTAMP:20260421T223009
CREATED:20230302T235540Z
LAST-MODIFIED:20260313T190025Z
UID:10014243-1771349400-1771352100@bj.org
SUMMARY:Mindfulness Prayer Practice Group
DESCRIPTION:
URL:https://bj.org/event/mindful-prayer-havurah/2026-02-17/
LOCATION:Remote Access Only\, NY\, United States
CATEGORIES:Classes
ATTACH;FMTTYPE=image/jpeg:https://bj.org/wp-content/uploads/2023/01/1905-0272-2048x1152-1.jpeg
ORGANIZER;CN="B'nai Jeshurun":MAILTO:info@bj.org
END:VEVENT
BEGIN:VEVENT
DTSTART;TZID=America/New_York:20260217T123000
DTEND;TZID=America/New_York:20260217T133000
DTSTAMP:20260421T223009
CREATED:20251010T192229Z
LAST-MODIFIED:20260204T151854Z
UID:10019074-1771331400-1771335000@bj.org
SUMMARY:Soul Food: Torah That Nourishes\, with Rabbi Felicia Sol
DESCRIPTION:
URL:https://bj.org/event/soul-food-torah-that-nourishes-with-rabbi-felicia-sol/2026-02-17/
LOCATION:Remote Access Only\, NY\, United States
CATEGORIES:Classes
ATTACH;FMTTYPE=image/jpeg:https://bj.org/wp-content/uploads/2019/10/1905-0118.jpg
ORGANIZER;CN="B'nai Jeshurun":MAILTO:info@bj.org
END:VEVENT
BEGIN:VEVENT
DTSTART;TZID=America/New_York:20260217T074500
DTEND;TZID=America/New_York:20260217T091500
DTSTAMP:20260421T223009
CREATED:20230926T181630Z
LAST-MODIFIED:20260330T154446Z
UID:10019002-1771314300-1771319700@bj.org
SUMMARY:Shaharit (Rosh Hodesh)
DESCRIPTION:
URL:https://bj.org/event/shaharit-rosh-hodesh-in-person-and-online-2/2026-02-17/
LOCATION:Rabbi Rachel Cowan Chapel\, 270 West 89th Street\, New York\, NY\, 10024\, United States
CATEGORIES:Services,Featured in Next Service
ATTACH;FMTTYPE=image/jpeg:https://bj.org/wp-content/uploads/2019/10/1905-0278.jpg
ORGANIZER;CN="B'nai Jeshurun":MAILTO:info@bj.org
END:VEVENT
BEGIN:VEVENT
DTSTART;TZID=America/New_York:20260216T193000
DTEND;TZID=America/New_York:20260216T203000
DTSTAMP:20260421T223009
CREATED:20210311T194417Z
LAST-MODIFIED:20260330T193129Z
UID:10007541-1771270200-1771273800@bj.org
SUMMARY:Connections Cocktail Hour
DESCRIPTION:
URL:https://bj.org/event/connections-cocktail-hour-2/2026-02-16/
LOCATION:Remote Access Only\, NY\, United States
CATEGORIES:Events
ATTACH;FMTTYPE=image/jpeg:https://bj.org/wp-content/uploads/2022/04/best-italian-cocktails.jpg
ORGANIZER;CN="B'nai Jeshurun":MAILTO:info@bj.org
END:VEVENT
BEGIN:VEVENT
DTSTART;TZID=America/New_York:20260216T183000
DTEND;TZID=America/New_York:20260216T190000
DTSTAMP:20260421T223009
CREATED:20250916T192848Z
LAST-MODIFIED:20260219T191516Z
UID:10019052-1771266600-1771268400@bj.org
SUMMARY:Arvit (Online)
DESCRIPTION:
URL:https://bj.org/event/arvit-online-2-copy/2026-02-16/
LOCATION:Remote Access Only\, NY\, United States
CATEGORIES:Services,Featured in Next Service
ATTACH;FMTTYPE=image/jpeg:https://bj.org/wp-content/uploads/2024/03/1905-0258-2048x1536-1.jpg
ORGANIZER;CN="B'nai Jeshurun":MAILTO:info@bj.org
END:VEVENT
BEGIN:VEVENT
DTSTART;TZID=America/New_York:20260216T093000
DTEND;TZID=America/New_York:20260216T103000
DTSTAMP:20260421T223009
CREATED:20230926T182314Z
LAST-MODIFIED:20251219T195928Z
UID:10019015-1771234200-1771237800@bj.org
SUMMARY:Shaharit (National Holiday—In Person and Online)
DESCRIPTION:
URL:https://bj.org/event/shaharit-national-holiday-in-person-online/2026-02-16/
LOCATION:Rabbi Rachel Cowan Chapel\, 270 West 89th Street\, New York\, NY\, 10024\, United States
CATEGORIES:Services,Featured in Next Service
ATTACH;FMTTYPE=image/jpeg:https://bj.org/wp-content/uploads/2022/04/1905-0281-1.jpg
ORGANIZER;CN="B'nai Jeshurun":MAILTO:info@bj.org
END:VEVENT
BEGIN:VEVENT
DTSTART;TZID=America/New_York:20260215T183000
DTEND;TZID=America/New_York:20260215T190000
DTSTAMP:20260421T223009
CREATED:20250916T192848Z
LAST-MODIFIED:20260219T191516Z
UID:10019051-1771180200-1771182000@bj.org
SUMMARY:Arvit (Online)
DESCRIPTION:
URL:https://bj.org/event/arvit-online-2-copy/2026-02-15/
LOCATION:Remote Access Only\, NY\, United States
CATEGORIES:Services,Featured in Next Service
ATTACH;FMTTYPE=image/jpeg:https://bj.org/wp-content/uploads/2024/03/1905-0258-2048x1536-1.jpg
ORGANIZER;CN="B'nai Jeshurun":MAILTO:info@bj.org
END:VEVENT
BEGIN:VEVENT
DTSTART;TZID=America/New_York:20260215T093000
DTEND;TZID=America/New_York:20260215T103000
DTSTAMP:20260421T223009
CREATED:20230926T191607Z
LAST-MODIFIED:20260226T185930Z
UID:10018724-1771147800-1771151400@bj.org
SUMMARY:Shaharit (Online)
DESCRIPTION:
URL:https://bj.org/event/shaharit-sunday/2026-02-15/
LOCATION:Remote Access Only\, NY\, United States
CATEGORIES:Services,Featured in Next Service
ATTACH;FMTTYPE=image/jpeg:https://bj.org/wp-content/uploads/2019/10/1905-0280.jpg
ORGANIZER;CN="B'nai Jeshurun":MAILTO:info@bj.org
END:VEVENT
BEGIN:VEVENT
DTSTART;TZID=America/New_York:20260214T182000
DTEND;TZID=America/New_York:20260214T184500
DTSTAMP:20260421T223009
CREATED:20250916T171126Z
LAST-MODIFIED:20260302T172828Z
UID:10018247-1771093200-1771094700@bj.org
SUMMARY:Arvit and Havdalah
DESCRIPTION:
URL:https://bj.org/event/arvit-and-havdalah-10/2026-02-14/
LOCATION:Remote Access Only\, NY\, United States
CATEGORIES:Services,Featured in Next Service
ATTACH;FMTTYPE=image/jpeg:https://bj.org/wp-content/uploads/2020/03/havdallah-shutterstock_1385831468.jpg
ORGANIZER;CN="B'nai Jeshurun":MAILTO:info@bj.org
END:VEVENT
BEGIN:VEVENT
DTSTART;TZID=America/New_York:20260214T124500
DTEND;TZID=America/New_York:20260214T140000
DTSTAMP:20260421T223009
CREATED:20251219T172734Z
LAST-MODIFIED:20260209T205347Z
UID:10018717-1771073100-1771077600@bj.org
SUMMARY:The Magnificent Resilience of Israeli Nature
DESCRIPTION:
URL:https://bj.org/event/the-magnificent-resilience-of-israeli-nature/
LOCATION:Rabbi Rachel Cowan Chapel\, 270 West 89th Street\, New York\, NY\, 10024\, United States
CATEGORIES:Events,Featured on Home Page,Holidays
ATTACH;FMTTYPE=image/jpeg:https://bj.org/wp-content/uploads/2025/12/spni.jpeg
ORGANIZER;CN="B'nai Jeshurun":MAILTO:info@bj.org
END:VEVENT
BEGIN:VEVENT
DTSTART;TZID=America/New_York:20260214T110000
DTEND;TZID=America/New_York:20260214T120000
DTSTAMP:20260421T223009
CREATED:20250522T203304Z
LAST-MODIFIED:20250728T170021Z
UID:10017118-1771066800-1771070400@bj.org
SUMMARY:Early Childhood Shabbat Service (Age 6 and Under)
DESCRIPTION:
URL:https://bj.org/event/early-childhood-shabbat-service-age-6-and-under-3/2026-02-14/
LOCATION:Rabbi Rachel Cowan Chapel\, 270 West 89th Street\, New York\, NY\, 10024\, United States
CATEGORIES:Services
ATTACH;FMTTYPE=image/jpeg:https://bj.org/wp-content/uploads/2021/04/IMG_9480-scaled.jpg
ORGANIZER;CN="B'nai Jeshurun":MAILTO:info@bj.org
END:VEVENT
BEGIN:VEVENT
DTSTART;TZID=America/New_York:20260214T093000
DTEND;TZID=America/New_York:20260214T120000
DTSTAMP:20260421T223009
CREATED:20230309T215703Z
LAST-MODIFIED:20251103T170810Z
UID:10018189-1771061400-1771070400@bj.org
SUMMARY:Shabbat Morning Services
DESCRIPTION:
URL:https://bj.org/event/shabbat-morning-services/2026-02-14/
LOCATION:Sanctuary\, 257 West 88th Street\, New York\, NY\, 10024\, United States
CATEGORIES:Services,Featured in Next Service
ATTACH;FMTTYPE=image/jpeg:https://bj.org/wp-content/uploads/2023/01/1905-0386.jpg
ORGANIZER;CN="B'nai Jeshurun":MAILTO:info@bj.org
END:VEVENT
BEGIN:VEVENT
DTSTART;TZID=America/New_York:20260213T181500
DTEND;TZID=America/New_York:20260213T193000
DTSTAMP:20260421T223009
CREATED:20251031T191519Z
LAST-MODIFIED:20251031T191723Z
UID:10018140-1771006500-1771011000@bj.org
SUMMARY:Kabbalat Shabbat
DESCRIPTION:
URL:https://bj.org/event/kabbalat-shabbat-et/2026-02-13/
LOCATION:Sanctuary\, 257 West 88th Street\, New York\, NY\, 10024\, United States
CATEGORIES:Services,Featured in Next Service
ATTACH;FMTTYPE=image/png:https://bj.org/wp-content/uploads/2024/03/bj-dancing.png
ORGANIZER;CN="B'nai Jeshurun":MAILTO:info@bj.org
END:VEVENT
END:VCALENDAR