BEGIN:VCALENDAR
VERSION:2.0
PRODID:-//B&#039;nai Jeshurun - ECPv6.15.20//NONSGML v1.0//EN
CALSCALE:GREGORIAN
METHOD:PUBLISH
X-WR-CALNAME:B&#039;nai Jeshurun
X-ORIGINAL-URL:https://bj.org
X-WR-CALDESC:Events for B&#039;nai Jeshurun
REFRESH-INTERVAL;VALUE=DURATION:PT1H
X-Robots-Tag:noindex
X-PUBLISHED-TTL:PT1H
BEGIN:VTIMEZONE
TZID:America/New_York
BEGIN:DAYLIGHT
TZOFFSETFROM:-0500
TZOFFSETTO:-0400
TZNAME:EDT
DTSTART:20250309T070000
END:DAYLIGHT
BEGIN:STANDARD
TZOFFSETFROM:-0400
TZOFFSETTO:-0500
TZNAME:EST
DTSTART:20251102T060000
END:STANDARD
BEGIN:DAYLIGHT
TZOFFSETFROM:-0500
TZOFFSETTO:-0400
TZNAME:EDT
DTSTART:20260308T070000
END:DAYLIGHT
BEGIN:STANDARD
TZOFFSETFROM:-0400
TZOFFSETTO:-0500
TZNAME:EST
DTSTART:20261101T060000
END:STANDARD
BEGIN:DAYLIGHT
TZOFFSETFROM:-0500
TZOFFSETTO:-0400
TZNAME:EDT
DTSTART:20270314T070000
END:DAYLIGHT
BEGIN:STANDARD
TZOFFSETFROM:-0400
TZOFFSETTO:-0500
TZNAME:EST
DTSTART:20271107T060000
END:STANDARD
END:VTIMEZONE
BEGIN:VEVENT
DTSTART;TZID=America/New_York:20260420T183000
DTEND;TZID=America/New_York:20260420T200000
DTSTAMP:20260421T073418
CREATED:20250806T192158Z
LAST-MODIFIED:20250806T192159Z
UID:10017149-1776709800-1776715200@bj.org
SUMMARY:Interfaith Social Justice Book Club: Framed
DESCRIPTION:
URL:https://bj.org/event/interfaith-social-justice-book-club-5/
LOCATION:Reception Room\, 270 West 89th Street\, New York\, NY\, 10024\, United States
CATEGORIES:Events
ATTACH;FMTTYPE=image/png:https://bj.org/wp-content/uploads/2025/08/Framed-by-John-Grisham.png
ORGANIZER;CN="B'nai Jeshurun":MAILTO:info@bj.org
END:VEVENT
BEGIN:VEVENT
DTSTART;TZID=America/New_York:20260420T183000
DTEND;TZID=America/New_York:20260420T190000
DTSTAMP:20260421T073418
CREATED:20260407T181107Z
LAST-MODIFIED:20260414T184013Z
UID:10019931-1776709800-1776711600@bj.org
SUMMARY:Minha (Online)
DESCRIPTION:
URL:https://bj.org/event/minha-online-4-6/2026-04-20/
LOCATION:Remote Access Only\, NY\, United States
CATEGORIES:Services,Featured in Next Service
ATTACH;FMTTYPE=image/jpeg:https://bj.org/wp-content/uploads/2024/03/1905-0258-2048x1536-1.jpg
ORGANIZER;CN="B'nai Jeshurun":MAILTO:info@bj.org
END:VEVENT
BEGIN:VEVENT
DTSTART;TZID=America/New_York:20260420T174500
DTEND;TZID=America/New_York:20260420T194500
DTSTAMP:20260421T073418
CREATED:20260330T193832Z
LAST-MODIFIED:20260410T150007Z
UID:10019917-1776707100-1776714300@bj.org
SUMMARY:We Are the Day After: 21st Israeli-Palestinian Joint Memorial Ceremony
DESCRIPTION:
URL:https://bj.org/event/21st-israeli-palestinian-joint-memorial-ceremony/
LOCATION:Sanctuary\, 257 West 88th Street\, New York\, NY\, 10024\, United States
CATEGORIES:Events,Featured on Home Page,Israel Solidarity
ATTACH;FMTTYPE=image/jpeg:https://bj.org/wp-content/uploads/2026/03/Banner-1280X720.jpg
ORGANIZER;CN="B'nai Jeshurun":MAILTO:info@bj.org
END:VEVENT
BEGIN:VEVENT
DTSTART;TZID=America/New_York:20260420T074500
DTEND;TZID=America/New_York:20260420T084500
DTSTAMP:20260421T073418
CREATED:20260219T144601Z
LAST-MODIFIED:20260226T185911Z
UID:10019132-1776671100-1776674700@bj.org
SUMMARY:Shaharit
DESCRIPTION:
URL:https://bj.org/event/shaharit-torah/2026-04-20/
LOCATION:Rabbi Rachel Cowan Chapel\, 270 West 89th Street\, New York\, NY\, 10024\, United States
CATEGORIES:Services,Featured in Next Service
ATTACH;FMTTYPE=image/jpeg:https://bj.org/wp-content/uploads/2019/10/1905-0272.jpg
ORGANIZER;CN="B'nai Jeshurun":MAILTO:info@bj.org
END:VEVENT
BEGIN:VEVENT
DTSTART;TZID=America/New_York:20260419T183000
DTEND;TZID=America/New_York:20260419T190000
DTSTAMP:20260421T073418
CREATED:20260407T181107Z
LAST-MODIFIED:20260414T184013Z
UID:10019930-1776623400-1776625200@bj.org
SUMMARY:Minha (Online)
DESCRIPTION:
URL:https://bj.org/event/minha-online-4-6/2026-04-19/
LOCATION:Remote Access Only\, NY\, United States
CATEGORIES:Services,Featured in Next Service
ATTACH;FMTTYPE=image/jpeg:https://bj.org/wp-content/uploads/2024/03/1905-0258-2048x1536-1.jpg
ORGANIZER;CN="B'nai Jeshurun":MAILTO:info@bj.org
END:VEVENT
BEGIN:VEVENT
DTSTART;TZID=America/New_York:20260419T093000
DTEND;TZID=America/New_York:20260419T103000
DTSTAMP:20260421T073418
CREATED:20260318T203105Z
LAST-MODIFIED:20260318T203105Z
UID:10019877-1776591000-1776594600@bj.org
SUMMARY:WSCAH Family Volunteering
DESCRIPTION:
URL:https://bj.org/event/wscah-family-volunteering/
LOCATION:St. Paul and St. Andrew (SPSA)\, 263 West 86th Street\, New York\, 10024\, United States
ATTACH;FMTTYPE=image/png:https://bj.org/wp-content/uploads/2026/03/WSCAH-family-days-image.png
ORGANIZER;CN="B'nai Jeshurun":MAILTO:info@bj.org
END:VEVENT
BEGIN:VEVENT
DTSTART;TZID=America/New_York:20260419T093000
DTEND;TZID=America/New_York:20260419T103000
DTSTAMP:20260421T073418
CREATED:20230926T191607Z
LAST-MODIFIED:20260226T185930Z
UID:10018733-1776591000-1776594600@bj.org
SUMMARY:Shaharit (Online)
DESCRIPTION:
URL:https://bj.org/event/shaharit-sunday/2026-04-19/
LOCATION:Remote Access Only\, NY\, United States
CATEGORIES:Services,Featured in Next Service
ATTACH;FMTTYPE=image/jpeg:https://bj.org/wp-content/uploads/2019/10/1905-0280.jpg
ORGANIZER;CN="B'nai Jeshurun":MAILTO:info@bj.org
END:VEVENT
BEGIN:VEVENT
DTSTART;TZID=America/New_York:20260418T202500
DTEND;TZID=America/New_York:20260418T205000
DTSTAMP:20260421T073418
CREATED:20250916T171126Z
LAST-MODIFIED:20260302T172828Z
UID:10019724-1776543900-1776545400@bj.org
SUMMARY:Arvit and Havdalah
DESCRIPTION:
URL:https://bj.org/event/arvit-and-havdalah-10/2026-04-18/
LOCATION:Remote Access Only\, NY\, United States
CATEGORIES:Services,Featured in Next Service
ATTACH;FMTTYPE=image/jpeg:https://bj.org/wp-content/uploads/2020/03/havdallah-shutterstock_1385831468.jpg
ORGANIZER;CN="B'nai Jeshurun":MAILTO:info@bj.org
END:VEVENT
BEGIN:VEVENT
DTSTART;TZID=America/New_York:20260418T110000
DTEND;TZID=America/New_York:20260418T121500
DTSTAMP:20260421T073418
CREATED:20250903T174558Z
LAST-MODIFIED:20250903T181001Z
UID:10017405-1776510000-1776514500@bj.org
SUMMARY:Elementary School Shabbat Morning Services
DESCRIPTION:
URL:https://bj.org/event/elementary-school-shabbat-morning-services/2026-04-18/
LOCATION:Reception Room\, 270 West 89th Street\, New York\, NY\, 10024\, United States
CATEGORIES:Services
ATTACH;FMTTYPE=image/jpeg:https://bj.org/wp-content/uploads/2019/10/1905-0194.jpg
ORGANIZER;CN="B'nai Jeshurun":MAILTO:info@bj.org
END:VEVENT
BEGIN:VEVENT
DTSTART;TZID=America/New_York:20260418T110000
DTEND;TZID=America/New_York:20260418T120000
DTSTAMP:20260421T073418
CREATED:20250522T203304Z
LAST-MODIFIED:20250728T170021Z
UID:10017127-1776510000-1776513600@bj.org
SUMMARY:Early Childhood Shabbat Service (Age 6 and Under)
DESCRIPTION:
URL:https://bj.org/event/early-childhood-shabbat-service-age-6-and-under-3/2026-04-18/
LOCATION:Rabbi Rachel Cowan Chapel\, 270 West 89th Street\, New York\, NY\, 10024\, United States
CATEGORIES:Services
ATTACH;FMTTYPE=image/jpeg:https://bj.org/wp-content/uploads/2021/04/IMG_9480-scaled.jpg
ORGANIZER;CN="B'nai Jeshurun":MAILTO:info@bj.org
END:VEVENT
BEGIN:VEVENT
DTSTART;TZID=America/New_York:20260418T093000
DTEND;TZID=America/New_York:20260418T120000
DTSTAMP:20260421T073418
CREATED:20260407T154610Z
LAST-MODIFIED:20260407T154822Z
UID:10018198-1776504600-1776513600@bj.org
SUMMARY:Shabbat Morning Services
DESCRIPTION:
URL:https://bj.org/event/shabbat-morning-services-18/
LOCATION:Sanctuary\, 257 West 88th Street\, New York\, NY\, 10024\, United States
CATEGORIES:Services,Featured in Next Service
ATTACH;FMTTYPE=image/jpeg:https://bj.org/wp-content/uploads/2023/01/1905-0386.jpg
ORGANIZER;CN="B'nai Jeshurun":MAILTO:info@bj.org
END:VEVENT
BEGIN:VEVENT
DTSTART;TZID=America/New_York:20260418T084500
DTEND;TZID=America/New_York:20260418T092500
DTSTAMP:20260421T073418
CREATED:20230822T153928Z
LAST-MODIFIED:20260313T190320Z
UID:10019859-1776501900-1776504300@bj.org
SUMMARY:Hakhanah LaTefillah
DESCRIPTION:
URL:https://bj.org/event/hakhanah-latefillah-4/2026-04-18/
LOCATION:Rabbi Rachel Cowan Chapel\, 270 West 89th Street\, New York\, NY\, 10024\, United States
CATEGORIES:Events,Services
ATTACH;FMTTYPE=image/jpeg:https://bj.org/wp-content/uploads/2020/11/1905-0258-scaled.jpg
ORGANIZER;CN="B'nai Jeshurun":MAILTO:info@bj.org
END:VEVENT
BEGIN:VEVENT
DTSTART;TZID=America/New_York:20260417T183000
DTEND;TZID=America/New_York:20260417T220000
DTSTAMP:20260421T073418
CREATED:20260115T192848Z
LAST-MODIFIED:20260115T192848Z
UID:10019071-1776450600-1776463200@bj.org
SUMMARY:Aviv Shabbat
DESCRIPTION:
URL:https://bj.org/event/aviv-shabbat-16/
LOCATION:Community House\, 270 West 89th Street\, New York\, NY\, 10024\, United States
CATEGORIES:Events
ATTACH;FMTTYPE=image/jpeg:https://bj.org/wp-content/uploads/2024/08/dinnerpic.jpg
ORGANIZER;CN="B'nai Jeshurun":MAILTO:info@bj.org
END:VEVENT
BEGIN:VEVENT
DTSTART;TZID=America/New_York:20260417T183000
DTEND;TZID=America/New_York:20260417T194500
DTSTAMP:20260421T073418
CREATED:20251031T191749Z
LAST-MODIFIED:20251031T195122Z
UID:10018150-1776450600-1776455100@bj.org
SUMMARY:Kabbalat Shabbat
DESCRIPTION:
URL:https://bj.org/event/kabbalat-shabbat-edst/2026-04-17/
LOCATION:Sanctuary\, 257 West 88th Street\, New York\, NY\, 10024\, United States
CATEGORIES:Services,Featured in Next Service
ATTACH;FMTTYPE=image/png:https://bj.org/wp-content/uploads/2024/03/bj-dancing.png
ORGANIZER;CN="B'nai Jeshurun":MAILTO:info@bj.org
END:VEVENT
BEGIN:VEVENT
DTSTART;TZID=America/New_York:20260417T101500
DTEND;TZID=America/New_York:20260417T110000
DTSTAMP:20260421T073418
CREATED:20250724T194835Z
LAST-MODIFIED:20250917T150830Z
UID:10017090-1776420900-1776423600@bj.org
SUMMARY:Bim Bam
DESCRIPTION:
URL:https://bj.org/event/bim-bam-5/2026-04-17/
LOCATION:Sanctuary\, 257 West 88th Street\, New York\, NY\, 10024\, United States
CATEGORIES:Classes
ATTACH;FMTTYPE=image/png:https://bj.org/wp-content/uploads/2023/03/Bim-Bam-photo.png
ORGANIZER;CN="B'nai Jeshurun":MAILTO:info@bj.org
END:VEVENT
BEGIN:VEVENT
DTSTART;TZID=America/New_York:20260417T083000
DTEND;TZID=America/New_York:20260417T093000
DTSTAMP:20260421T073418
CREATED:20260305T195311Z
LAST-MODIFIED:20260305T195311Z
UID:10019741-1776414600-1776418200@bj.org
SUMMARY:Parashat Hashavua with Rabbinic Fellow Iliana Brodsky
DESCRIPTION:
URL:https://bj.org/event/parashat-hashavua-with-rabbinic-fellow-iliana-brodsky-4/2026-04-17/
LOCATION:Remote Access Only\, NY\, United States
CATEGORIES:Classes
ATTACH;FMTTYPE=image/jpeg:https://bj.org/wp-content/uploads/2023/01/1905-0383.jpg
ORGANIZER;CN="B'nai Jeshurun":MAILTO:info@bj.org
END:VEVENT
BEGIN:VEVENT
DTSTART;TZID=America/New_York:20260417T074500
DTEND;TZID=America/New_York:20260417T091500
DTSTAMP:20260421T073418
CREATED:20260330T154955Z
LAST-MODIFIED:20260330T155029Z
UID:10019005-1776411900-1776417300@bj.org
SUMMARY:Shaharit (Rosh Hodesh)
DESCRIPTION:
URL:https://bj.org/event/shaharit-rosh-hodesh/2026-04-17/
LOCATION:Rabbi Rachel Cowan Chapel\, 270 West 89th Street\, New York\, NY\, 10024\, United States
CATEGORIES:Services,Featured in Next Service
ATTACH;FMTTYPE=image/jpeg:https://bj.org/wp-content/uploads/2019/10/1905-0278.jpg
ORGANIZER;CN="B'nai Jeshurun":MAILTO:info@bj.org
END:VEVENT
BEGIN:VEVENT
DTSTART;TZID=America/New_York:20260416T183000
DTEND;TZID=America/New_York:20260416T190000
DTSTAMP:20260421T073418
CREATED:20260407T181107Z
LAST-MODIFIED:20260414T184013Z
UID:10019929-1776364200-1776366000@bj.org
SUMMARY:Minha (Online)
DESCRIPTION:
URL:https://bj.org/event/minha-online-4-6/2026-04-16/
LOCATION:Remote Access Only\, NY\, United States
CATEGORIES:Services,Featured in Next Service
ATTACH;FMTTYPE=image/jpeg:https://bj.org/wp-content/uploads/2024/03/1905-0258-2048x1536-1.jpg
ORGANIZER;CN="B'nai Jeshurun":MAILTO:info@bj.org
END:VEVENT
BEGIN:VEVENT
DTSTART;TZID=America/New_York:20260416T123000
DTEND;TZID=America/New_York:20260416T133000
DTSTAMP:20260421T073418
CREATED:20251006T145910Z
LAST-MODIFIED:20251211T204907Z
UID:10018298-1776342600-1776346200@bj.org
SUMMARY:In the Mirror: Lunch and Learn with Rabbi Roly Matalon
DESCRIPTION:
URL:https://bj.org/event/in-the-mirror-lunch-and-learn-with-rabbi-roly-matalon/2026-04-16/
LOCATION:Remote Access Only\, NY\, United States
CATEGORIES:Classes
ATTACH;FMTTYPE=image/jpeg:https://bj.org/wp-content/uploads/2023/01/1905-0308.jpg
ORGANIZER;CN="B'nai Jeshurun":MAILTO:info@bj.org
END:VEVENT
BEGIN:VEVENT
DTSTART;TZID=America/New_York:20260416T074500
DTEND;TZID=America/New_York:20260416T084500
DTSTAMP:20260421T073418
CREATED:20260219T144601Z
LAST-MODIFIED:20260226T185911Z
UID:10019131-1776325500-1776329100@bj.org
SUMMARY:Shaharit
DESCRIPTION:
URL:https://bj.org/event/shaharit-torah/2026-04-16/
LOCATION:Rabbi Rachel Cowan Chapel\, 270 West 89th Street\, New York\, NY\, 10024\, United States
CATEGORIES:Services,Featured in Next Service
ATTACH;FMTTYPE=image/jpeg:https://bj.org/wp-content/uploads/2019/10/1905-0272.jpg
ORGANIZER;CN="B'nai Jeshurun":MAILTO:info@bj.org
END:VEVENT
BEGIN:VEVENT
DTSTART;TZID=America/New_York:20260415T190000
DTEND;TZID=America/New_York:20260415T203000
DTSTAMP:20260421T073418
CREATED:20260318T195252Z
LAST-MODIFIED:20260318T195252Z
UID:10019874-1776279600-1776285000@bj.org
SUMMARY:Ma Ahavti Toratekha: Torah in Rabbi Roly Matalon’s Honor with Rabbis Joy Levitt and Michael Strassfeld
DESCRIPTION:
URL:https://bj.org/event/ma-ahavti-toratekha-torah-joy-levitt-michael-strassfeld/
LOCATION:Rabbi Rachel Cowan Chapel\, 270 West 89th Street\, New York\, NY\, 10024\, United States
CATEGORIES:Honoring Rabbi Roly Matalon,Classes,Featured on Home Page
ATTACH;FMTTYPE=image/png:https://bj.org/wp-content/uploads/2026/03/Ma-Ahavti-Toratekha-Levitt-Strassfeld-April-15.png
ORGANIZER;CN="B'nai Jeshurun":MAILTO:info@bj.org
END:VEVENT
BEGIN:VEVENT
DTSTART;TZID=America/New_York:20260415T183000
DTEND;TZID=America/New_York:20260415T190000
DTSTAMP:20260421T073418
CREATED:20260407T181107Z
LAST-MODIFIED:20260414T184013Z
UID:10019928-1776277800-1776279600@bj.org
SUMMARY:Minha (Online)
DESCRIPTION:
URL:https://bj.org/event/minha-online-4-6/2026-04-15/
LOCATION:Remote Access Only\, NY\, United States
CATEGORIES:Services,Featured in Next Service
ATTACH;FMTTYPE=image/jpeg:https://bj.org/wp-content/uploads/2024/03/1905-0258-2048x1536-1.jpg
ORGANIZER;CN="B'nai Jeshurun":MAILTO:info@bj.org
END:VEVENT
BEGIN:VEVENT
DTSTART;TZID=America/New_York:20260415T083000
DTEND;TZID=America/New_York:20260415T091500
DTSTAMP:20260421T073418
CREATED:20221215T212948Z
LAST-MODIFIED:20260415T133805Z
UID:10020383-1776241800-1776244500@bj.org
SUMMARY:Jewish Meditation with Rabbi Shuli Passow
DESCRIPTION:
URL:https://bj.org/event/jewish-meditation-with-rabbi-shuli-passow-3/2026-04-15/
LOCATION:Remote Access Only\, NY\, United States
CATEGORIES:Classes
ATTACH;FMTTYPE=image/jpeg:https://bj.org/wp-content/uploads/2022/12/Daily-Meditation-Shuli-Image.jpg
ORGANIZER;CN="B'nai Jeshurun":MAILTO:info@bj.org
END:VEVENT
BEGIN:VEVENT
DTSTART;TZID=America/New_York:20260415T074500
DTEND;TZID=America/New_York:20260415T083000
DTSTAMP:20260421T073418
CREATED:20260219T150803Z
LAST-MODIFIED:20260320T152324Z
UID:10019212-1776239100-1776241800@bj.org
SUMMARY:Shaharit
DESCRIPTION:
URL:https://bj.org/event/shaharit/2026-04-15/
LOCATION:Rabbi Rachel Cowan Chapel\, 270 West 89th Street\, New York\, NY\, 10024\, United States
CATEGORIES:Services,Featured in Next Service
ATTACH;FMTTYPE=image/jpeg:https://bj.org/wp-content/uploads/2019/10/1905-0275.jpg
ORGANIZER;CN="B'nai Jeshurun":MAILTO:info@bj.org
END:VEVENT
BEGIN:VEVENT
DTSTART;TZID=America/New_York:20260414T190000
DTEND;TZID=America/New_York:20260414T210000
DTSTAMP:20260421T073418
CREATED:20250624T170554Z
LAST-MODIFIED:20260105T195343Z
UID:10016888-1776193200-1776200400@bj.org
SUMMARY:Introduction to Judaism
DESCRIPTION:
URL:https://bj.org/event/intro-to-judaism-4/2026-04-14/
LOCATION:Rabbi Rachel Cowan Chapel\, 270 West 89th Street\, New York\, NY\, 10024\, United States
CATEGORIES:Classes
ATTACH;FMTTYPE=image/jpeg:https://bj.org/wp-content/uploads/2024/10/whi5A0o8.jpg
ORGANIZER;CN="B'nai Jeshurun":MAILTO:info@bj.org
END:VEVENT
BEGIN:VEVENT
DTSTART;TZID=America/New_York:20260414T183000
DTEND;TZID=America/New_York:20260414T190000
DTSTAMP:20260421T073418
CREATED:20260407T181107Z
LAST-MODIFIED:20260414T184013Z
UID:10019927-1776191400-1776193200@bj.org
SUMMARY:Minha (Online)
DESCRIPTION:
URL:https://bj.org/event/minha-online-4-6/2026-04-14/
LOCATION:Remote Access Only\, NY\, United States
CATEGORIES:Services,Featured in Next Service
ATTACH;FMTTYPE=image/jpeg:https://bj.org/wp-content/uploads/2024/03/1905-0258-2048x1536-1.jpg
ORGANIZER;CN="B'nai Jeshurun":MAILTO:info@bj.org
END:VEVENT
BEGIN:VEVENT
DTSTART;TZID=America/New_York:20260414T173000
DTEND;TZID=America/New_York:20260414T181500
DTSTAMP:20260421T073418
CREATED:20230302T235540Z
LAST-MODIFIED:20260313T190025Z
UID:10019768-1776187800-1776190500@bj.org
SUMMARY:Mindfulness Prayer Practice Group
DESCRIPTION:
URL:https://bj.org/event/mindful-prayer-havurah/2026-04-14/
LOCATION:Remote Access Only\, NY\, United States
CATEGORIES:Classes
ATTACH;FMTTYPE=image/jpeg:https://bj.org/wp-content/uploads/2023/01/1905-0272-2048x1152-1.jpeg
ORGANIZER;CN="B'nai Jeshurun":MAILTO:info@bj.org
END:VEVENT
BEGIN:VEVENT
DTSTART;TZID=America/New_York:20260414T161500
DTEND;TZID=America/New_York:20260414T170000
DTSTAMP:20260421T073418
CREATED:20250424T153154Z
LAST-MODIFIED:20250916T152500Z
UID:10017188-1776183300-1776186000@bj.org
SUMMARY:Shirah with Shira
DESCRIPTION:
URL:https://bj.org/event/shirah-with-shira-4/2026-04-14/
LOCATION:Rabbi Rachel Cowan Chapel\, 270 West 89th Street\, New York\, NY\, 10024\, United States
CATEGORIES:Classes
ATTACH;FMTTYPE=image/jpeg:https://bj.org/wp-content/uploads/2020/03/Shirah-Shira.jpg
ORGANIZER;CN="B'nai Jeshurun":MAILTO:info@bj.org
END:VEVENT
BEGIN:VEVENT
DTSTART;TZID=America/New_York:20260414T123000
DTEND;TZID=America/New_York:20260414T133000
DTSTAMP:20260421T073418
CREATED:20251010T192229Z
LAST-MODIFIED:20260204T151854Z
UID:10019079-1776169800-1776173400@bj.org
SUMMARY:Soul Food: Torah That Nourishes\, with Rabbi Felicia Sol
DESCRIPTION:
URL:https://bj.org/event/soul-food-torah-that-nourishes-with-rabbi-felicia-sol/2026-04-14/
LOCATION:Remote Access Only\, NY\, United States
CATEGORIES:Classes
ATTACH;FMTTYPE=image/jpeg:https://bj.org/wp-content/uploads/2019/10/1905-0118.jpg
ORGANIZER;CN="B'nai Jeshurun":MAILTO:info@bj.org
END:VEVENT
BEGIN:VEVENT
DTSTART;TZID=America/New_York:20260414T074500
DTEND;TZID=America/New_York:20260414T083000
DTSTAMP:20260421T073418
CREATED:20260219T150803Z
LAST-MODIFIED:20260320T152324Z
UID:10019211-1776152700-1776155400@bj.org
SUMMARY:Shaharit
DESCRIPTION:
URL:https://bj.org/event/shaharit/2026-04-14/
LOCATION:Rabbi Rachel Cowan Chapel\, 270 West 89th Street\, New York\, NY\, 10024\, United States
CATEGORIES:Services,Featured in Next Service
ATTACH;FMTTYPE=image/jpeg:https://bj.org/wp-content/uploads/2019/10/1905-0275.jpg
ORGANIZER;CN="B'nai Jeshurun":MAILTO:info@bj.org
END:VEVENT
END:VCALENDAR